BEGIN:VCALENDAR
VERSION:2.0
PRODID:-//Newton Cultural Alliance - ECPv6.13.2.1//NONSGML v1.0//EN
CALSCALE:GREGORIAN
METHOD:PUBLISH
X-WR-CALNAME:Newton Cultural Alliance
X-ORIGINAL-URL:https://newtonculture.org
X-WR-CALDESC:Events for Newton Cultural Alliance
REFRESH-INTERVAL;VALUE=DURATION:PT1H
X-Robots-Tag:noindex
X-PUBLISHED-TTL:PT1H
BEGIN:VTIMEZONE
TZID:America/New_York
BEGIN:DAYLIGHT
TZOFFSETFROM:-0500
TZOFFSETTO:-0400
TZNAME:EDT
DTSTART:20200308T070000
END:DAYLIGHT
BEGIN:STANDARD
TZOFFSETFROM:-0400
TZOFFSETTO:-0500
TZNAME:EST
DTSTART:20201101T060000
END:STANDARD
END:VTIMEZONE
BEGIN:VEVENT
DTSTART;TZID=America/New_York:20200706T083000
DTEND;TZID=America/New_York:20200814T173000
DTSTAMP:20260424T014328
CREATED:20200625T171232Z
LAST-MODIFIED:20200625T171232Z
UID:10018822-1594024200-1597426200@newtonculture.org
SUMMARY:Suzuki Preschool Summer Camp
DESCRIPTION:Monday through Friday beginning July 6th \nThe Suzuki Preschool will be opening its doors to welcome back our preschoolers! We have planned a fun\, exciting curriculum that involves plenty of outdoor play while adhering to the new safety guidelines. We will be limiting the number of children enrolled to 10 children per session. Children are welcome to join in both morning and afternoon sessions\, but children must re- turn home for lunch between sessions. \nLocation: 1615 Beacon Street\, Waban\, MA 02468 \nTime: Morning session 8:30am-12:30pm\, Afternoon session 1:30-5:30pm \nTuition: $285 per session
URL:https://newtonculture.org/event/suzuki-preschool-summer-camp/
LOCATION:Suzuki School of Newton\, 1615 Beacon St\, Waban\, MA\, 02468\, United States
CATEGORIES:Culture and Education
ATTACH;FMTTYPE=image/jpeg:https://newtonculture.org/wp-content/uploads/2020/06/71053132_502871473592430_601706071853105152_o-1-1.jpg
ORGANIZER;CN="Suzuki School of Newton":MAILTO:email@suzukinewton.org
END:VEVENT
BEGIN:VEVENT
DTSTART;VALUE=DATE:20200717
DTEND;VALUE=DATE:20200718
DTSTAMP:20260424T014328
CREATED:20200330T171900Z
LAST-MODIFIED:20200406T152214Z
UID:10016008-1594944000-1595030399@newtonculture.org
SUMMARY:An online series on the history & nature of Jewish choral music
DESCRIPTION:These audio and video podcasts\, presented by Zamir Chorale of Boston\, can serve as an introduction to the field of Jewish Choral Music. But caveat lector\, these are not comprehensive; they provide only an introduction to the field. Readers may follow up with the many texts and websites that are listed elsewhere in this website: https://www.jewishchoralmusic.com/podcasts
URL:https://newtonculture.org/event/an-online-series-on-the-history-and-nature-of-jewish-choral-music/2020-07-17/
LOCATION:ONLINE\, United Kingdom\, E16 2DQ
CATEGORIES:Culture and Education
ATTACH;FMTTYPE=image/jpeg:https://newtonculture.org/wp-content/uploads/2020/03/JewishChoralMusic-homepage-1024x568-1.jpg
ORGANIZER;CN="Zamir Chorale of Boston":MAILTO:manager@zamir.org
END:VEVENT
BEGIN:VEVENT
DTSTART;VALUE=DATE:20200717
DTEND;VALUE=DATE:20200718
DTSTAMP:20260424T014328
CREATED:20200513T173621Z
LAST-MODIFIED:20200923T170754Z
UID:10018343-1594944000-1595030399@newtonculture.org
SUMMARY:Newton Art Association: Shelter in Art
DESCRIPTION:Shelter in Art is a virtual exhibition of work created by Newton Art Association members during the COVID-19 crisis. Click here to view this incredible exhibit online through October 31. \n 
URL:https://newtonculture.org/event/newton-art-association-shelter-in-art/2020-07-17/
LOCATION:ONLINE\, United Kingdom\, E16 2DQ
CATEGORIES:Art,Family Friendly,Free Event
ATTACH;FMTTYPE=image/jpeg:https://newtonculture.org/wp-content/uploads/2020/05/shelter-in-home-exhibition-768x495-1.jpg
ORGANIZER;CN="Newton Art Association":MAILTO:info@newtonartassociation.com
END:VEVENT
BEGIN:VEVENT
DTSTART;VALUE=DATE:20200717
DTEND;VALUE=DATE:20200718
DTSTAMP:20260424T014328
CREATED:20200521T161129Z
LAST-MODIFIED:20200629T170723Z
UID:10018550-1594944000-1595030399@newtonculture.org
SUMMARY:Suzuki School: Online Summer Music Lessons for Children
DESCRIPTION:The Suzuki School of Newton offers individual lessons during the summer for both current SSN students and new students. New students should fill out our inquiry form to begin the enrollment process. We offer a la carte weekly online summer lessons\, with availability especially in piano\, cello\, violin\, flute\, and harp. Click here for more information! \n  \n 
URL:https://newtonculture.org/event/online-summer-music-lessons-for-children-age-6/2020-07-17/
LOCATION:ONLINE\, United Kingdom\, E16 2DQ
CATEGORIES:Culture and Education,Family Friendly,Music
ATTACH;FMTTYPE=image/png:https://newtonculture.org/wp-content/uploads/2020/05/online-suzuki-lessons-for-children.png
ORGANIZER;CN="Suzuki School of Newton":MAILTO:email@suzukinewton.org
END:VEVENT
BEGIN:VEVENT
DTSTART;TZID=America/New_York:20200717T090000
DTEND;TZID=America/New_York:20200717T120000
DTSTAMP:20260424T014328
CREATED:20200605T165751Z
LAST-MODIFIED:20200605T165751Z
UID:10018699-1594976400-1594987200@newtonculture.org
SUMMARY:Newton Theatre Kids: Summer Intensive Series
DESCRIPTION:This summer\, Newton Theatre Kids is excited to offer students entering grades 5-8 the opportunity to hone their theatrical abilities in a supportive and engaging virtual environment. There are 2 intensives. Each intensive lasts for one week and focuses on a different genre of theater\, allowing participants to develop meaningful new skills while increasing their confidence and versatility as performers. Using a blend of group work\, individual coaching\, and solo rehearsal\, these intensives maximize participant growth while minimizing Zoom fatigue. All experience levels welcome! \nEach intensive will be held from 9 AM to 12 PM\, Monday through Friday. This three-hour window will include group discussions and activities over Zoom\, individualized coaching over Zoom\, and solo rehearsal time. This mix of approaches allows for an increase in personalized\, individual coaching time and encourages participants to become mindful\, self-motivated artists. \nThe price of each intensive $275. Click here to learn more and register.
URL:https://newtonculture.org/event/newton-theatre-kids-summer-intensive-series/2020-07-17/
LOCATION:Zoom
CATEGORIES:Culture and Education,Family Friendly,Performing Arts
ATTACH;FMTTYPE=image/png:https://newtonculture.org/wp-content/uploads/2019/11/Logos-500px-1.png
ORGANIZER;CN="Newton Theatre Company":MAILTO:info@newtontheatrecompany.com
END:VEVENT
BEGIN:VEVENT
DTSTART;TZID=America/New_York:20200717T090000
DTEND;TZID=America/New_York:20200717T120000
DTSTAMP:20260424T014328
CREATED:20200608T210121Z
LAST-MODIFIED:20200608T210121Z
UID:10018714-1594976400-1594987200@newtonculture.org
SUMMARY:New Art Center Online: *Kids*
DESCRIPTION:Sign up for Week 4! Each week will be packed with possibilities\, imagination\, and fun as students explore 2 exciting activities each day: 2D Art (drawing\, painting\, collage) and Drama Fun (theater games\, short scenes\, movement\, improvisation). Each week focuses on a different theme. \nWEEK 4 THEME: CARTOON MANIA \nGrades 2-5 spend Summer Vacation immersed in the arts. New Art faculty conduct real-time classes through Zoom video meetings. Each week will be packed with possibilities\, imagination\, and fun as students explore 2 exciting activities each day: 2D Art & Drama Fun. \nView their website for a full list of classes and dates! \n*different classes for grades 2-3 and grades 4-5.
URL:https://newtonculture.org/event/new-art-center-online-kids/2020-07-17/
LOCATION:Zoom
CATEGORIES:Art,Culture and Education,Family Friendly
ATTACH;FMTTYPE=image/jpeg:https://newtonculture.org/wp-content/uploads/2020/06/CVS20753.jpg
ORGANIZER;CN="New Art Center":MAILTO:info@newartcenter.org
END:VEVENT
BEGIN:VEVENT
DTSTART;TZID=America/New_York:20200717T100000
DTEND;TZID=America/New_York:20200717T123000
DTSTAMP:20260424T014328
CREATED:20200611T175110Z
LAST-MODIFIED:20200611T175110Z
UID:10018764-1594980000-1594989000@newtonculture.org
SUMMARY:New Art Center Online: *Teens* 2D Media/Painting
DESCRIPTION:Join New Art Center Teen Summer Art Program 2020 for week 4! This program offers opportunities for teens to express their ideas\, develop skills\, learn art techniques and important critical thinking skills drawing portraits and clothed figures. Teens will learn the fundamentals of drawing in this energetic studio class taught on Zoom\, with group classes and individual assistance. Look at contemporary and past practices for inspiration. Experiment with drawing media to capture a likeness\, and use light and shadow to give the illusion of 3-dimensional form. See website for more information and a full list of classes. \n*separate classes for grades 6-7 and 8-12
URL:https://newtonculture.org/event/new-art-center-online-teens-2d-media-painting/2020-07-17/
LOCATION:Zoom
CATEGORIES:Art,Culture and Education,Family Friendly
ATTACH;FMTTYPE=image/jpeg:https://newtonculture.org/wp-content/uploads/2020/06/TVS20774.jpg
ORGANIZER;CN="New Art Center":MAILTO:info@newartcenter.org
END:VEVENT
END:VCALENDAR