BEGIN:VCALENDAR
VERSION:2.0
PRODID:-//Newton Cultural Alliance - ECPv6.13.2.1//NONSGML v1.0//EN
CALSCALE:GREGORIAN
METHOD:PUBLISH
X-ORIGINAL-URL:https://newtonculture.org
X-WR-CALDESC:Events for Newton Cultural Alliance
REFRESH-INTERVAL;VALUE=DURATION:PT1H
X-Robots-Tag:noindex
X-PUBLISHED-TTL:PT1H
BEGIN:VTIMEZONE
TZID:America/New_York
BEGIN:DAYLIGHT
TZOFFSETFROM:-0500
TZOFFSETTO:-0400
TZNAME:EDT
DTSTART:20200308T070000
END:DAYLIGHT
BEGIN:STANDARD
TZOFFSETFROM:-0400
TZOFFSETTO:-0500
TZNAME:EST
DTSTART:20201101T060000
END:STANDARD
END:VTIMEZONE
BEGIN:VEVENT
DTSTART;TZID=America/New_York:20200706T083000
DTEND;TZID=America/New_York:20200814T173000
DTSTAMP:20260423T131431
CREATED:20200625T171232Z
LAST-MODIFIED:20200625T171232Z
UID:10018822-1594024200-1597426200@newtonculture.org
SUMMARY:Suzuki Preschool Summer Camp
DESCRIPTION:Monday through Friday beginning July 6th \nThe Suzuki Preschool will be opening its doors to welcome back our preschoolers! We have planned a fun\, exciting curriculum that involves plenty of outdoor play while adhering to the new safety guidelines. We will be limiting the number of children enrolled to 10 children per session. Children are welcome to join in both morning and afternoon sessions\, but children must re- turn home for lunch between sessions. \nLocation: 1615 Beacon Street\, Waban\, MA 02468 \nTime: Morning session 8:30am-12:30pm\, Afternoon session 1:30-5:30pm \nTuition: $285 per session
URL:https://newtonculture.org/event/suzuki-preschool-summer-camp/
LOCATION:Suzuki School of Newton\, 1615 Beacon St\, Waban\, MA\, 02468\, United States
CATEGORIES:Culture and Education
ATTACH;FMTTYPE=image/jpeg:https://newtonculture.org/wp-content/uploads/2020/06/71053132_502871473592430_601706071853105152_o-1-1.jpg
ORGANIZER;CN="Suzuki School of Newton":MAILTO:email@suzukinewton.org
END:VEVENT
BEGIN:VEVENT
DTSTART;VALUE=DATE:20200726
DTEND;VALUE=DATE:20200727
DTSTAMP:20260423T131431
CREATED:20200330T171900Z
LAST-MODIFIED:20200406T152214Z
UID:10016017-1595721600-1595807999@newtonculture.org
SUMMARY:An online series on the history & nature of Jewish choral music
DESCRIPTION:These audio and video podcasts\, presented by Zamir Chorale of Boston\, can serve as an introduction to the field of Jewish Choral Music. But caveat lector\, these are not comprehensive; they provide only an introduction to the field. Readers may follow up with the many texts and websites that are listed elsewhere in this website: https://www.jewishchoralmusic.com/podcasts
URL:https://newtonculture.org/event/an-online-series-on-the-history-and-nature-of-jewish-choral-music/2020-07-26/
LOCATION:ONLINE\, United Kingdom\, E16 2DQ
CATEGORIES:Culture and Education
ATTACH;FMTTYPE=image/jpeg:https://newtonculture.org/wp-content/uploads/2020/03/JewishChoralMusic-homepage-1024x568-1.jpg
ORGANIZER;CN="Zamir Chorale of Boston":MAILTO:manager@zamir.org
END:VEVENT
BEGIN:VEVENT
DTSTART;VALUE=DATE:20200726
DTEND;VALUE=DATE:20200727
DTSTAMP:20260423T131431
CREATED:20200513T173621Z
LAST-MODIFIED:20200923T170754Z
UID:10018352-1595721600-1595807999@newtonculture.org
SUMMARY:Newton Art Association: Shelter in Art
DESCRIPTION:Shelter in Art is a virtual exhibition of work created by Newton Art Association members during the COVID-19 crisis. Click here to view this incredible exhibit online through October 31. \n 
URL:https://newtonculture.org/event/newton-art-association-shelter-in-art/2020-07-26/
LOCATION:ONLINE\, United Kingdom\, E16 2DQ
CATEGORIES:Art,Family Friendly,Free Event
ATTACH;FMTTYPE=image/jpeg:https://newtonculture.org/wp-content/uploads/2020/05/shelter-in-home-exhibition-768x495-1.jpg
ORGANIZER;CN="Newton Art Association":MAILTO:info@newtonartassociation.com
END:VEVENT
BEGIN:VEVENT
DTSTART;VALUE=DATE:20200726
DTEND;VALUE=DATE:20200727
DTSTAMP:20260423T131431
CREATED:20200521T161129Z
LAST-MODIFIED:20200629T170723Z
UID:10018559-1595721600-1595807999@newtonculture.org
SUMMARY:Suzuki School: Online Summer Music Lessons for Children
DESCRIPTION:The Suzuki School of Newton offers individual lessons during the summer for both current SSN students and new students. New students should fill out our inquiry form to begin the enrollment process. We offer a la carte weekly online summer lessons\, with availability especially in piano\, cello\, violin\, flute\, and harp. Click here for more information! \n  \n 
URL:https://newtonculture.org/event/online-summer-music-lessons-for-children-age-6/2020-07-26/
LOCATION:ONLINE\, United Kingdom\, E16 2DQ
CATEGORIES:Culture and Education,Family Friendly,Music
ATTACH;FMTTYPE=image/png:https://newtonculture.org/wp-content/uploads/2020/05/online-suzuki-lessons-for-children.png
ORGANIZER;CN="Suzuki School of Newton":MAILTO:email@suzukinewton.org
END:VEVENT
BEGIN:VEVENT
DTSTART;VALUE=DATE:20200726
DTEND;VALUE=DATE:20200727
DTSTAMP:20260423T131431
CREATED:20200713T182701Z
LAST-MODIFIED:20200713T182701Z
UID:10018863-1595721600-1595807999@newtonculture.org
SUMMARY:SCC Virtual Screening - The Nobel Snowflake
DESCRIPTION:Join the Scandinavian Cultural Center for an online screening of The Nobel Snowflake\, presented as part of Boston Design Week 2020. This film will be available online at xerb.tv\, from July 26th to August 1st. It is 59 minutes long and is presented in Swedish with English subtitles. Tickets are $5. Click here for more information and to register. \nThis film captures the competition for the head offices of the Nobel Centre in Stockholm\, presented as a nail-biting thriller. Nobel Snowflake follows the Swedish architect Gert Wingårdh on his quest to find the ultimate design\, in the shape of a snowflake. Eleven of the 175 teams are selected to take part\, among them Wingårdh. That’s when the problems really start. Kajsa Andersö’s film shows all the tragic and amusing aspects of the prestigious competition\, with an unexpected ending. An entertaining peek behind the scenes. \n 
URL:https://newtonculture.org/event/scc-virtual-screening-the-nobel-snowflake/2020-07-26/
LOCATION:ONLINE\, United Kingdom\, E16 2DQ
CATEGORIES:Community Event,Culture and Education,Film and Media
ATTACH;FMTTYPE=image/jpeg:https://newtonculture.org/wp-content/uploads/2020/07/The-Nobel-Snowflake-by-Wing-C3-A5rdh-Arkitektkontor-01-600x266-1.jpg
END:VEVENT
BEGIN:VEVENT
DTSTART;TZID=America/New_York:20200726T183000
DTEND;TZID=America/New_York:20200726T193000
DTSTAMP:20260423T131431
CREATED:20200720T180951Z
LAST-MODIFIED:20200721T140510Z
UID:10018091-1595788200-1595791800@newtonculture.org
SUMMARY:Performance in the Park - The New Phil Strings
DESCRIPTION:Newton Cultural Development along with Village Bank and Newton Community Pride\, bring you Newton Performances in the Park!\n\n\n\n\n\n\n\n\nA small ensemble of string players from New Philharmonia Orchestra presents – Americana Potpourri – a “pops” style presentation will feature sights and sounds of America with touches of our melting pot heritage and will include short works of Sousa\, Joplin\, Beethoven and Strauss along with colorful Americana favorites and much more! \nTickets are free\, but limited and you MUST register in advance to attend. Please bring your ticket with you (electronic or hard copy). Click here to register. \n*Performance will be canceled in the event of rain. There will be no rain dates. \nCOVID SAFETY: \nAll performers will maintain a 25 foot distance from audience. The grounds will be marked for social distancing and safety of all attending. Audience members are encouraged to maintain a 6 foot distance and wear a face covering. No restrooms will be made available to the public.
URL:https://newtonculture.org/event/performances-in-the-park-the-new-phil-strings/
LOCATION:MA
CATEGORIES:Community Event,Culture and Education,Free Event,Music
ATTACH;FMTTYPE=image/jpeg:https://newtonculture.org/wp-content/uploads/2020/07/park.jpg
ORGANIZER;CN="New Philharmonia Orchestra":MAILTO:info@newphil.org
END:VEVENT
END:VCALENDAR