BEGIN:VCALENDAR
VERSION:2.0
PRODID:-//Newton Cultural Alliance - ECPv6.13.2.1//NONSGML v1.0//EN
CALSCALE:GREGORIAN
METHOD:PUBLISH
X-ORIGINAL-URL:https://newtonculture.org
X-WR-CALDESC:Events for Newton Cultural Alliance
REFRESH-INTERVAL;VALUE=DURATION:PT1H
X-Robots-Tag:noindex
X-PUBLISHED-TTL:PT1H
BEGIN:VTIMEZONE
TZID:America/New_York
BEGIN:DAYLIGHT
TZOFFSETFROM:-0500
TZOFFSETTO:-0400
TZNAME:EDT
DTSTART:20200308T070000
END:DAYLIGHT
BEGIN:STANDARD
TZOFFSETFROM:-0400
TZOFFSETTO:-0500
TZNAME:EST
DTSTART:20201101T060000
END:STANDARD
END:VTIMEZONE
BEGIN:VEVENT
DTSTART;TZID=America/New_York:20200706T083000
DTEND;TZID=America/New_York:20200814T173000
DTSTAMP:20260422T204051
CREATED:20200625T171232Z
LAST-MODIFIED:20200625T171232Z
UID:10018822-1594024200-1597426200@newtonculture.org
SUMMARY:Suzuki Preschool Summer Camp
DESCRIPTION:Monday through Friday beginning July 6th \nThe Suzuki Preschool will be opening its doors to welcome back our preschoolers! We have planned a fun\, exciting curriculum that involves plenty of outdoor play while adhering to the new safety guidelines. We will be limiting the number of children enrolled to 10 children per session. Children are welcome to join in both morning and afternoon sessions\, but children must re- turn home for lunch between sessions. \nLocation: 1615 Beacon Street\, Waban\, MA 02468 \nTime: Morning session 8:30am-12:30pm\, Afternoon session 1:30-5:30pm \nTuition: $285 per session
URL:https://newtonculture.org/event/suzuki-preschool-summer-camp/
LOCATION:Suzuki School of Newton\, 1615 Beacon St\, Waban\, MA\, 02468\, United States
CATEGORIES:Culture and Education
ATTACH;FMTTYPE=image/jpeg:https://newtonculture.org/wp-content/uploads/2020/06/71053132_502871473592430_601706071853105152_o-1-1.jpg
ORGANIZER;CN="Suzuki School of Newton":MAILTO:email@suzukinewton.org
END:VEVENT
BEGIN:VEVENT
DTSTART;VALUE=DATE:20200801
DTEND;VALUE=DATE:20200803
DTSTAMP:20260422T204051
CREATED:20200803T141605Z
LAST-MODIFIED:20200803T141605Z
UID:10018129-1596240000-1596412799@newtonculture.org
SUMMARY:Amherst Early Music ONLINE ~ Weekend Classes
DESCRIPTION:ONLINE Weekend Classes resume this weekend! Take a look at the AEM ONLINE classes for the month of August\, and mark your calendars! Classes are $25 per session. \nCOMING UP THIS WEEKEND: \nSaturday\, August 1\, 1:00 p.m.\n❦ Get out your tenor or bass dulcian… and play duets with Marilyn Boenau and Dan Stillman in a class for Dueling Dulcians\, a whistle-stop tour of 16th-century bicinia starting with Josquin.\nSaturday\, August 1\, 3:00 p.m. \n❦ Recorder players can explore the dance tunes of Tielman Susato’s Danserye with Jody Miller.\nSunday\, August 1\, 1:00 p.m. \n❦ Saskia Coolen will teach a session on Daphne\, a popular English Tune that appears multiple times in Van Eyck’s 1644 collection Der Fluyten Lust-Hof.\nSunday\, August 1\, 3:00 p.m. \n❦ Spend time with four-and five-part works of Orlande de Lassus with Pamela Dellal in the session Orlande de Lassus -Il Magnifico. \nYou can see complete description of classes for this weekend\, and for all of the August classes on our website. Registration opens each Monday for the weekend classes. Music for the classes is available in advance.
URL:https://newtonculture.org/event/amherst-early-music-online-weekend-classes/
LOCATION:ZOOM
CATEGORIES:Culture and Education
ATTACH;FMTTYPE=image/jpeg:https://newtonculture.org/wp-content/uploads/2020/07/AEM_ONLINE_AUG1_2.jpg
ORGANIZER;CN="Amherst Early Music":MAILTO:info@amherstearlymusic.org
END:VEVENT
BEGIN:VEVENT
DTSTART;VALUE=DATE:20200802
DTEND;VALUE=DATE:20200803
DTSTAMP:20260422T204051
CREATED:20200330T171900Z
LAST-MODIFIED:20200406T152214Z
UID:10016024-1596326400-1596412799@newtonculture.org
SUMMARY:An online series on the history & nature of Jewish choral music
DESCRIPTION:These audio and video podcasts\, presented by Zamir Chorale of Boston\, can serve as an introduction to the field of Jewish Choral Music. But caveat lector\, these are not comprehensive; they provide only an introduction to the field. Readers may follow up with the many texts and websites that are listed elsewhere in this website: https://www.jewishchoralmusic.com/podcasts
URL:https://newtonculture.org/event/an-online-series-on-the-history-and-nature-of-jewish-choral-music/2020-08-02/
LOCATION:ONLINE\, United Kingdom\, E16 2DQ
CATEGORIES:Culture and Education
ATTACH;FMTTYPE=image/jpeg:https://newtonculture.org/wp-content/uploads/2020/03/JewishChoralMusic-homepage-1024x568-1.jpg
ORGANIZER;CN="Zamir Chorale of Boston":MAILTO:manager@zamir.org
END:VEVENT
BEGIN:VEVENT
DTSTART;VALUE=DATE:20200802
DTEND;VALUE=DATE:20200803
DTSTAMP:20260422T204051
CREATED:20200513T173621Z
LAST-MODIFIED:20200923T170754Z
UID:10018359-1596326400-1596412799@newtonculture.org
SUMMARY:Newton Art Association: Shelter in Art
DESCRIPTION:Shelter in Art is a virtual exhibition of work created by Newton Art Association members during the COVID-19 crisis. Click here to view this incredible exhibit online through October 31. \n 
URL:https://newtonculture.org/event/newton-art-association-shelter-in-art/2020-08-02/
LOCATION:ONLINE\, United Kingdom\, E16 2DQ
CATEGORIES:Art,Family Friendly,Free Event
ATTACH;FMTTYPE=image/jpeg:https://newtonculture.org/wp-content/uploads/2020/05/shelter-in-home-exhibition-768x495-1.jpg
ORGANIZER;CN="Newton Art Association":MAILTO:info@newtonartassociation.com
END:VEVENT
BEGIN:VEVENT
DTSTART;VALUE=DATE:20200802
DTEND;VALUE=DATE:20200803
DTSTAMP:20260422T204051
CREATED:20200804T144441Z
LAST-MODIFIED:20200804T144441Z
UID:10018903-1596326400-1596412799@newtonculture.org
SUMMARY:SCC Virtual Screening - The Best Intentions
DESCRIPTION:Join the Scandinavian Cultural Center for a virtual screening of Ingmar Bergman’s 1992 film The Best Intentions\, available throughout the month of August. \nSwedish master Ingmar Bergman penned this loving tribute to his parent’s epic romance. In 1909\, poor\, idealistic theology student Henrik Bergman falls in love with Anna Åkerbloom\, the intelligent\, educated daughter of a rich family in Uppsala. After their wedding Henrik becomes a priest in the north of Sweden. Urbane Anna can’t stand living in the rural county and grows increasingly restless. She returns to Uppsala and the couple’s love and commitment are put to the test. \nTickets are $6. Click here to view the trailer and purchase tickets.
URL:https://newtonculture.org/event/scc-virtual-screening-the-best-intentions/2020-08-02/
LOCATION:ONLINE\, United Kingdom\, E16 2DQ
CATEGORIES:Culture and Education,Film and Media
ATTACH;FMTTYPE=image/jpeg:https://newtonculture.org/wp-content/uploads/2020/08/maxresdefault.jpg
END:VEVENT
BEGIN:VEVENT
DTSTART;TZID=America/New_York:20200802T183000
DTEND;TZID=America/New_York:20200802T193000
DTSTAMP:20260422T204051
CREATED:20200730T204607Z
LAST-MODIFIED:20200730T204607Z
UID:10018125-1596393000-1596396600@newtonculture.org
SUMMARY:Performances in the Park - Women in World Jazz
DESCRIPTION:Newton Cultural Development along with Village Bank and Newton Community Pride\, bring you Newton Performances in the Park!\n\n\n\n\n\n\n\n\nThis week\, an international ensemble of all-female performers will showcase music from around the world. Audiences will get a taste of different cultures from around the globe through the expression of music and dance. \nTickets are free\, but limited and you MUST register in advance to attend. Please bring your ticket with you (electronic or hard copy). \nClick here to register. \nCOVID SAFETY: \nAll performers will maintain a 25 foot distance from audience. The grounds will be marked for social distancing and safety of all attending. Audience members are encouraged to maintain a 6 foot distance and wear a face covering. No restrooms will be made available to the public.
URL:https://newtonculture.org/event/performances-in-the-park-women-in-world-jazz/
LOCATION:Newton Centre Playground\, 81 Tyler Terrace\, Newton\, MA\, 02459\, United States
CATEGORIES:Community Event,Free Event,Music
ATTACH;FMTTYPE=image/jpeg:https://newtonculture.org/wp-content/uploads/2020/07/https___cdn.evbuc_.com_images_106865328_450330887388_1_original.jpg
END:VEVENT
END:VCALENDAR