BEGIN:VCALENDAR
VERSION:2.0
PRODID:-//Newton Cultural Alliance - ECPv6.13.2.1//NONSGML v1.0//EN
CALSCALE:GREGORIAN
METHOD:PUBLISH
X-WR-CALNAME:Newton Cultural Alliance
X-ORIGINAL-URL:https://newtonculture.org
X-WR-CALDESC:Events for Newton Cultural Alliance
REFRESH-INTERVAL;VALUE=DURATION:PT1H
X-Robots-Tag:noindex
X-PUBLISHED-TTL:PT1H
BEGIN:VTIMEZONE
TZID:America/New_York
BEGIN:DAYLIGHT
TZOFFSETFROM:-0500
TZOFFSETTO:-0400
TZNAME:EDT
DTSTART:20200308T070000
END:DAYLIGHT
BEGIN:STANDARD
TZOFFSETFROM:-0400
TZOFFSETTO:-0500
TZNAME:EST
DTSTART:20201101T060000
END:STANDARD
END:VTIMEZONE
BEGIN:VEVENT
DTSTART;TZID=America/New_York:20200706T083000
DTEND;TZID=America/New_York:20200814T173000
DTSTAMP:20260423T031501
CREATED:20200625T171232Z
LAST-MODIFIED:20200625T171232Z
UID:10018822-1594024200-1597426200@newtonculture.org
SUMMARY:Suzuki Preschool Summer Camp
DESCRIPTION:Monday through Friday beginning July 6th \nThe Suzuki Preschool will be opening its doors to welcome back our preschoolers! We have planned a fun\, exciting curriculum that involves plenty of outdoor play while adhering to the new safety guidelines. We will be limiting the number of children enrolled to 10 children per session. Children are welcome to join in both morning and afternoon sessions\, but children must re- turn home for lunch between sessions. \nLocation: 1615 Beacon Street\, Waban\, MA 02468 \nTime: Morning session 8:30am-12:30pm\, Afternoon session 1:30-5:30pm \nTuition: $285 per session
URL:https://newtonculture.org/event/suzuki-preschool-summer-camp/
LOCATION:Suzuki School of Newton\, 1615 Beacon St\, Waban\, MA\, 02468\, United States
CATEGORIES:Culture and Education
ATTACH;FMTTYPE=image/jpeg:https://newtonculture.org/wp-content/uploads/2020/06/71053132_502871473592430_601706071853105152_o-1-1.jpg
ORGANIZER;CN="Suzuki School of Newton":MAILTO:email@suzukinewton.org
END:VEVENT
BEGIN:VEVENT
DTSTART;VALUE=DATE:20200809
DTEND;VALUE=DATE:20200810
DTSTAMP:20260423T031501
CREATED:20200330T171900Z
LAST-MODIFIED:20200406T152214Z
UID:10016031-1596931200-1597017599@newtonculture.org
SUMMARY:An online series on the history & nature of Jewish choral music
DESCRIPTION:These audio and video podcasts\, presented by Zamir Chorale of Boston\, can serve as an introduction to the field of Jewish Choral Music. But caveat lector\, these are not comprehensive; they provide only an introduction to the field. Readers may follow up with the many texts and websites that are listed elsewhere in this website: https://www.jewishchoralmusic.com/podcasts
URL:https://newtonculture.org/event/an-online-series-on-the-history-and-nature-of-jewish-choral-music/2020-08-09/
LOCATION:ONLINE\, United Kingdom\, E16 2DQ
CATEGORIES:Culture and Education
ATTACH;FMTTYPE=image/jpeg:https://newtonculture.org/wp-content/uploads/2020/03/JewishChoralMusic-homepage-1024x568-1.jpg
ORGANIZER;CN="Zamir Chorale of Boston":MAILTO:manager@zamir.org
END:VEVENT
BEGIN:VEVENT
DTSTART;VALUE=DATE:20200809
DTEND;VALUE=DATE:20200810
DTSTAMP:20260423T031501
CREATED:20200513T173621Z
LAST-MODIFIED:20200923T170754Z
UID:10018366-1596931200-1597017599@newtonculture.org
SUMMARY:Newton Art Association: Shelter in Art
DESCRIPTION:Shelter in Art is a virtual exhibition of work created by Newton Art Association members during the COVID-19 crisis. Click here to view this incredible exhibit online through October 31. \n 
URL:https://newtonculture.org/event/newton-art-association-shelter-in-art/2020-08-09/
LOCATION:ONLINE\, United Kingdom\, E16 2DQ
CATEGORIES:Art,Family Friendly,Free Event
ATTACH;FMTTYPE=image/jpeg:https://newtonculture.org/wp-content/uploads/2020/05/shelter-in-home-exhibition-768x495-1.jpg
ORGANIZER;CN="Newton Art Association":MAILTO:info@newtonartassociation.com
END:VEVENT
BEGIN:VEVENT
DTSTART;VALUE=DATE:20200809
DTEND;VALUE=DATE:20200810
DTSTAMP:20260423T031501
CREATED:20200804T140045Z
LAST-MODIFIED:20200804T151937Z
UID:10018139-1596931200-1597017599@newtonculture.org
SUMMARY:SCC Virtual Screening - A White\, White Day
DESCRIPTION:Join the Scandinavian Cultural Center for a virtual screening of the 2019 Icelandic film A White\, White Day\, available until August 11th. \nIn a remote Icelandic town\, an off-duty police chief (a chilling Ingvar Sigurdsson\, who received Cannes’ Critics’ Week award for Best Actor for his performance) begins to suspect a local man of having had an affair with his late wife\, who died in a tragic accident two years earlier. Gradually his obsession for finding out the truth takes over his life and inevitably begins to endanger himself and his loved ones. Combining classic thriller tropes with a distinctly Nordic arthouse sensibility\, the second feature from Hlynur Palmason “engages in storytelling that’s both powerful and fresh throughout\, marking him as a talent to watch” (The Hollywood Reporter). \nTickets are $10 for SCC members and $12 for non-members. Click here to view the trailer and buy tickets.
URL:https://newtonculture.org/event/scc-virtual-screening-a-white-white-day/2020-08-09/
LOCATION:ONLINE\, United Kingdom\, E16 2DQ
CATEGORIES:Culture and Education,Film and Media
ATTACH;FMTTYPE=image/jpeg:https://newtonculture.org/wp-content/uploads/2020/08/a-white-white-day_theatrical4-600x266-1.jpg
END:VEVENT
BEGIN:VEVENT
DTSTART;VALUE=DATE:20200809
DTEND;VALUE=DATE:20200810
DTSTAMP:20260423T031501
CREATED:20200804T144441Z
LAST-MODIFIED:20200804T144441Z
UID:10018910-1596931200-1597017599@newtonculture.org
SUMMARY:SCC Virtual Screening - The Best Intentions
DESCRIPTION:Join the Scandinavian Cultural Center for a virtual screening of Ingmar Bergman’s 1992 film The Best Intentions\, available throughout the month of August. \nSwedish master Ingmar Bergman penned this loving tribute to his parent’s epic romance. In 1909\, poor\, idealistic theology student Henrik Bergman falls in love with Anna Åkerbloom\, the intelligent\, educated daughter of a rich family in Uppsala. After their wedding Henrik becomes a priest in the north of Sweden. Urbane Anna can’t stand living in the rural county and grows increasingly restless. She returns to Uppsala and the couple’s love and commitment are put to the test. \nTickets are $6. Click here to view the trailer and purchase tickets.
URL:https://newtonculture.org/event/scc-virtual-screening-the-best-intentions/2020-08-09/
LOCATION:ONLINE\, United Kingdom\, E16 2DQ
CATEGORIES:Culture and Education,Film and Media
ATTACH;FMTTYPE=image/jpeg:https://newtonculture.org/wp-content/uploads/2020/08/maxresdefault.jpg
END:VEVENT
BEGIN:VEVENT
DTSTART;TZID=America/New_York:20200809T130000
DTEND;TZID=America/New_York:20200810T143000
DTSTAMP:20260423T031501
CREATED:20200512T151131Z
LAST-MODIFIED:20200804T154220Z
UID:10018293-1596978000-1597069800@newtonculture.org
SUMMARY:Amherst Early Music Online
DESCRIPTION:Join AEM ONLINE this weekend! Four online class sessions are offered using the Zoom meeting app\, or your web browser. Register for any number of sessions; classes are $25 per session. Click here for more information. \nSCHEDULE AUGUST 8 & 9\, 2020 (Eastern Daylight Time)\nSaturday\, August 8\n1:00 – 2:30 p.m. Corelli Trio Sonatas with Beth Wenstrom and Hsuan-Wen Chen\n3:00 – 4:30 p.m. Bicinia Sacra: Lutheran Hymns in Original Notation with Mary\nSpringfels \nSunday\, August 9\n1:00 – 2:30 p.m. Play Bach on Recorders with Tish Berlin\n3:00 – 4:30 p.m. Free Your Voice and Challenge Your Mind:\nSinging Chant from Neumes with Anna Lenti \nRegister here!
URL:https://newtonculture.org/event/amherst-early-music-online-sessions-3/
LOCATION:ONLINE\, United Kingdom\, E16 2DQ
CATEGORIES:Culture and Education,Music
ATTACH;FMTTYPE=image/jpeg:https://newtonculture.org/wp-content/uploads/2020/06/POSTER_August_8_9.jpg
ORGANIZER;CN="Amherst Early Music":MAILTO:info@amherstearlymusic.org
END:VEVENT
BEGIN:VEVENT
DTSTART;TZID=America/New_York:20200809T150000
DTEND;TZID=America/New_York:20200809T163000
DTSTAMP:20260423T031501
CREATED:20200406T164456Z
LAST-MODIFIED:20200804T154552Z
UID:10018134-1596985200-1596990600@newtonculture.org
SUMMARY:Amherst Early Music: Online Sessions
DESCRIPTION:Join AEM ONLINE this weekend! Four online class sessions are offered using the Zoom meeting app\, or your web browser. Register for any number of sessions; classes are $25 per session. Click here for more information. \nSCHEDULE AUGUST 8 & 9\, 2020 (Eastern Daylight Time)\nSaturday\, August 8\n1:00 – 2:30 p.m. Corelli Trio Sonatas with Beth Wenstrom and Hsuan-Wen Chen\n3:00 – 4:30 p.m. Bicinia Sacra: Lutheran Hymns in Original Notation with Mary\nSpringfels \nSunday\, August 9\n1:00 – 2:30 p.m. Play Bach on Recorders with Tish Berlin\n3:00 – 4:30 p.m. Free Your Voice and Challenge Your Mind:\nSinging Chant from Neumes with Anna Lenti \nRegister here!
URL:https://newtonculture.org/event/amherst-early-music-online-sessions/
LOCATION:ONLINE\, United Kingdom\, E16 2DQ
CATEGORIES:Culture and Education,Music
ATTACH;FMTTYPE=image/jpeg:https://newtonculture.org/wp-content/uploads/2020/06/POSTER_August_8_9.jpg
ORGANIZER;CN="Amherst Early Music":MAILTO:info@amherstearlymusic.org
END:VEVENT
BEGIN:VEVENT
DTSTART;TZID=America/New_York:20200809T183000
DTEND;TZID=America/New_York:20200809T193000
DTSTAMP:20260423T031501
CREATED:20200805T205557Z
LAST-MODIFIED:20200805T205557Z
UID:10018944-1596997800-1597001400@newtonculture.org
SUMMARY:Performances in the Park - George Russell Jr. Trio
DESCRIPTION:Newton Cultural Development along with Village Bank and Newton Community Pride\, bring you Newton Performances in the Park!\n\n\n\n\n\n\n\n\nJoin us this week with an inspirational jazz concert by the George Russell\, Jr. Trio – a groove oriented band with a fresh sound that honors the traditional Jazz trio\, and also includes elements from more modern musical genres. \nTickets are free\, but limited and you MUST register in advance to attend. Please bring your ticket with you (electronic or hard copy). \nClick here to register. \nCOVID SAFETY: \nAll performers will maintain a 25 foot distance from audience. The grounds will be marked for social distancing and safety of all attending. Audience members are encouraged to maintain a 6 foot distance and wear a face covering. No restrooms will be made available to the public.
URL:https://newtonculture.org/event/performances-in-the-park-george-russell-jr-trio/
LOCATION:Newton Centre Playground\, 81 Tyler Terrace\, Newton\, MA\, 02459\, United States
CATEGORIES:Community Event,Free Event,Music
ATTACH;FMTTYPE=image/png:https://newtonculture.org/wp-content/uploads/2020/08/Week_3___George_Russell_Jr._Trio.png
END:VEVENT
END:VCALENDAR