BEGIN:VCALENDAR
VERSION:2.0
PRODID:-//Newton Cultural Alliance - ECPv6.13.2.1//NONSGML v1.0//EN
CALSCALE:GREGORIAN
METHOD:PUBLISH
X-WR-CALNAME:Newton Cultural Alliance
X-ORIGINAL-URL:https://newtonculture.org
X-WR-CALDESC:Events for Newton Cultural Alliance
REFRESH-INTERVAL;VALUE=DURATION:PT1H
X-Robots-Tag:noindex
X-PUBLISHED-TTL:PT1H
BEGIN:VTIMEZONE
TZID:America/New_York
BEGIN:DAYLIGHT
TZOFFSETFROM:-0500
TZOFFSETTO:-0400
TZNAME:EDT
DTSTART:20200308T070000
END:DAYLIGHT
BEGIN:STANDARD
TZOFFSETFROM:-0400
TZOFFSETTO:-0500
TZNAME:EST
DTSTART:20201101T060000
END:STANDARD
END:VTIMEZONE
BEGIN:VEVENT
DTSTART;TZID=America/New_York:20200706T083000
DTEND;TZID=America/New_York:20200814T173000
DTSTAMP:20260422T204039
CREATED:20200625T171232Z
LAST-MODIFIED:20200625T171232Z
UID:10018822-1594024200-1597426200@newtonculture.org
SUMMARY:Suzuki Preschool Summer Camp
DESCRIPTION:Monday through Friday beginning July 6th \nThe Suzuki Preschool will be opening its doors to welcome back our preschoolers! We have planned a fun\, exciting curriculum that involves plenty of outdoor play while adhering to the new safety guidelines. We will be limiting the number of children enrolled to 10 children per session. Children are welcome to join in both morning and afternoon sessions\, but children must re- turn home for lunch between sessions. \nLocation: 1615 Beacon Street\, Waban\, MA 02468 \nTime: Morning session 8:30am-12:30pm\, Afternoon session 1:30-5:30pm \nTuition: $285 per session
URL:https://newtonculture.org/event/suzuki-preschool-summer-camp/
LOCATION:Suzuki School of Newton\, 1615 Beacon St\, Waban\, MA\, 02468\, United States
CATEGORIES:Culture and Education
ATTACH;FMTTYPE=image/jpeg:https://newtonculture.org/wp-content/uploads/2020/06/71053132_502871473592430_601706071853105152_o-1-1.jpg
ORGANIZER;CN="Suzuki School of Newton":MAILTO:email@suzukinewton.org
END:VEVENT
BEGIN:VEVENT
DTSTART;VALUE=DATE:20200814
DTEND;VALUE=DATE:20200815
DTSTAMP:20260422T204039
CREATED:20200330T171900Z
LAST-MODIFIED:20200406T152214Z
UID:10016036-1597363200-1597449599@newtonculture.org
SUMMARY:An online series on the history & nature of Jewish choral music
DESCRIPTION:These audio and video podcasts\, presented by Zamir Chorale of Boston\, can serve as an introduction to the field of Jewish Choral Music. But caveat lector\, these are not comprehensive; they provide only an introduction to the field. Readers may follow up with the many texts and websites that are listed elsewhere in this website: https://www.jewishchoralmusic.com/podcasts
URL:https://newtonculture.org/event/an-online-series-on-the-history-and-nature-of-jewish-choral-music/2020-08-14/
LOCATION:ONLINE\, United Kingdom\, E16 2DQ
CATEGORIES:Culture and Education
ATTACH;FMTTYPE=image/jpeg:https://newtonculture.org/wp-content/uploads/2020/03/JewishChoralMusic-homepage-1024x568-1.jpg
ORGANIZER;CN="Zamir Chorale of Boston":MAILTO:manager@zamir.org
END:VEVENT
BEGIN:VEVENT
DTSTART;VALUE=DATE:20200814
DTEND;VALUE=DATE:20200815
DTSTAMP:20260422T204039
CREATED:20200513T173621Z
LAST-MODIFIED:20200923T170754Z
UID:10018371-1597363200-1597449599@newtonculture.org
SUMMARY:Newton Art Association: Shelter in Art
DESCRIPTION:Shelter in Art is a virtual exhibition of work created by Newton Art Association members during the COVID-19 crisis. Click here to view this incredible exhibit online through October 31. \n 
URL:https://newtonculture.org/event/newton-art-association-shelter-in-art/2020-08-14/
LOCATION:ONLINE\, United Kingdom\, E16 2DQ
CATEGORIES:Art,Family Friendly,Free Event
ATTACH;FMTTYPE=image/jpeg:https://newtonculture.org/wp-content/uploads/2020/05/shelter-in-home-exhibition-768x495-1.jpg
ORGANIZER;CN="Newton Art Association":MAILTO:info@newtonartassociation.com
END:VEVENT
BEGIN:VEVENT
DTSTART;VALUE=DATE:20200814
DTEND;VALUE=DATE:20200815
DTSTAMP:20260422T204039
CREATED:20200804T144441Z
LAST-MODIFIED:20200804T144441Z
UID:10018915-1597363200-1597449599@newtonculture.org
SUMMARY:SCC Virtual Screening - The Best Intentions
DESCRIPTION:Join the Scandinavian Cultural Center for a virtual screening of Ingmar Bergman’s 1992 film The Best Intentions\, available throughout the month of August. \nSwedish master Ingmar Bergman penned this loving tribute to his parent’s epic romance. In 1909\, poor\, idealistic theology student Henrik Bergman falls in love with Anna Åkerbloom\, the intelligent\, educated daughter of a rich family in Uppsala. After their wedding Henrik becomes a priest in the north of Sweden. Urbane Anna can’t stand living in the rural county and grows increasingly restless. She returns to Uppsala and the couple’s love and commitment are put to the test. \nTickets are $6. Click here to view the trailer and purchase tickets.
URL:https://newtonculture.org/event/scc-virtual-screening-the-best-intentions/2020-08-14/
LOCATION:ONLINE\, United Kingdom\, E16 2DQ
CATEGORIES:Culture and Education,Film and Media
ATTACH;FMTTYPE=image/jpeg:https://newtonculture.org/wp-content/uploads/2020/08/maxresdefault.jpg
END:VEVENT
BEGIN:VEVENT
DTSTART;TZID=America/New_York:20200814T090000
DTEND;TZID=America/New_York:20200814T120000
DTSTAMP:20260422T204039
CREATED:20200611T172659Z
LAST-MODIFIED:20200804T144528Z
UID:10018746-1597395600-1597406400@newtonculture.org
SUMMARY:New Art Center Online: *Kids*
DESCRIPTION:Sign up for Week 8! Each week will be packed with possibilities\, imagination\, and fun as students explore 2 exciting activities each day: 2D Art (drawing\, painting\, collage) and Drama Fun (theater games\, short scenes\, movement\, improvisation). Each week focuses on a different theme. \nWEEK 8 THEME: Above and Beyond – Skies\, Stars\, Planets and Galaxies \nFrom starry nights\, to stormy skies\, and from space travel to spectacular views of planets\, this week we will take a good look at the world above. Imagine ways to explore the skies – on the wings of a bird\, by hot air balloon\, in a spaceship\, through a telescope or on the tail of a kite! \nGrades 2-5 spend Summer Vacation immersed in the arts. New Art faculty conduct real-time classes through Zoom video meetings. Each week will be packed with possibilities\, imagination\, and fun as students explore 2 exciting activities each day: 2D Art & Drama Fun. \nView their website for a full list of classes and dates! \n*different classes for grades 2-3 and grades 4-5.
URL:https://newtonculture.org/event/new-art-center-online-kids-4/2020-08-14/
LOCATION:Zoom
CATEGORIES:Art,Culture and Education,Family Friendly
ATTACH;FMTTYPE=image/jpeg:https://newtonculture.org/wp-content/uploads/2020/06/CVS20758.jpg
ORGANIZER;CN="New Art Center":MAILTO:info@newartcenter.org
END:VEVENT
BEGIN:VEVENT
DTSTART;TZID=America/New_York:20200814T093000
DTEND;TZID=America/New_York:20200814T123000
DTSTAMP:20260422T204039
CREATED:20200618T201810Z
LAST-MODIFIED:20200618T201810Z
UID:10018811-1597397400-1597408200@newtonculture.org
SUMMARY:New Art Center Online: Painting Beyond Foundations
DESCRIPTION:New Art Live Online Learning – Weekly online class at designated class times. New Art faculty conduct a real-time class through Zoom video meetings. \nIntermediate and advanced students explore and develop personal themes while pushing their skills to the limit. Demos\, group exercises\, color theory\, advanced painting techniques with regular critique and conversation support and extend creativity and competency. See website for materials list. \nDates: Aug 7 – Aug 28\nDetails: Fridays\, 4 Sessions\nTimes: 9:30AM – 12:30PM\nNotes: Zoom Class
URL:https://newtonculture.org/event/new-art-center-online-painting-beyond-foundations-2/2020-08-14/
LOCATION:Zoom
CATEGORIES:Art,Culture and Education
ATTACH;FMTTYPE=image/jpeg:https://newtonculture.org/wp-content/uploads/2020/06/ACS20204.jpg
ORGANIZER;CN="New Art Center":MAILTO:info@newartcenter.org
END:VEVENT
BEGIN:VEVENT
DTSTART;TZID=America/New_York:20200814T153000
DTEND;TZID=America/New_York:20200814T164500
DTSTAMP:20260422T204039
CREATED:20200713T193554Z
LAST-MODIFIED:20200713T194021Z
UID:10018888-1597419000-1597423500@newtonculture.org
SUMMARY:New Art Center: Origami Art for Grades 3-5
DESCRIPTION:New Art Live Online Learning – Weekly online class at designated class times. New Art faculty conduct a real-time class through Zoom video meetings. \nOrigami\, the art of paper folding\, is a fun and easy art that can be done at all levels. It is simple to do at home and needs no special paper. Origami is also a great way to develop and increase fine motor skills. These live online classes will follow the skills of the students and adjust projects accordingly. We will learn about the history of Origami as well as the basic folds. Students will begin with simple projects and build up to more intermediate ones such as an origami Jumping Frog. \nPlease note: Online registration for this class ends on Thursday\, August 6th at 12PM. For more information and to register\, click here. \nDates: Aug 7 – Aug 28\nDetails: Fridays\, 4 Sessions\nTimes: 3:30PM – 4:45PM\nNotes: Zoom Class
URL:https://newtonculture.org/event/new-art-center-origami-art-for-grades-3-5/2020-08-14/
LOCATION:Zoom
CATEGORIES:Art,Culture and Education,Family Friendly,Visual Arts
ATTACH;FMTTYPE=image/jpeg:https://newtonculture.org/wp-content/uploads/2020/07/CCS20803.jpg
ORGANIZER;CN="New Art Center":MAILTO:info@newartcenter.org
END:VEVENT
BEGIN:VEVENT
DTSTART;TZID=America/New_York:20200814T170000
DTEND;TZID=America/New_York:20200814T181500
DTSTAMP:20260422T204039
CREATED:20200713T193836Z
LAST-MODIFIED:20200713T193836Z
UID:10018893-1597424400-1597428900@newtonculture.org
SUMMARY:New Art Center: Origami Art for Grades 6-8
DESCRIPTION:New Art Live Online Learning – Weekly online class at designated class times. New Art faculty conduct a real-time class through Zoom video meetings. \nOrigami\, the art of paper folding\, is a fun and easy art that can be done at all levels. It is simple to do at home and needs no special paper. These live online classes will follow the skills of the students and adjust projects accordingly. We will learn about the history of Origami as well as the names and vocabulary of different folds. Students will begin with intermediate projects and build up to more complex ones such as the traditional origami Crane. \nPlease note: Online registration for this class ends on Thursday\, August 6th at 12PM. For more information and to register\, click here. \nDates: Aug 7 – Aug 28\nDetails: Fridays\, 4 Sessions\nTimes: 5:00PM – 6:15PM\nNotes: Zoom Class
URL:https://newtonculture.org/event/new-art-center-origami-art-for-grades-6-8/2020-08-14/
LOCATION:Zoom
CATEGORIES:Art,Culture and Education,Family Friendly,Visual Arts
ATTACH;FMTTYPE=image/jpeg:https://newtonculture.org/wp-content/uploads/2020/07/TCS20806.jpg
ORGANIZER;CN="New Art Center":MAILTO:info@newartcenter.org
END:VEVENT
END:VCALENDAR