BEGIN:VCALENDAR
VERSION:2.0
PRODID:-//Newton Cultural Alliance - ECPv6.13.2.1//NONSGML v1.0//EN
CALSCALE:GREGORIAN
METHOD:PUBLISH
X-WR-CALNAME:Newton Cultural Alliance
X-ORIGINAL-URL:https://newtonculture.org
X-WR-CALDESC:Events for Newton Cultural Alliance
REFRESH-INTERVAL;VALUE=DURATION:PT1H
X-Robots-Tag:noindex
X-PUBLISHED-TTL:PT1H
BEGIN:VTIMEZONE
TZID:America/New_York
BEGIN:DAYLIGHT
TZOFFSETFROM:-0500
TZOFFSETTO:-0400
TZNAME:EDT
DTSTART:20200308T070000
END:DAYLIGHT
BEGIN:STANDARD
TZOFFSETFROM:-0400
TZOFFSETTO:-0500
TZNAME:EST
DTSTART:20201101T060000
END:STANDARD
END:VTIMEZONE
BEGIN:VEVENT
DTSTART;VALUE=DATE:20200816
DTEND;VALUE=DATE:20200817
DTSTAMP:20260423T053850
CREATED:20200330T171900Z
LAST-MODIFIED:20200406T152214Z
UID:10016038-1597536000-1597622399@newtonculture.org
SUMMARY:An online series on the history & nature of Jewish choral music
DESCRIPTION:These audio and video podcasts\, presented by Zamir Chorale of Boston\, can serve as an introduction to the field of Jewish Choral Music. But caveat lector\, these are not comprehensive; they provide only an introduction to the field. Readers may follow up with the many texts and websites that are listed elsewhere in this website: https://www.jewishchoralmusic.com/podcasts
URL:https://newtonculture.org/event/an-online-series-on-the-history-and-nature-of-jewish-choral-music/2020-08-16/
LOCATION:ONLINE\, United Kingdom\, E16 2DQ
CATEGORIES:Culture and Education
ATTACH;FMTTYPE=image/jpeg:https://newtonculture.org/wp-content/uploads/2020/03/JewishChoralMusic-homepage-1024x568-1.jpg
ORGANIZER;CN="Zamir Chorale of Boston":MAILTO:manager@zamir.org
END:VEVENT
BEGIN:VEVENT
DTSTART;VALUE=DATE:20200816
DTEND;VALUE=DATE:20200817
DTSTAMP:20260423T053850
CREATED:20200513T173621Z
LAST-MODIFIED:20200923T170754Z
UID:10018373-1597536000-1597622399@newtonculture.org
SUMMARY:Newton Art Association: Shelter in Art
DESCRIPTION:Shelter in Art is a virtual exhibition of work created by Newton Art Association members during the COVID-19 crisis. Click here to view this incredible exhibit online through October 31. \n 
URL:https://newtonculture.org/event/newton-art-association-shelter-in-art/2020-08-16/
LOCATION:ONLINE\, United Kingdom\, E16 2DQ
CATEGORIES:Art,Family Friendly,Free Event
ATTACH;FMTTYPE=image/jpeg:https://newtonculture.org/wp-content/uploads/2020/05/shelter-in-home-exhibition-768x495-1.jpg
ORGANIZER;CN="Newton Art Association":MAILTO:info@newtonartassociation.com
END:VEVENT
BEGIN:VEVENT
DTSTART;VALUE=DATE:20200816
DTEND;VALUE=DATE:20200817
DTSTAMP:20260423T053850
CREATED:20200804T144441Z
LAST-MODIFIED:20200804T144441Z
UID:10018917-1597536000-1597622399@newtonculture.org
SUMMARY:SCC Virtual Screening - The Best Intentions
DESCRIPTION:Join the Scandinavian Cultural Center for a virtual screening of Ingmar Bergman’s 1992 film The Best Intentions\, available throughout the month of August. \nSwedish master Ingmar Bergman penned this loving tribute to his parent’s epic romance. In 1909\, poor\, idealistic theology student Henrik Bergman falls in love with Anna Åkerbloom\, the intelligent\, educated daughter of a rich family in Uppsala. After their wedding Henrik becomes a priest in the north of Sweden. Urbane Anna can’t stand living in the rural county and grows increasingly restless. She returns to Uppsala and the couple’s love and commitment are put to the test. \nTickets are $6. Click here to view the trailer and purchase tickets.
URL:https://newtonculture.org/event/scc-virtual-screening-the-best-intentions/2020-08-16/
LOCATION:ONLINE\, United Kingdom\, E16 2DQ
CATEGORIES:Culture and Education,Film and Media
ATTACH;FMTTYPE=image/jpeg:https://newtonculture.org/wp-content/uploads/2020/08/maxresdefault.jpg
END:VEVENT
BEGIN:VEVENT
DTSTART;TZID=America/New_York:20200816T140000
DTEND;TZID=America/New_York:20200816T170000
DTSTAMP:20260423T053850
CREATED:20200804T161731Z
LAST-MODIFIED:20200804T161731Z
UID:10018943-1597586400-1597597200@newtonculture.org
SUMMARY:Historic Newton: Lakes District Bicycle Tour
DESCRIPTION:Historic Newton takes you on this safe and easy (no hills) ride past historical sites related to bicycle history in Newton. Visit where bicycles were built and raced in the 1890s\, and also see where bicyclists by the hundreds met up and picnicked in the Lakes District of the Charles River in Newton Lower Falls\, Auburndale\, and part of Waltham. We will ride approximately 14 miles in a group with nobody left behind. The ride is led by bicycle history author Larry Finison and CyclingSavvy instructor John Allen. Part of Historic Newton’s Adventures in History series supported in part by Newton-Wellesley Hospital and a grant from the Newton Cultural Council\, a local agency\, which is supported by the Mass Cultural Council\, a state agency. Pre-registration is required through Charles River Wheelers. Due to COVID-19 restrictions and insurance regulations\, if you are not a CRW member\, you need to join by August 12\, through crw.org. Cost $15 per person (includes CRW bike shop discounts\, Ride with GPS\, Ride Library). After you join\, wait a day for your membership to go through and then register for the history ride and sign the on-line waiver. Rain date: Sunday\, August 23.
URL:https://newtonculture.org/event/historic-newton-lakes-district-bicycle-tour/
LOCATION:MA
CATEGORIES:Culture and Education
ATTACH;FMTTYPE=image/png:https://newtonculture.org/wp-content/uploads/2019/11/9.png
END:VEVENT
END:VCALENDAR