BEGIN:VCALENDAR
VERSION:2.0
PRODID:-//Newton Cultural Alliance - ECPv6.13.2.1//NONSGML v1.0//EN
CALSCALE:GREGORIAN
METHOD:PUBLISH
X-WR-CALNAME:Newton Cultural Alliance
X-ORIGINAL-URL:https://newtonculture.org
X-WR-CALDESC:Events for Newton Cultural Alliance
REFRESH-INTERVAL;VALUE=DURATION:PT1H
X-Robots-Tag:noindex
X-PUBLISHED-TTL:PT1H
BEGIN:VTIMEZONE
TZID:America/New_York
BEGIN:DAYLIGHT
TZOFFSETFROM:-0500
TZOFFSETTO:-0400
TZNAME:EDT
DTSTART:20200308T070000
END:DAYLIGHT
BEGIN:STANDARD
TZOFFSETFROM:-0400
TZOFFSETTO:-0500
TZNAME:EST
DTSTART:20201101T060000
END:STANDARD
END:VTIMEZONE
BEGIN:VEVENT
DTSTART;VALUE=DATE:20200914
DTEND;VALUE=DATE:20200915
DTSTAMP:20260421T135809
CREATED:20200330T171900Z
LAST-MODIFIED:20200406T152214Z
UID:10016067-1600041600-1600127999@newtonculture.org
SUMMARY:An online series on the history & nature of Jewish choral music
DESCRIPTION:These audio and video podcasts\, presented by Zamir Chorale of Boston\, can serve as an introduction to the field of Jewish Choral Music. But caveat lector\, these are not comprehensive; they provide only an introduction to the field. Readers may follow up with the many texts and websites that are listed elsewhere in this website: https://www.jewishchoralmusic.com/podcasts
URL:https://newtonculture.org/event/an-online-series-on-the-history-and-nature-of-jewish-choral-music/2020-09-14/
LOCATION:ONLINE\, United Kingdom\, E16 2DQ
CATEGORIES:Culture and Education
ATTACH;FMTTYPE=image/jpeg:https://newtonculture.org/wp-content/uploads/2020/03/JewishChoralMusic-homepage-1024x568-1.jpg
ORGANIZER;CN="Zamir Chorale of Boston":MAILTO:manager@zamir.org
END:VEVENT
BEGIN:VEVENT
DTSTART;VALUE=DATE:20200914
DTEND;VALUE=DATE:20200915
DTSTAMP:20260421T135809
CREATED:20200513T173621Z
LAST-MODIFIED:20200923T170754Z
UID:10018402-1600041600-1600127999@newtonculture.org
SUMMARY:Newton Art Association: Shelter in Art
DESCRIPTION:Shelter in Art is a virtual exhibition of work created by Newton Art Association members during the COVID-19 crisis. Click here to view this incredible exhibit online through October 31. \n 
URL:https://newtonculture.org/event/newton-art-association-shelter-in-art/2020-09-14/
LOCATION:ONLINE\, United Kingdom\, E16 2DQ
CATEGORIES:Art,Family Friendly,Free Event
ATTACH;FMTTYPE=image/jpeg:https://newtonculture.org/wp-content/uploads/2020/05/shelter-in-home-exhibition-768x495-1.jpg
ORGANIZER;CN="Newton Art Association":MAILTO:info@newtonartassociation.com
END:VEVENT
BEGIN:VEVENT
DTSTART;TZID=America/New_York:20200914T093000
DTEND;TZID=America/New_York:20200914T123000
DTSTAMP:20260421T135809
CREATED:20200825T155409Z
LAST-MODIFIED:20200825T155409Z
UID:10018956-1600075800-1600086600@newtonculture.org
SUMMARY:New Art Center Online: Painting with Color
DESCRIPTION:New Art Live Online Learning – Weekly online class at designated class times. New Art faculty conduct a real-time class through Zoom video meetings. \nDiscover the magic of color! This class is designed to develop or strengthen your skills for all aspects of color mixing: value\, warm/cool\, and opposites/complementary. Students will create their own value and color charts\, and use these charts to expand and explore the use of color in their oil or acrylic paintings. Excellent for all levels. See website for materials list. \nDates: Sep 14 – Nov 30\nDetails: Mondays\, 10 Sessions\nTimes: 9:30AM – 12:30PM\nVenue: Live Online Learning (Zoom)\nNotes: No class 9/28\, 10/12
URL:https://newtonculture.org/event/new-art-center-online-painting-with-color/2020-09-14/
LOCATION:Zoom
CATEGORIES:Art,Culture and Education,Visual Arts
ATTACH;FMTTYPE=image/jpeg:https://newtonculture.org/wp-content/uploads/2020/08/ACF20201.jpg
ORGANIZER;CN="New Art Center":MAILTO:info@newartcenter.org
END:VEVENT
BEGIN:VEVENT
DTSTART;TZID=America/New_York:20200914T093000
DTEND;TZID=America/New_York:20200914T123000
DTSTAMP:20260421T135809
CREATED:20200825T160521Z
LAST-MODIFIED:20200825T160521Z
UID:10018979-1600075800-1600086600@newtonculture.org
SUMMARY:New Art Center online: Acrylic and Oil Painting - Intermediate/Advanced
DESCRIPTION:New Art Live Online Learning – Weekly online class at designated class times. New Art faculty conduct a real-time class through Zoom video meetings. \nExplore the emotive\, expressive and representative qualities of paint in an exciting studio environment. Focus on the painting process\, how marks and color can be generated from spontaneous reactions to a subject\, and learn to explore and exploit the accidental freshness of material. Use oil\, acrylic or other water based paints in this course for intermediate to advanced artists. See website for materials list. \nDates: Sep 14 – Nov 30\nDetails: Mondays\, 10 Sessions\nTimes: 9:30AM – 12:30PM\nVenue: Live Online Learning (Zoom)\nNotes: No class 9/28\, 10/12
URL:https://newtonculture.org/event/new-art-center-online-acrylic-and-oil-painting-intermediate-advanced/2020-09-14/
LOCATION:Zoom
CATEGORIES:Art,Culture and Education,Visual Arts
ATTACH;FMTTYPE=image/jpeg:https://newtonculture.org/wp-content/uploads/2020/08/ACF20271.jpg
ORGANIZER;CN="New Art Center":MAILTO:info@newartcenter.org
END:VEVENT
BEGIN:VEVENT
DTSTART;TZID=America/New_York:20200914T123000
DTEND;TZID=America/New_York:20200914T150000
DTSTAMP:20260421T135809
CREATED:20200825T160831Z
LAST-MODIFIED:20200825T160831Z
UID:10018990-1600086600-1600095600@newtonculture.org
SUMMARY:New Art Center online: Watercolor Explorations
DESCRIPTION:New Art Live Online Learning – Weekly online class at designated class times. New Art faculty conduct a real-time class through Zoom video meetings. \nThis course for experienced watercolor students will focus on composition\, values\, and wash techniques in rendering landscape\, botanicals\, and still life. Students may work on suggested projects or those of their choice. Demos and individual critiques included. See website for materials list. \nDates: Sep 14 – Nov 16\nDetails: Mondays\, 8 Sessions\nTimes: 12:30PM – 3:00PM\nVenue: Live Online Learning (Zoom)\nNotes: No class 9/28\, 10/12
URL:https://newtonculture.org/event/new-art-center-online-watercolor-explorations/2020-09-14/
LOCATION:Zoom
CATEGORIES:Art,Culture and Education,Visual Arts
ATTACH;FMTTYPE=image/jpeg:https://newtonculture.org/wp-content/uploads/2020/08/ACF20361.jpg
ORGANIZER;CN="New Art Center":MAILTO:info@newartcenter.org
END:VEVENT
BEGIN:VEVENT
DTSTART;TZID=America/New_York:20200914T130000
DTEND;TZID=America/New_York:20200914T160000
DTSTAMP:20260421T135809
CREATED:20200825T155726Z
LAST-MODIFIED:20200825T155726Z
UID:10018968-1600088400-1600099200@newtonculture.org
SUMMARY:New Art Center online: Post-Modern Assemblage Painting
DESCRIPTION:New Art Live Online Learning – Weekly online class at designated class times. New Art faculty conduct a real-time class through Zoom video meetings. \nPaint\, block print\, or push the envelope with a postmodern approach to assemblage. Grow your practice through thoughtful critiques with attention to individual strengths. Combine your favorite forms in this creative and invigorating atmosphere. Intermediate level. See website for materials list. \nDates: Sep 14 – Nov 30\nDetails: Mondays\, 10 Sessions\nTimes: 1:00PM – 4:00PM\nVenue: Live Online Learning (Zoom)\nNotes: No class 9/28\, 10/12 \n 
URL:https://newtonculture.org/event/new-art-center-online-post-modern-assemblage-painting/2020-09-14/
LOCATION:Zoom
CATEGORIES:Art,Culture and Education,Visual Arts
ATTACH;FMTTYPE=image/jpeg:https://newtonculture.org/wp-content/uploads/2020/08/ACF20241.jpg
ORGANIZER;CN="New Art Center":MAILTO:info@newartcenter.org
END:VEVENT
BEGIN:VEVENT
DTSTART;TZID=America/New_York:20200914T190000
DTEND;TZID=America/New_York:20200914T200000
DTSTAMP:20260421T135809
CREATED:20200908T160524Z
LAST-MODIFIED:20200908T160524Z
UID:10018223-1600110000-1600113600@newtonculture.org
SUMMARY:Newton Free Library presents: My Captain America - A Granddaughter's Memoir of a Legendary Comic Book Artist
DESCRIPTION:On Monday\, September 14th\, join Megan Margulies\, author of the coming-of-age memoir\, My Captain America: A Granddaughter’s Memoir of a Legendary Comic Book Artist\, for an engaging conversation facilitated by national bestselling author\, Tova Mirvis. \nMarguiles’ new coming of age memoir paints an intimate portrait of the relationship she had with her beloved grandfather Joe Simon\, cartoonist and co-creator of Captain America. \nTo order your autographed copy of My Captain America\, visit Newtonville Books.
URL:https://newtonculture.org/event/newton-free-library-presents-my-captain-america-a-granddaughters-memoir-of-a-legendary-comic-book-artist/
LOCATION:ONLINE\, United Kingdom\, E16 2DQ
CATEGORIES:Culture and Education,Family Friendly,Free Event,Literary Arts
ATTACH;FMTTYPE=image/jpeg:https://newtonculture.org/wp-content/uploads/2020/09/09-14_Author_Megan_Marguiles.jpg
ORGANIZER;CN="Newton Free Library":MAILTO:admin@newtonfreelibrary.net
END:VEVENT
END:VCALENDAR