BEGIN:VCALENDAR
VERSION:2.0
PRODID:-//Newton Cultural Alliance - ECPv6.13.2.1//NONSGML v1.0//EN
CALSCALE:GREGORIAN
METHOD:PUBLISH
X-WR-CALNAME:Newton Cultural Alliance
X-ORIGINAL-URL:https://newtonculture.org
X-WR-CALDESC:Events for Newton Cultural Alliance
REFRESH-INTERVAL;VALUE=DURATION:PT1H
X-Robots-Tag:noindex
X-PUBLISHED-TTL:PT1H
BEGIN:VTIMEZONE
TZID:America/New_York
BEGIN:DAYLIGHT
TZOFFSETFROM:-0500
TZOFFSETTO:-0400
TZNAME:EDT
DTSTART:20200308T070000
END:DAYLIGHT
BEGIN:STANDARD
TZOFFSETFROM:-0400
TZOFFSETTO:-0500
TZNAME:EST
DTSTART:20201101T060000
END:STANDARD
END:VTIMEZONE
BEGIN:VEVENT
DTSTART;VALUE=DATE:20200919
DTEND;VALUE=DATE:20200920
DTSTAMP:20260421T181723
CREATED:20200330T171900Z
LAST-MODIFIED:20200406T152214Z
UID:10016072-1600473600-1600559999@newtonculture.org
SUMMARY:An online series on the history & nature of Jewish choral music
DESCRIPTION:These audio and video podcasts\, presented by Zamir Chorale of Boston\, can serve as an introduction to the field of Jewish Choral Music. But caveat lector\, these are not comprehensive; they provide only an introduction to the field. Readers may follow up with the many texts and websites that are listed elsewhere in this website: https://www.jewishchoralmusic.com/podcasts
URL:https://newtonculture.org/event/an-online-series-on-the-history-and-nature-of-jewish-choral-music/2020-09-19/
LOCATION:ONLINE\, United Kingdom\, E16 2DQ
CATEGORIES:Culture and Education
ATTACH;FMTTYPE=image/jpeg:https://newtonculture.org/wp-content/uploads/2020/03/JewishChoralMusic-homepage-1024x568-1.jpg
ORGANIZER;CN="Zamir Chorale of Boston":MAILTO:manager@zamir.org
END:VEVENT
BEGIN:VEVENT
DTSTART;VALUE=DATE:20200919
DTEND;VALUE=DATE:20200920
DTSTAMP:20260421T181723
CREATED:20200513T173621Z
LAST-MODIFIED:20200923T170754Z
UID:10018407-1600473600-1600559999@newtonculture.org
SUMMARY:Newton Art Association: Shelter in Art
DESCRIPTION:Shelter in Art is a virtual exhibition of work created by Newton Art Association members during the COVID-19 crisis. Click here to view this incredible exhibit online through October 31. \n 
URL:https://newtonculture.org/event/newton-art-association-shelter-in-art/2020-09-19/
LOCATION:ONLINE\, United Kingdom\, E16 2DQ
CATEGORIES:Art,Family Friendly,Free Event
ATTACH;FMTTYPE=image/jpeg:https://newtonculture.org/wp-content/uploads/2020/05/shelter-in-home-exhibition-768x495-1.jpg
ORGANIZER;CN="Newton Art Association":MAILTO:info@newtonartassociation.com
END:VEVENT
BEGIN:VEVENT
DTSTART;TZID=America/New_York:20200919T130000
DTEND;TZID=America/New_York:20200919T134500
DTSTAMP:20260421T181723
CREATED:20200826T195444Z
LAST-MODIFIED:20200826T195444Z
UID:10019093-1600520400-1600523100@newtonculture.org
SUMMARY:All Newton Music School: Broadway Bound Online Class
DESCRIPTION:Actors will spend the Semester creating and exploring imaginative characters\, learning choreography\, and proper singing technique with director\, composer\, and playwright Kelvyn Koning; an experienced musical theatre educator. \nBroadway Bound will allow each actor to sing\, dance\, deliver lines\, and be part of a virtual theatrical ensemble which builds presence and self-confidence. \nCreative and engaging instructor Mr. Kelvyn will work with the young actors ideas to compose original music and scenes for each class as they prepare a virtual world premiere production! \nBefore filming\, the student will be provided with a Broadway Bound “Backstage” Box with all the costume pieces and props needed to film their scenes\, songs\, and choreography with flair! \nClick here for registration. \nAges 5-7 years\nSept. 12 to Jan. 16 – Saturdays: 1:00 – 1:45 pm \nAges 8-10 years\nSept. 10 to Jan. 7  – Thursday: 5:00 – 5:45 pm\nSept. 12 to Jan. 16 – Saturday: 1:45 – 2:30 pm
URL:https://newtonculture.org/event/all-newton-music-school-broadway-bound-online-class-2/2020-09-19/
LOCATION:ONLINE\, United Kingdom\, E16 2DQ
CATEGORIES:Art,Family Friendly,Music,Performing Arts
ATTACH;FMTTYPE=image/png:https://newtonculture.org/wp-content/uploads/2020/08/ScreenShot2020-08-11at7.03.56PM.png
END:VEVENT
BEGIN:VEVENT
DTSTART;TZID=America/New_York:20200919T130000
DTEND;TZID=America/New_York:20200919T143000
DTSTAMP:20260421T181723
CREATED:20200914T134905Z
LAST-MODIFIED:20200916T143935Z
UID:10018226-1600520400-1600525800@newtonculture.org
SUMMARY:Amherst Early Music online: The Curious Case of the Loeillet Recorder Duets
DESCRIPTION:Join us for AEM ONLINE classes each weekend! Register for any number of sessions – classes are $25 per session. Registration opens each Monday for the weekend classes! Click here for more information. \nThe Curious Case of the Loeillet Recorder Duets: What Makes a Duet Good? with Gwyn Roberts\nJean-Baptiste Loeillet de Gant published his Opus 1 around 1710 as a set of 12 sonatas for recorder and continuo. Shortly thereafter\, those sonatas reappeared as recorder duets\, with a new second recorder part quite different from the original continuo line.\nWe’ll sample both versions\, consider what changed to make the duets work better\, and tackle the pesky mystery of all of those composers named Loeillet.
URL:https://newtonculture.org/event/amherst-early-music-online-the-curious-case-of-the-loeillet-recorder-duets/
LOCATION:ONLINE\, United Kingdom\, E16 2DQ
CATEGORIES:Culture and Education,Music
ATTACH;FMTTYPE=image/jpeg:https://newtonculture.org/wp-content/uploads/2020/09/unnamed-1.jpg
ORGANIZER;CN="Amherst Early Music":MAILTO:info@amherstearlymusic.org
END:VEVENT
BEGIN:VEVENT
DTSTART;TZID=America/New_York:20200919T134500
DTEND;TZID=America/New_York:20200919T143000
DTSTAMP:20260421T181723
CREATED:20200826T195622Z
LAST-MODIFIED:20201001T153407Z
UID:10019112-1600523100-1600525800@newtonculture.org
SUMMARY:All Newton Music School: Broadway Bound Online Class
DESCRIPTION:Actors will spend the Semester creating and exploring imaginative characters\, learning choreography\, and proper singing technique with director\, composer\, and playwright Kelvyn Koning; an experienced musical theatre educator. \nBroadway Bound will allow each actor to sing\, dance\, deliver lines\, and be part of a virtual theatrical ensemble which builds presence and self-confidence. \nCreative and engaging instructor Mr. Kelvyn will work with the young actors ideas to compose original music and scenes for each class as they prepare a virtual world premiere production! \nBefore filming\, the student will be provided with a Broadway Bound “Backstage” Box with all the costume pieces and props needed to film their scenes\, songs\, and choreography with flair! \nClick here for registration. \nAges 5-7 years\nSept. 12 to Jan. 16 – Saturdays: 1:00 – 1:45 pm \nAges 8-10 years\nSept. 10 to Jan. 7  – Thursday: 5:00 – 5:45 pm\nSept. 12 to Jan. 16 – Saturday: 1:45 – 2:30 pm
URL:https://newtonculture.org/event/all-newton-music-school-broadway-bound-online-class-3/2020-09-19/
LOCATION:ONLINE\, United Kingdom\, E16 2DQ
CATEGORIES:Culture and Education,Family Friendly,Music,Performing Arts
ATTACH;FMTTYPE=image/png:https://newtonculture.org/wp-content/uploads/2020/08/ScreenShot2020-08-11at7.03.56PM.png
END:VEVENT
BEGIN:VEVENT
DTSTART;TZID=America/New_York:20200919T150000
DTEND;TZID=America/New_York:20200919T163000
DTSTAMP:20260421T181723
CREATED:20200914T135807Z
LAST-MODIFIED:20200916T143536Z
UID:10018228-1600527600-1600533000@newtonculture.org
SUMMARY:Amherst Early Music online: A Cantus Firmus Connection
DESCRIPTION:Join us for AEM ONLINE classes each weekend! Register for any number of sessions – classes are $25 per session. Registration opens each Monday for the weekend classes! Click here for more information. \nA Cantus Firmus Connection for Viols and Friends of Viols with John Mark Rozendaal\nIn the 16th century\, viol-playing musicians cultivated improvisation (the fast method of composition)\, and composition (the slow approach to improvisation) by dividing the breves of a slow-moving cantus firmus into various rhythms\, and using those rhythms to cast harmonizing melodies over and under the subject to create expressive rhetorical statements and impressive contrapuntal structures.\nIn this class we will look at two distinct repertoires that actually involve the same musical materials and techniques to create quite different affects: the Recercadas of Diego Ortiz based on La Spagna; and the English In nomine as practiced by William Byrd and his forebears. Ortiz’s compositions are offered as examples for students of improvisation. The In nomine was an exercise in composition. Both genres also served as exercises in performing musicianship\, which is how we will be using them.
URL:https://newtonculture.org/event/amherst-early-music-online-a-cantus-firmus-connection/
LOCATION:ONLINE\, United Kingdom\, E16 2DQ
CATEGORIES:Culture and Education,Music
ATTACH;FMTTYPE=image/jpeg:https://newtonculture.org/wp-content/uploads/2020/09/unnamed-1.jpg
ORGANIZER;CN="Amherst Early Music":MAILTO:info@amherstearlymusic.org
END:VEVENT
END:VCALENDAR