BEGIN:VCALENDAR
VERSION:2.0
PRODID:-//Newton Cultural Alliance - ECPv6.13.2.1//NONSGML v1.0//EN
CALSCALE:GREGORIAN
METHOD:PUBLISH
X-WR-CALNAME:Newton Cultural Alliance
X-ORIGINAL-URL:https://newtonculture.org
X-WR-CALDESC:Events for Newton Cultural Alliance
REFRESH-INTERVAL;VALUE=DURATION:PT1H
X-Robots-Tag:noindex
X-PUBLISHED-TTL:PT1H
BEGIN:VTIMEZONE
TZID:America/New_York
BEGIN:DAYLIGHT
TZOFFSETFROM:-0500
TZOFFSETTO:-0400
TZNAME:EDT
DTSTART:20200308T070000
END:DAYLIGHT
BEGIN:STANDARD
TZOFFSETFROM:-0400
TZOFFSETTO:-0500
TZNAME:EST
DTSTART:20201101T060000
END:STANDARD
END:VTIMEZONE
BEGIN:VEVENT
DTSTART;VALUE=DATE:20200920
DTEND;VALUE=DATE:20200921
DTSTAMP:20260421T181724
CREATED:20200330T171900Z
LAST-MODIFIED:20200406T152214Z
UID:10016073-1600560000-1600646399@newtonculture.org
SUMMARY:An online series on the history & nature of Jewish choral music
DESCRIPTION:These audio and video podcasts\, presented by Zamir Chorale of Boston\, can serve as an introduction to the field of Jewish Choral Music. But caveat lector\, these are not comprehensive; they provide only an introduction to the field. Readers may follow up with the many texts and websites that are listed elsewhere in this website: https://www.jewishchoralmusic.com/podcasts
URL:https://newtonculture.org/event/an-online-series-on-the-history-and-nature-of-jewish-choral-music/2020-09-20/
LOCATION:ONLINE\, United Kingdom\, E16 2DQ
CATEGORIES:Culture and Education
ATTACH;FMTTYPE=image/jpeg:https://newtonculture.org/wp-content/uploads/2020/03/JewishChoralMusic-homepage-1024x568-1.jpg
ORGANIZER;CN="Zamir Chorale of Boston":MAILTO:manager@zamir.org
END:VEVENT
BEGIN:VEVENT
DTSTART;VALUE=DATE:20200920
DTEND;VALUE=DATE:20200921
DTSTAMP:20260421T181724
CREATED:20200513T173621Z
LAST-MODIFIED:20200923T170754Z
UID:10018408-1600560000-1600646399@newtonculture.org
SUMMARY:Newton Art Association: Shelter in Art
DESCRIPTION:Shelter in Art is a virtual exhibition of work created by Newton Art Association members during the COVID-19 crisis. Click here to view this incredible exhibit online through October 31. \n 
URL:https://newtonculture.org/event/newton-art-association-shelter-in-art/2020-09-20/
LOCATION:ONLINE\, United Kingdom\, E16 2DQ
CATEGORIES:Art,Family Friendly,Free Event
ATTACH;FMTTYPE=image/jpeg:https://newtonculture.org/wp-content/uploads/2020/05/shelter-in-home-exhibition-768x495-1.jpg
ORGANIZER;CN="Newton Art Association":MAILTO:info@newtonartassociation.com
END:VEVENT
BEGIN:VEVENT
DTSTART;TZID=America/New_York:20200920T130000
DTEND;TZID=America/New_York:20200920T143000
DTSTAMP:20260421T181724
CREATED:20200914T142959Z
LAST-MODIFIED:20200916T144141Z
UID:10018230-1600606800-1600612200@newtonculture.org
SUMMARY:Amherst Early Music online: A Modal Almanac
DESCRIPTION:Join us for AEM ONLINE classes each weekend! Register for any number of sessions – classes are $25 per session. Registration opens each Monday for the weekend classes! Click here for more information \nA Modal Almanac with Shira Kammen\nMedieval and Traditional British Isles music pertaining to different seasons of the year\, including compositions from the 13th c. Montpellier Manuscript\, Guillaume Dufay\, Francesco Landini\, and more.
URL:https://newtonculture.org/event/amherst-early-music-online-a-modal-almanac/
LOCATION:ONLINE\, United Kingdom\, E16 2DQ
CATEGORIES:Culture and Education,Music
ATTACH;FMTTYPE=image/jpeg:https://newtonculture.org/wp-content/uploads/2020/09/unnamed-1.jpg
ORGANIZER;CN="Amherst Early Music":MAILTO:info@amherstearlymusic.org
END:VEVENT
BEGIN:VEVENT
DTSTART;TZID=America/New_York:20200920T150000
DTEND;TZID=America/New_York:20200920T163000
DTSTAMP:20260421T181724
CREATED:20200914T144213Z
LAST-MODIFIED:20200916T144225Z
UID:10018232-1600614000-1600619400@newtonculture.org
SUMMARY:Amherst Early Music online: Performing the Bach Cello Suites
DESCRIPTION:Join us for AEM ONLINE classes each weekend! Register for any number of sessions – classes are $25 per session. Registration opens each Monday for the weekend classes! Click here for more information. \nPerforming the Bach Cello Suites: An Exploration of Sources\, Slurs and Style with Sarah Freiberg\nIn this class we will delve into the context of the beloved Bach cello suites\, seeing them for the ground-breaking works they were at the time\, examining the sources\, and what happens when slurs are unclear at best. We will discuss some of the many editions and talk about Baroque style\, and Bach’s amazing understanding of harmony and resonance.
URL:https://newtonculture.org/event/amherst-early-music-online-performing-the-bach-cello-suites/
LOCATION:ONLINE\, United Kingdom\, E16 2DQ
CATEGORIES:Culture and Education,Music
ATTACH;FMTTYPE=image/jpeg:https://newtonculture.org/wp-content/uploads/2020/09/unnamed-1.jpg
ORGANIZER;CN="Amherst Early Music":MAILTO:info@amherstearlymusic.org
END:VEVENT
END:VCALENDAR