BEGIN:VCALENDAR
VERSION:2.0
PRODID:-//Newton Cultural Alliance - ECPv6.13.2.1//NONSGML v1.0//EN
CALSCALE:GREGORIAN
METHOD:PUBLISH
X-WR-CALNAME:Newton Cultural Alliance
X-ORIGINAL-URL:https://newtonculture.org
X-WR-CALDESC:Events for Newton Cultural Alliance
REFRESH-INTERVAL;VALUE=DURATION:PT1H
X-Robots-Tag:noindex
X-PUBLISHED-TTL:PT1H
BEGIN:VTIMEZONE
TZID:America/New_York
BEGIN:DAYLIGHT
TZOFFSETFROM:-0500
TZOFFSETTO:-0400
TZNAME:EDT
DTSTART:20200308T070000
END:DAYLIGHT
BEGIN:STANDARD
TZOFFSETFROM:-0400
TZOFFSETTO:-0500
TZNAME:EST
DTSTART:20201101T060000
END:STANDARD
END:VTIMEZONE
BEGIN:VEVENT
DTSTART;VALUE=DATE:20200924
DTEND;VALUE=DATE:20200925
DTSTAMP:20260421T181723
CREATED:20200330T171900Z
LAST-MODIFIED:20200406T152214Z
UID:10016077-1600905600-1600991999@newtonculture.org
SUMMARY:An online series on the history & nature of Jewish choral music
DESCRIPTION:These audio and video podcasts\, presented by Zamir Chorale of Boston\, can serve as an introduction to the field of Jewish Choral Music. But caveat lector\, these are not comprehensive; they provide only an introduction to the field. Readers may follow up with the many texts and websites that are listed elsewhere in this website: https://www.jewishchoralmusic.com/podcasts
URL:https://newtonculture.org/event/an-online-series-on-the-history-and-nature-of-jewish-choral-music/2020-09-24/
LOCATION:ONLINE\, United Kingdom\, E16 2DQ
CATEGORIES:Culture and Education
ATTACH;FMTTYPE=image/jpeg:https://newtonculture.org/wp-content/uploads/2020/03/JewishChoralMusic-homepage-1024x568-1.jpg
ORGANIZER;CN="Zamir Chorale of Boston":MAILTO:manager@zamir.org
END:VEVENT
BEGIN:VEVENT
DTSTART;VALUE=DATE:20200924
DTEND;VALUE=DATE:20200925
DTSTAMP:20260421T181723
CREATED:20200513T173621Z
LAST-MODIFIED:20200923T170754Z
UID:10018412-1600905600-1600991999@newtonculture.org
SUMMARY:Newton Art Association: Shelter in Art
DESCRIPTION:Shelter in Art is a virtual exhibition of work created by Newton Art Association members during the COVID-19 crisis. Click here to view this incredible exhibit online through October 31. \n 
URL:https://newtonculture.org/event/newton-art-association-shelter-in-art/2020-09-24/
LOCATION:ONLINE\, United Kingdom\, E16 2DQ
CATEGORIES:Art,Family Friendly,Free Event
ATTACH;FMTTYPE=image/jpeg:https://newtonculture.org/wp-content/uploads/2020/05/shelter-in-home-exhibition-768x495-1.jpg
ORGANIZER;CN="Newton Art Association":MAILTO:info@newtonartassociation.com
END:VEVENT
BEGIN:VEVENT
DTSTART;TZID=America/New_York:20200924T170000
DTEND;TZID=America/New_York:20200924T170000
DTSTAMP:20260421T181723
CREATED:20200825T153706Z
LAST-MODIFIED:20200924T143226Z
UID:10018948-1600966800-1600966800@newtonculture.org
SUMMARY:[RESCHEDULED] Historic Newton presents: Bayman in the Bay State - Viking Myths
DESCRIPTION:On September 17th\, explore the origins of the myths surrounding the Vikings and Leif Erikson’s alleged exploration and settlement of Massachusetts. Learn about how negligent scholarship and forged maps and transcriptions have led to a statue of Erikson on Boston’s Commonwealth Avenue. Several other monuments to the Vikings remain in our state today after their fabrication during the 19th century\, including Norumbega Tower on the Charles River. Register in advance [create link] to receive the link to this Zoom talk. Suggested donation\, $10 per person\, $5 for Historic Newton members. Register here
URL:https://newtonculture.org/event/historic-newton-presents-bayman-in-the-bay-state-viking-myths/
LOCATION:Zoom
CATEGORIES:Culture and Education
ATTACH;FMTTYPE=image/png:https://newtonculture.org/wp-content/uploads/2019/11/9.png
END:VEVENT
BEGIN:VEVENT
DTSTART;TZID=America/New_York:20200924T170000
DTEND;TZID=America/New_York:20200924T174500
DTSTAMP:20260421T181723
CREATED:20200826T195156Z
LAST-MODIFIED:20200826T195156Z
UID:10019076-1600966800-1600969500@newtonculture.org
SUMMARY:All Newton Music School: Broadway Bound Online Class
DESCRIPTION:Actors will spend the Semester creating and exploring imaginative characters\, learning choreography\, and proper singing technique with director\, composer\, and playwright Kelvyn Koning; an experienced musical theatre educator. \nBroadway Bound will allow each actor to sing\, dance\, deliver lines\, and be part of a virtual theatrical ensemble which builds presence and self-confidence. \nCreative and engaging instructor Mr. Kelvyn will work with the young actors ideas to compose original music and scenes for each class as they prepare a virtual world premiere production! \nBefore filming\, the student will be provided with a Broadway Bound “Backstage” Box with all the costume pieces and props needed to film their scenes\, songs\, and choreography with flair! \nClick here for registration. \nAges 5-7 years\nSept. 12 to Jan. 16 – Saturdays: 1:00 – 1:45 pm \nAges 8-10 years\nSept. 10 to Jan. 7  – Thursday: 5:00 – 5:45 pm\nSept. 12 to Jan. 16 – Saturday: 1:45 – 2:30 pm
URL:https://newtonculture.org/event/all-newton-music-school-broadway-bound-online-class/2020-09-24/
LOCATION:ONLINE\, United Kingdom\, E16 2DQ
CATEGORIES:Culture and Education,Family Friendly,Music,Performing Arts
ATTACH;FMTTYPE=image/png:https://newtonculture.org/wp-content/uploads/2020/08/ScreenShot2020-08-11at7.03.56PM.png
END:VEVENT
BEGIN:VEVENT
DTSTART;TZID=America/New_York:20200924T180000
DTEND;TZID=America/New_York:20200924T193000
DTSTAMP:20260421T181723
CREATED:20200210T193446Z
LAST-MODIFIED:20200916T180704Z
UID:10017738-1600970400-1600975800@newtonculture.org
SUMMARY:NewTV's Virtual Red Carpet Awards Ceremony
DESCRIPTION:Join NewTV on Thursday\, September 24 at 6:00 p.m. on Zoom for a virtual Red Carpet Awards ceremony. \nDue to the pandemic\, NewTV had to cancel their Annual Meeting + Red Carpet Awards this past March. They still want to honor the hard work of their producers and members from 2019\, so they’ll be celebrating virtually next Thursday. \nPlease RSVP with Brian Hebert at brianh@newtv.org\, if you plan to attend the Zoom ceremony.
URL:https://newtonculture.org/event/newtv-annual-membership-meeting-and-red-carpet-awards/
LOCATION:ZOOM
CATEGORIES:Community Event,Film and Media
ATTACH;FMTTYPE=image/png:https://newtonculture.org/wp-content/uploads/2019/11/Logos-500px-4-newtv.png
ORGANIZER;CN="NewTV":MAILTO:newtv@newtv.org
END:VEVENT
BEGIN:VEVENT
DTSTART;TZID=America/New_York:20200924T193000
DTEND;TZID=America/New_York:20200924T203000
DTSTAMP:20260421T181723
CREATED:20200810T144630Z
LAST-MODIFIED:20200916T163734Z
UID:10018946-1600975800-1600979400@newtonculture.org
SUMMARY:Parent Information Session - Suzuki School of Newton
DESCRIPTION:Interested in enrolling in Suzuki School of Newton’s music program for the Fall 2020 semester? Join Suzuki on Tuesday\, September 24 at 7:30 p.m. for a prospective family information session on Zoom! Suzuki offers instruction in violin\, viola\, cello\, piano\, flute\, guitar\, and harp. All music classes will be held online through December 31\, 2020. This session will provide practical details about online classes for new students\, as well as explain Suzuki’s program offerings and the Suzuki philosophy of education.\n\nPlease RSVP to email@suzukinewton.org to receive the Zoom meeting link.
URL:https://newtonculture.org/event/parent-information-session-suzuki-school-of-newton/
LOCATION:ZOOM
CATEGORIES:Music
ATTACH;FMTTYPE=image/png:https://newtonculture.org/wp-content/uploads/2020/08/119632779_3711269185574294_6986078294936775672_n.png
ORGANIZER;CN="Suzuki School of Newton":MAILTO:email@suzukinewton.org
END:VEVENT
BEGIN:VEVENT
DTSTART;TZID=America/New_York:20200924T200000
DTEND;TZID=America/New_York:20200924T220000
DTSTAMP:20260421T181723
CREATED:20200914T154720Z
LAST-MODIFIED:20200914T155857Z
UID:10019147-1600977600-1600984800@newtonculture.org
SUMMARY:Pro Arte's Fall Salon Series: Salon 1
DESCRIPTION:The Fall Salon Series takes place entirely online. Each of these six concerts premieres at 8pm on Thursday night and will be available to watch through the following Sunday. On the night of the premiere\, the performance will also be followed by a live Q&A session with that night’s musicians. Tickets for each performance are $20 for an individual or $35 for families. Click here to purchase tickets. \n\nSalon 1:\nLyrical\, tender\, charming\, warm\, majestic… These are a just a few words that apply equally to Florence Price’s String Quartet in G Major and Beethoven’s Opus 127 Quartet in E Flat Major. Though separated by a century\, each groundbreaking genius overcame adversity to create these two works which express profound humanity and beauty. Beethoven struggled to compose his Op. 127 through illness and complete deafness; Price (perhaps the most notable African American women composers of the early 20th Century) composed her gorgeous G Major Quartet despite enduring systemic racial disadvantages. Through these works\, both artists show us a roadmap to beauty\, triumph\, and our better selves.\n\n\n\n\n\n\nFlorence PRICE\, String Quartet in G Major\n\nBEETHOVEN String Quartet in E-flat Major\, op. 127\n\n  \nMUSICIANS\nLiana Zaretsky\, violin\nJulia Cash\, violin\nEmily Rome\, viola\nLeo Eguchi\, cello
URL:https://newtonculture.org/event/pro-artes-fall-salon-series-salon-1/
LOCATION:ONLINE\, United Kingdom\, E16 2DQ
CATEGORIES:Community Event,Music
ATTACH;FMTTYPE=image/jpeg:https://newtonculture.org/wp-content/uploads/2020/09/2c5840_f5bb0b105a0244bf8c018725436a2e17_mv2-scaled.jpg
END:VEVENT
END:VCALENDAR