BEGIN:VCALENDAR
VERSION:2.0
PRODID:-//Newton Cultural Alliance - ECPv6.13.2.1//NONSGML v1.0//EN
CALSCALE:GREGORIAN
METHOD:PUBLISH
X-WR-CALNAME:Newton Cultural Alliance
X-ORIGINAL-URL:https://newtonculture.org
X-WR-CALDESC:Events for Newton Cultural Alliance
REFRESH-INTERVAL;VALUE=DURATION:PT1H
X-Robots-Tag:noindex
X-PUBLISHED-TTL:PT1H
BEGIN:VTIMEZONE
TZID:America/New_York
BEGIN:DAYLIGHT
TZOFFSETFROM:-0500
TZOFFSETTO:-0400
TZNAME:EDT
DTSTART:20200308T070000
END:DAYLIGHT
BEGIN:STANDARD
TZOFFSETFROM:-0400
TZOFFSETTO:-0500
TZNAME:EST
DTSTART:20201101T060000
END:STANDARD
END:VTIMEZONE
BEGIN:VEVENT
DTSTART;VALUE=DATE:20200926
DTEND;VALUE=DATE:20200927
DTSTAMP:20260421T181722
CREATED:20200330T171900Z
LAST-MODIFIED:20200406T152214Z
UID:10016079-1601078400-1601164799@newtonculture.org
SUMMARY:An online series on the history & nature of Jewish choral music
DESCRIPTION:These audio and video podcasts\, presented by Zamir Chorale of Boston\, can serve as an introduction to the field of Jewish Choral Music. But caveat lector\, these are not comprehensive; they provide only an introduction to the field. Readers may follow up with the many texts and websites that are listed elsewhere in this website: https://www.jewishchoralmusic.com/podcasts
URL:https://newtonculture.org/event/an-online-series-on-the-history-and-nature-of-jewish-choral-music/2020-09-26/
LOCATION:ONLINE\, United Kingdom\, E16 2DQ
CATEGORIES:Culture and Education
ATTACH;FMTTYPE=image/jpeg:https://newtonculture.org/wp-content/uploads/2020/03/JewishChoralMusic-homepage-1024x568-1.jpg
ORGANIZER;CN="Zamir Chorale of Boston":MAILTO:manager@zamir.org
END:VEVENT
BEGIN:VEVENT
DTSTART;VALUE=DATE:20200926
DTEND;VALUE=DATE:20200927
DTSTAMP:20260421T181722
CREATED:20200513T173621Z
LAST-MODIFIED:20200923T170754Z
UID:10018414-1601078400-1601164799@newtonculture.org
SUMMARY:Newton Art Association: Shelter in Art
DESCRIPTION:Shelter in Art is a virtual exhibition of work created by Newton Art Association members during the COVID-19 crisis. Click here to view this incredible exhibit online through October 31. \n 
URL:https://newtonculture.org/event/newton-art-association-shelter-in-art/2020-09-26/
LOCATION:ONLINE\, United Kingdom\, E16 2DQ
CATEGORIES:Art,Family Friendly,Free Event
ATTACH;FMTTYPE=image/jpeg:https://newtonculture.org/wp-content/uploads/2020/05/shelter-in-home-exhibition-768x495-1.jpg
ORGANIZER;CN="Newton Art Association":MAILTO:info@newtonartassociation.com
END:VEVENT
BEGIN:VEVENT
DTSTART;TZID=America/New_York:20200926T130000
DTEND;TZID=America/New_York:20200926T134500
DTSTAMP:20260421T181722
CREATED:20200826T195444Z
LAST-MODIFIED:20200826T195444Z
UID:10019094-1601125200-1601127900@newtonculture.org
SUMMARY:All Newton Music School: Broadway Bound Online Class
DESCRIPTION:Actors will spend the Semester creating and exploring imaginative characters\, learning choreography\, and proper singing technique with director\, composer\, and playwright Kelvyn Koning; an experienced musical theatre educator. \nBroadway Bound will allow each actor to sing\, dance\, deliver lines\, and be part of a virtual theatrical ensemble which builds presence and self-confidence. \nCreative and engaging instructor Mr. Kelvyn will work with the young actors ideas to compose original music and scenes for each class as they prepare a virtual world premiere production! \nBefore filming\, the student will be provided with a Broadway Bound “Backstage” Box with all the costume pieces and props needed to film their scenes\, songs\, and choreography with flair! \nClick here for registration. \nAges 5-7 years\nSept. 12 to Jan. 16 – Saturdays: 1:00 – 1:45 pm \nAges 8-10 years\nSept. 10 to Jan. 7  – Thursday: 5:00 – 5:45 pm\nSept. 12 to Jan. 16 – Saturday: 1:45 – 2:30 pm
URL:https://newtonculture.org/event/all-newton-music-school-broadway-bound-online-class-2/2020-09-26/
LOCATION:ONLINE\, United Kingdom\, E16 2DQ
CATEGORIES:Art,Family Friendly,Music,Performing Arts
ATTACH;FMTTYPE=image/png:https://newtonculture.org/wp-content/uploads/2020/08/ScreenShot2020-08-11at7.03.56PM.png
END:VEVENT
BEGIN:VEVENT
DTSTART;TZID=America/New_York:20200926T130000
DTEND;TZID=America/New_York:20200926T140000
DTSTAMP:20260421T181722
CREATED:20200916T183127Z
LAST-MODIFIED:20200916T183127Z
UID:10019175-1601125200-1601128800@newtonculture.org
SUMMARY:Boston Ballet School: Classical Ballet Program Virtual Placement Class
DESCRIPTION:Boston Ballet School’s Classical Ballet Program Virtual Placement Classes  \nVirtual placement classes will take place at various times throughout the 2020/2021 school year.  Pre-registration is required and there is a $30 placement fee. During the class\, students should have access to a barre (a tall\, sturdy chair will work just fine as long as it’s safe and comfortable) and supportive flooring. Please note your placement applies to any Boston Ballet School location. Students attending a summer program at Boston Ballet School will be assessed for a level in the upcoming school year and are not required to attend a separate placement class. \nThe next placement class will be Saturday\, September 26\, from 1:00-2:00 p.m. Please register using the link here. Registrants will be sent login instructions on September 25. More info here. 
URL:https://newtonculture.org/event/boston-ballet-school-classical-ballet-program-virtual-placement-class/
LOCATION:ONLINE\, United Kingdom\, E16 2DQ
CATEGORIES:Performing Arts
ATTACH;FMTTYPE=image/jpeg:https://newtonculture.org/wp-content/uploads/2020/09/BBS_CBP_PlacementDESKTOP_1440x810.jpg
ORGANIZER;CN="Boston Ballet School":MAILTO:school@bostonballet.org
END:VEVENT
BEGIN:VEVENT
DTSTART;TZID=America/New_York:20200926T130000
DTEND;TZID=America/New_York:20200926T143000
DTSTAMP:20260421T181722
CREATED:20200914T144455Z
LAST-MODIFIED:20200914T144455Z
UID:10019137-1601125200-1601130600@newtonculture.org
SUMMARY:Amherst Early Music online: Tantalizing Telemann Technicalities
DESCRIPTION:Join us for AEM ONLINE classes each weekend! Register for any number of sessions – classes are $25 per session. Registration opens each Monday for the weekend classes! Click here for more information. \nTantalizing Telemann Technicalities with Sarah Cantor \nWe will use the Telemann F Major duet as technical inspiration for this class. The high F’s give us opportunities to work on blowing and thumb position for high notes. The scale passages are perfect for finger coordination. The repeated sequences of 16th notes beg us to make tonguing syllable decisions. The long passages give us a chance to practice breath control. The cadential trills offer a chance to review trill fingerings and incorporate tasteful appoggiatura’s. Since technique should always serve the music and not the other way around\, we will make music playing the duet together.\nYou can download the music and play the duet with Sarah on her music-minus-one video here.
URL:https://newtonculture.org/event/amherst-early-music-online-tantalizing-telemann-technicalities/
LOCATION:ONLINE\, United Kingdom\, E16 2DQ
CATEGORIES:Culture and Education,Music
ORGANIZER;CN="Amherst Early Music":MAILTO:info@amherstearlymusic.org
END:VEVENT
BEGIN:VEVENT
DTSTART;TZID=America/New_York:20200926T134500
DTEND;TZID=America/New_York:20200926T143000
DTSTAMP:20260421T181722
CREATED:20200826T195622Z
LAST-MODIFIED:20201001T153407Z
UID:10019113-1601127900-1601130600@newtonculture.org
SUMMARY:All Newton Music School: Broadway Bound Online Class
DESCRIPTION:Actors will spend the Semester creating and exploring imaginative characters\, learning choreography\, and proper singing technique with director\, composer\, and playwright Kelvyn Koning; an experienced musical theatre educator. \nBroadway Bound will allow each actor to sing\, dance\, deliver lines\, and be part of a virtual theatrical ensemble which builds presence and self-confidence. \nCreative and engaging instructor Mr. Kelvyn will work with the young actors ideas to compose original music and scenes for each class as they prepare a virtual world premiere production! \nBefore filming\, the student will be provided with a Broadway Bound “Backstage” Box with all the costume pieces and props needed to film their scenes\, songs\, and choreography with flair! \nClick here for registration. \nAges 5-7 years\nSept. 12 to Jan. 16 – Saturdays: 1:00 – 1:45 pm \nAges 8-10 years\nSept. 10 to Jan. 7  – Thursday: 5:00 – 5:45 pm\nSept. 12 to Jan. 16 – Saturday: 1:45 – 2:30 pm
URL:https://newtonculture.org/event/all-newton-music-school-broadway-bound-online-class-3/2020-09-26/
LOCATION:ONLINE\, United Kingdom\, E16 2DQ
CATEGORIES:Culture and Education,Family Friendly,Music,Performing Arts
ATTACH;FMTTYPE=image/png:https://newtonculture.org/wp-content/uploads/2020/08/ScreenShot2020-08-11at7.03.56PM.png
END:VEVENT
BEGIN:VEVENT
DTSTART;TZID=America/New_York:20200926T150000
DTEND;TZID=America/New_York:20200926T163000
DTSTAMP:20260421T181722
CREATED:20200914T144656Z
LAST-MODIFIED:20200914T144656Z
UID:10019140-1601132400-1601137800@newtonculture.org
SUMMARY:Amherst Early Music online: What Makes J.S. Bach 'BACH?'
DESCRIPTION:Join us for AEM ONLINE classes each weekend! Register for any number of sessions – classes are $25 per session. Registration opens each Monday for the weekend classes! Click here for more information. \nWhat makes J.S. Bach ‘BACH?’ with Geoff Williams\nAn exploration of one of the pillars of western music and why his sacred vocal music is so well-known and revered today. Class will spend some time with the St. John and St. Matthew Passions\, the Christmas Oratorio\, and Church Cantatas. There will be some\nopportunity to sing and play along with recordings\, while muted.
URL:https://newtonculture.org/event/amherst-early-music-online-what-makes-j-s-bach-bach/
LOCATION:ONLINE\, United Kingdom\, E16 2DQ
CATEGORIES:Culture and Education,Music
ORGANIZER;CN="Amherst Early Music":MAILTO:info@amherstearlymusic.org
END:VEVENT
BEGIN:VEVENT
DTSTART;TZID=America/New_York:20200926T180000
DTEND;TZID=America/New_York:20200926T200000
DTSTAMP:20260421T181722
CREATED:20200916T181621Z
LAST-MODIFIED:20200916T181621Z
UID:10019170-1601143200-1601150400@newtonculture.org
SUMMARY:Newton Free Library: Virtual Spring Fling (in the Fall)
DESCRIPTION:Please join Newton Free Library for a virtual Spring Fling (in the Fall) on Saturday\, September 26\, 2020 at 6:00 p.m. This year money raised from the Spring Fling will be used to expand and refresh the library’s beloved Children’s Room. The library fully expects the Annual Gala to sell out. Individual sponsorships are available starting at $200. Individual tickets will be on sale for $150 per person. We also offer a Corporate Sponsorship program. \nPlease fill out the form here to purchase tickets for this year’s Spring Fling.
URL:https://newtonculture.org/event/newton-free-library-virtual-spring-fling-in-the-fall/
LOCATION:ONLINE\, United Kingdom\, E16 2DQ
CATEGORIES:Culture and Education,Literary Arts
ATTACH;FMTTYPE=image/png:https://newtonculture.org/wp-content/uploads/2020/09/Screen-Shot-2020-09-16-at-2.15.54-PM.png
ORGANIZER;CN="Newton Free Library":MAILTO:admin@newtonfreelibrary.net
END:VEVENT
END:VCALENDAR