BEGIN:VCALENDAR
VERSION:2.0
PRODID:-//Newton Cultural Alliance - ECPv6.13.2.1//NONSGML v1.0//EN
CALSCALE:GREGORIAN
METHOD:PUBLISH
X-ORIGINAL-URL:https://newtonculture.org
X-WR-CALDESC:Events for Newton Cultural Alliance
REFRESH-INTERVAL;VALUE=DURATION:PT1H
X-Robots-Tag:noindex
X-PUBLISHED-TTL:PT1H
BEGIN:VTIMEZONE
TZID:America/New_York
BEGIN:DAYLIGHT
TZOFFSETFROM:-0500
TZOFFSETTO:-0400
TZNAME:EDT
DTSTART:20200308T070000
END:DAYLIGHT
BEGIN:STANDARD
TZOFFSETFROM:-0400
TZOFFSETTO:-0500
TZNAME:EST
DTSTART:20201101T060000
END:STANDARD
END:VTIMEZONE
BEGIN:VEVENT
DTSTART;VALUE=DATE:20201009
DTEND;VALUE=DATE:20201010
DTSTAMP:20260421T124413
CREATED:20200330T171900Z
LAST-MODIFIED:20200406T152214Z
UID:10016092-1602201600-1602287999@newtonculture.org
SUMMARY:An online series on the history & nature of Jewish choral music
DESCRIPTION:These audio and video podcasts\, presented by Zamir Chorale of Boston\, can serve as an introduction to the field of Jewish Choral Music. But caveat lector\, these are not comprehensive; they provide only an introduction to the field. Readers may follow up with the many texts and websites that are listed elsewhere in this website: https://www.jewishchoralmusic.com/podcasts
URL:https://newtonculture.org/event/an-online-series-on-the-history-and-nature-of-jewish-choral-music/2020-10-09/
LOCATION:ONLINE\, United Kingdom\, E16 2DQ
CATEGORIES:Culture and Education
ATTACH;FMTTYPE=image/jpeg:https://newtonculture.org/wp-content/uploads/2020/03/JewishChoralMusic-homepage-1024x568-1.jpg
ORGANIZER;CN="Zamir Chorale of Boston":MAILTO:manager@zamir.org
END:VEVENT
BEGIN:VEVENT
DTSTART;VALUE=DATE:20201009
DTEND;VALUE=DATE:20201010
DTSTAMP:20260421T124413
CREATED:20200513T173621Z
LAST-MODIFIED:20200923T170754Z
UID:10018427-1602201600-1602287999@newtonculture.org
SUMMARY:Newton Art Association: Shelter in Art
DESCRIPTION:Shelter in Art is a virtual exhibition of work created by Newton Art Association members during the COVID-19 crisis. Click here to view this incredible exhibit online through October 31. \n 
URL:https://newtonculture.org/event/newton-art-association-shelter-in-art/2020-10-09/
LOCATION:ONLINE\, United Kingdom\, E16 2DQ
CATEGORIES:Art,Family Friendly,Free Event
ATTACH;FMTTYPE=image/jpeg:https://newtonculture.org/wp-content/uploads/2020/05/shelter-in-home-exhibition-768x495-1.jpg
ORGANIZER;CN="Newton Art Association":MAILTO:info@newtonartassociation.com
END:VEVENT
BEGIN:VEVENT
DTSTART;TZID=America/New_York:20201009T130000
DTEND;TZID=America/New_York:20201009T143000
DTSTAMP:20260421T124413
CREATED:20200924T155229Z
LAST-MODIFIED:20200924T155229Z
UID:10018258-1602248400-1602253800@newtonculture.org
SUMMARY:Newton Free Library presents: ELL Twentieth Century Women - Bridging Cultures/Breaking Barriers
DESCRIPTION:ELL Twentieth Century Women: Bridging Cultures/Breaking Barriers is a free conversation group on Zoom for high intermediate to advanced adult English learners. In this class\, we will examine and discuss the lives of 20th (and 21st) century women who challenged societal barriers in their pursuit of careers in fields as varied as athletics\, business\, government and law\, humanities\, medicine\, and the sciences. \nThe group meets on 8 Friday afternoons\, beginning on October 2\, 2020. \nLimited to 8 students. Online registration (required) begins September 10 at 9:00 am. \nWhen you register\, you sign up for all 8 Friday afternoon sessions. \nClick here to register.
URL:https://newtonculture.org/event/newton-free-library-presents-ell-twentieth-century-women-bridging-cultures-breaking-barriers/2020-10-09/
LOCATION:ONLINE\, United Kingdom\, E16 2DQ
CATEGORIES:Community Event,Culture and Education,Free Event
ORGANIZER;CN="Newton Free Library":MAILTO:admin@newtonfreelibrary.net
END:VEVENT
BEGIN:VEVENT
DTSTART;TZID=America/New_York:20201009T163000
DTEND;TZID=America/New_York:20201009T180000
DTSTAMP:20260421T124413
CREATED:20200917T192830Z
LAST-MODIFIED:20200917T192830Z
UID:10019183-1602261000-1602266400@newtonculture.org
SUMMARY:New Art Center online: Drawing\, Painting\, Collage GR 6-8
DESCRIPTION:New Art Live Online Learning – Weekly online class at designated class times. New Art faculty conduct a real-time class through Zoom video meetings. \n\n\nLonger class! Explore techniques of drawing\, painting and collage. The focus this semester will be on form and space – learning to make your work look 3-D and to show distance. Experiment with color\, shape and composition\, and learn how to use different art materials individually and together to create more sophisticated artworks. This class is excellent for all levels of experience. \nDates: Sep 25 – Dec 18\nDetails: Fridays\, 10 Sessions\nTimes: 4:30PM – 6:00PM\nVenue: Live Online Learning (Zoom)\nNotes: No class 11/27
URL:https://newtonculture.org/event/new-art-center-online-drawing-painting-collage-gr-6-8/2020-10-09/
LOCATION:Zoom
CATEGORIES:Art,Culture and Education,Family Friendly
ATTACH;FMTTYPE=image/jpeg:https://newtonculture.org/wp-content/uploads/2020/09/TCF20265.jpg
ORGANIZER;CN="New Art Center":MAILTO:info@newartcenter.org
END:VEVENT
END:VCALENDAR