BEGIN:VCALENDAR
VERSION:2.0
PRODID:-//Newton Cultural Alliance - ECPv6.13.2.1//NONSGML v1.0//EN
CALSCALE:GREGORIAN
METHOD:PUBLISH
X-ORIGINAL-URL:https://newtonculture.org
X-WR-CALDESC:Events for Newton Cultural Alliance
REFRESH-INTERVAL;VALUE=DURATION:PT1H
X-Robots-Tag:noindex
X-PUBLISHED-TTL:PT1H
BEGIN:VTIMEZONE
TZID:America/New_York
BEGIN:DAYLIGHT
TZOFFSETFROM:-0500
TZOFFSETTO:-0400
TZNAME:EDT
DTSTART:20200308T070000
END:DAYLIGHT
BEGIN:STANDARD
TZOFFSETFROM:-0400
TZOFFSETTO:-0500
TZNAME:EST
DTSTART:20201101T060000
END:STANDARD
END:VTIMEZONE
BEGIN:VEVENT
DTSTART;VALUE=DATE:20201014
DTEND;VALUE=DATE:20201015
DTSTAMP:20260421T124414
CREATED:20200330T171900Z
LAST-MODIFIED:20200406T152214Z
UID:10016097-1602633600-1602719999@newtonculture.org
SUMMARY:An online series on the history & nature of Jewish choral music
DESCRIPTION:These audio and video podcasts\, presented by Zamir Chorale of Boston\, can serve as an introduction to the field of Jewish Choral Music. But caveat lector\, these are not comprehensive; they provide only an introduction to the field. Readers may follow up with the many texts and websites that are listed elsewhere in this website: https://www.jewishchoralmusic.com/podcasts
URL:https://newtonculture.org/event/an-online-series-on-the-history-and-nature-of-jewish-choral-music/2020-10-14/
LOCATION:ONLINE\, United Kingdom\, E16 2DQ
CATEGORIES:Culture and Education
ATTACH;FMTTYPE=image/jpeg:https://newtonculture.org/wp-content/uploads/2020/03/JewishChoralMusic-homepage-1024x568-1.jpg
ORGANIZER;CN="Zamir Chorale of Boston":MAILTO:manager@zamir.org
END:VEVENT
BEGIN:VEVENT
DTSTART;VALUE=DATE:20201014
DTEND;VALUE=DATE:20201015
DTSTAMP:20260421T124414
CREATED:20200513T173621Z
LAST-MODIFIED:20200923T170754Z
UID:10018432-1602633600-1602719999@newtonculture.org
SUMMARY:Newton Art Association: Shelter in Art
DESCRIPTION:Shelter in Art is a virtual exhibition of work created by Newton Art Association members during the COVID-19 crisis. Click here to view this incredible exhibit online through October 31. \n 
URL:https://newtonculture.org/event/newton-art-association-shelter-in-art/2020-10-14/
LOCATION:ONLINE\, United Kingdom\, E16 2DQ
CATEGORIES:Art,Family Friendly,Free Event
ATTACH;FMTTYPE=image/jpeg:https://newtonculture.org/wp-content/uploads/2020/05/shelter-in-home-exhibition-768x495-1.jpg
ORGANIZER;CN="Newton Art Association":MAILTO:info@newtonartassociation.com
END:VEVENT
BEGIN:VEVENT
DTSTART;TZID=America/New_York:20201014T190000
DTEND;TZID=America/New_York:20201014T200000
DTSTAMP:20260421T124414
CREATED:20200917T184829Z
LAST-MODIFIED:20200917T184829Z
UID:10019177-1602702000-1602705600@newtonculture.org
SUMMARY:Newton Free Library presents: Decoding the News
DESCRIPTION:Learn the tools and tactics to stay informed about political\, election and pandemic details. Join David Wallace\, former business and tech reporter for The New York Times and Reuters\, and journalism adjunct lecturer at Boston University. He’ll cover six ways to get the facts you need\, without bias or hype\, when it matters most! Click here to sign up.
URL:https://newtonculture.org/event/newton-free-library-presents-decoding-the-news/
LOCATION:Zoom
CATEGORIES:Community Event,Culture and Education,Film and Media
ATTACH;FMTTYPE=image/png:https://newtonculture.org/wp-content/uploads/2020/09/10-14_Program_Decoding_the_News_image2.png
ORGANIZER;CN="Newton Free Library":MAILTO:admin@newtonfreelibrary.net
END:VEVENT
BEGIN:VEVENT
DTSTART;TZID=America/New_York:20201014T190000
DTEND;TZID=America/New_York:20201014T200000
DTSTAMP:20260421T124414
CREATED:20201001T135249Z
LAST-MODIFIED:20201001T135249Z
UID:10019258-1602702000-1602705600@newtonculture.org
SUMMARY:Newton Free Library online: Draw Your Own Comics!
DESCRIPTION:Come have fun while drawing your own comics! In this workshop\, students will play silly drawing games\, generate ideas for their own characters\, and start to write their own comic book stories. All levels of experience welcome! Workshop is run by Cathy G. Johnson\, Providence-based writer and author of the graphic novel THE BREAKAWAYS! Learn more at www.ComicArtEd.com! For tweens in grades 5 to 8. \nThis comic workshop is a lead up event to our author visit from Jerry Craft on Wed. 10/28.
URL:https://newtonculture.org/event/newton-free-library-online-draw-your-own-comics/
LOCATION:ONLINE\, United Kingdom\, E16 2DQ
CATEGORIES:Art,Family Friendly,Literary Arts
ATTACH;FMTTYPE=image/jpeg:https://newtonculture.org/wp-content/uploads/2020/10/1600101959.jpg
ORGANIZER;CN="Newton Free Library":MAILTO:admin@newtonfreelibrary.net
END:VEVENT
END:VCALENDAR