BEGIN:VCALENDAR
VERSION:2.0
PRODID:-//Newton Cultural Alliance - ECPv6.13.2.1//NONSGML v1.0//EN
CALSCALE:GREGORIAN
METHOD:PUBLISH
X-WR-CALNAME:Newton Cultural Alliance
X-ORIGINAL-URL:https://newtonculture.org
X-WR-CALDESC:Events for Newton Cultural Alliance
REFRESH-INTERVAL;VALUE=DURATION:PT1H
X-Robots-Tag:noindex
X-PUBLISHED-TTL:PT1H
BEGIN:VTIMEZONE
TZID:America/New_York
BEGIN:DAYLIGHT
TZOFFSETFROM:-0500
TZOFFSETTO:-0400
TZNAME:EDT
DTSTART:20200308T070000
END:DAYLIGHT
BEGIN:STANDARD
TZOFFSETFROM:-0400
TZOFFSETTO:-0500
TZNAME:EST
DTSTART:20201101T060000
END:STANDARD
END:VTIMEZONE
BEGIN:VEVENT
DTSTART;VALUE=DATE:20201017
DTEND;VALUE=DATE:20201018
DTSTAMP:20260421T151749
CREATED:20200330T171900Z
LAST-MODIFIED:20200406T152214Z
UID:10016100-1602892800-1602979199@newtonculture.org
SUMMARY:An online series on the history & nature of Jewish choral music
DESCRIPTION:These audio and video podcasts\, presented by Zamir Chorale of Boston\, can serve as an introduction to the field of Jewish Choral Music. But caveat lector\, these are not comprehensive; they provide only an introduction to the field. Readers may follow up with the many texts and websites that are listed elsewhere in this website: https://www.jewishchoralmusic.com/podcasts
URL:https://newtonculture.org/event/an-online-series-on-the-history-and-nature-of-jewish-choral-music/2020-10-17/
LOCATION:ONLINE\, United Kingdom\, E16 2DQ
CATEGORIES:Culture and Education
ATTACH;FMTTYPE=image/jpeg:https://newtonculture.org/wp-content/uploads/2020/03/JewishChoralMusic-homepage-1024x568-1.jpg
ORGANIZER;CN="Zamir Chorale of Boston":MAILTO:manager@zamir.org
END:VEVENT
BEGIN:VEVENT
DTSTART;VALUE=DATE:20201017
DTEND;VALUE=DATE:20201018
DTSTAMP:20260421T151749
CREATED:20200513T173621Z
LAST-MODIFIED:20200923T170754Z
UID:10018435-1602892800-1602979199@newtonculture.org
SUMMARY:Newton Art Association: Shelter in Art
DESCRIPTION:Shelter in Art is a virtual exhibition of work created by Newton Art Association members during the COVID-19 crisis. Click here to view this incredible exhibit online through October 31. \n 
URL:https://newtonculture.org/event/newton-art-association-shelter-in-art/2020-10-17/
LOCATION:ONLINE\, United Kingdom\, E16 2DQ
CATEGORIES:Art,Family Friendly,Free Event
ATTACH;FMTTYPE=image/jpeg:https://newtonculture.org/wp-content/uploads/2020/05/shelter-in-home-exhibition-768x495-1.jpg
ORGANIZER;CN="Newton Art Association":MAILTO:info@newtonartassociation.com
END:VEVENT
BEGIN:VEVENT
DTSTART;TZID=America/New_York:20201017T100000
DTEND;TZID=America/New_York:20201017T140000
DTSTAMP:20260421T151749
CREATED:20201001T153304Z
LAST-MODIFIED:20201001T153304Z
UID:10019277-1602928800-1602943200@newtonculture.org
SUMMARY:New Art Center: Intuitive Painting Workshop
DESCRIPTION:This workshop is for anyone/everyone. Starting with exercises to help free up creative energy\, we will dive into painting on large paper (~5’ x 5’) and explore the creative process\, creating individual and collaborative artworks. You will learn to listen to your intuition as you work in a supportive and comfortable space. All materials included. Please bring your lunch\, and wear your painting clothes. Visit website to register.
URL:https://newtonculture.org/event/new-art-center-intuitive-painting-workshop/
LOCATION:New Art Center\, 61 Washington Park\, Newton\, MA\, 02460\, United States
CATEGORIES:Art,Culture and Education,Visual Arts
ATTACH;FMTTYPE=image/jpeg:https://newtonculture.org/wp-content/uploads/2020/10/AWF20225.jpg
ORGANIZER;CN="New Art Center":MAILTO:info@newartcenter.org
END:VEVENT
BEGIN:VEVENT
DTSTART;TZID=America/New_York:20201017T100000
DTEND;TZID=America/New_York:20201017T160000
DTSTAMP:20260421T151749
CREATED:20200924T162559Z
LAST-MODIFIED:20200924T162559Z
UID:10018266-1602928800-1602950400@newtonculture.org
SUMMARY:Newton Free Library: Early Voting
DESCRIPTION:Vote Early In Person\nIf you are a registered voter in Newton\, you can vote early in person at the Newton Free Library’s Druker Auditorium\, every day starting on Saturday\, October 17  until Friday\, October 30\, 2020.  Voting will be open Monday through Friday 8:30 am to 5:00 pm; and Saturdays and Sundays 10:00 am to 4:00 pm. \nClick here to check if you’re registered to vote\, or view a sample ballot.
URL:https://newtonculture.org/event/newton-free-library-early-voting/2020-10-17/
LOCATION:Newton Free Library\, 330 Homer St\, Newton\, MA\, 02459\, United States
CATEGORIES:Community Event,Culture and Education,Free Event
ATTACH;FMTTYPE=image/jpeg:https://newtonculture.org/wp-content/uploads/2020/09/23-236678_graphic-freeuse-download-vote-transparent-election-national-voter.jpg
END:VEVENT
BEGIN:VEVENT
DTSTART;TZID=America/New_York:20201017T100000
DTEND;TZID=America/New_York:20201018T150000
DTSTAMP:20260421T151749
CREATED:20200923T174217Z
LAST-MODIFIED:20200923T174218Z
UID:10019252-1602928800-1603033200@newtonculture.org
SUMMARY:Historic Newton: 2020 Newton House Tour
DESCRIPTION:Historic Newton’s 2020 Tour Goes Virtual with a Special Edition!\nThrough talent\, fearlessness\, and marketing genius\, Maud Brodrick managed to build hundreds of homes in Newton and Wellesley in the 1920s and 1930s\, when few women worked in the field. Uncover this amazing\, barely known story through a look inside the homes she designed and learn about her lasting legacy in our special video tour and panel discussion about her groundbreaking work and how modern homeowners have preserved her vision. \nTickets are on sale now. Click here. The video tour and accompanying booklet to read online or download will be released to ticketholders on Saturday\, October 17 at 10 a.m. and the videos may be viewed anytime (and tickets may still be purchased) until the panel discussion takes place Sunday\, October 18 at 3 p.m. on Zoom. \nDetails: Tour videos will be released at 10 a.m. on Saturday\, October 17\, and available to view only through Sunday\, October 18. Ticket sales end on Sunday\, October 18 at noon. Panel discussion takes place at 3 p.m. on October 18. \nQuestions About the Tour? Reach Historic Newton at 617-796-1450. \nProceeds from the Tour support the work of Historic Newton\, encouraging exploration of Newton and the surrounding region within the broad context of American history\, through educational programs\, historical archives\, and storytelling.
URL:https://newtonculture.org/event/historic-newton-2020-newton-house-tour/
LOCATION:ZOOM
CATEGORIES:Culture and Education
ATTACH;FMTTYPE=image/jpeg:https://newtonculture.org/wp-content/uploads/2020/09/unnamed-2.jpg
END:VEVENT
BEGIN:VEVENT
DTSTART;TZID=America/New_York:20201017T130000
DTEND;TZID=America/New_York:20201017T134500
DTSTAMP:20260421T151749
CREATED:20200826T195444Z
LAST-MODIFIED:20200826T195444Z
UID:10019097-1602939600-1602942300@newtonculture.org
SUMMARY:All Newton Music School: Broadway Bound Online Class
DESCRIPTION:Actors will spend the Semester creating and exploring imaginative characters\, learning choreography\, and proper singing technique with director\, composer\, and playwright Kelvyn Koning; an experienced musical theatre educator. \nBroadway Bound will allow each actor to sing\, dance\, deliver lines\, and be part of a virtual theatrical ensemble which builds presence and self-confidence. \nCreative and engaging instructor Mr. Kelvyn will work with the young actors ideas to compose original music and scenes for each class as they prepare a virtual world premiere production! \nBefore filming\, the student will be provided with a Broadway Bound “Backstage” Box with all the costume pieces and props needed to film their scenes\, songs\, and choreography with flair! \nClick here for registration. \nAges 5-7 years\nSept. 12 to Jan. 16 – Saturdays: 1:00 – 1:45 pm \nAges 8-10 years\nSept. 10 to Jan. 7  – Thursday: 5:00 – 5:45 pm\nSept. 12 to Jan. 16 – Saturday: 1:45 – 2:30 pm
URL:https://newtonculture.org/event/all-newton-music-school-broadway-bound-online-class-2/2020-10-17/
LOCATION:ONLINE\, United Kingdom\, E16 2DQ
CATEGORIES:Art,Family Friendly,Music,Performing Arts
ATTACH;FMTTYPE=image/png:https://newtonculture.org/wp-content/uploads/2020/08/ScreenShot2020-08-11at7.03.56PM.png
END:VEVENT
BEGIN:VEVENT
DTSTART;TZID=America/New_York:20201017T130000
DTEND;TZID=America/New_York:20201017T143000
DTSTAMP:20260421T151749
CREATED:20200930T151024Z
LAST-MODIFIED:20200930T151024Z
UID:10018287-1602939600-1602945000@newtonculture.org
SUMMARY:Amherst Early Music online:
DESCRIPTION:Join us for AEM ONLINE classes each weekend! Register for any number of sessions – classes are $25 per session. Registration opens each Monday for the weekend classes! Click here for more information. \nSCHEDULE OCTOBER 10 & 11 (Eastern Daylight Time)\nSaturday\, October 10\n1:00 – 2:30 p.m. The Quest for Freedom with Matthias Maute\, recorder\n3:00 – 4:30 p.m. Bowing Technique in Action with Brent Wissick \nSunday\, October 11\n1:00 – 2:30 p.m. Unlocking the Secrets of Playing Fantastic English Country Dance Music with Emily O’Brien\, recorder\, and Karen Axelrod\, piano\n3:00 – 4:30 p.m. Sixteenth-Century Cathedral Instrumentalists in Spain: Duties and Abilities as seen through the Lerma Manuscript with Douglas Kirk \nSCHEDULE OCTOBER 17 & 18 (Eastern Daylight Time)\nSaturday\, October 17\n1:00 – 2:30 p.m. Shifting Gears: From 2 to 3 and Back Again with Zoe Weiss\n3:00 – 4:30 p.m. An Introduction to American Shapenote Music (with emphasis on The Sacred Harp) with Temmo Korisheli and Emily Eagen \nSunday\, October 18\n1:00 – 2:30 p.m. Härpffen\, Singen: Introduction to Harp Accompaniment for Medieval Song with Nancy Thym\n3:00 – 4:30 p.m. Corrette & Co. with Sally Merriman\, Baroque bassoon
URL:https://newtonculture.org/event/amherst-early-music-online-4/2020-10-17/
LOCATION:ONLINE\, United Kingdom\, E16 2DQ
CATEGORIES:Culture and Education,Music
ORGANIZER;CN="Amherst Early Music":MAILTO:info@amherstearlymusic.org
END:VEVENT
BEGIN:VEVENT
DTSTART;TZID=America/New_York:20201017T134500
DTEND;TZID=America/New_York:20201017T143000
DTSTAMP:20260421T151749
CREATED:20200826T195622Z
LAST-MODIFIED:20201001T153407Z
UID:10019116-1602942300-1602945000@newtonculture.org
SUMMARY:All Newton Music School: Broadway Bound Online Class
DESCRIPTION:Actors will spend the Semester creating and exploring imaginative characters\, learning choreography\, and proper singing technique with director\, composer\, and playwright Kelvyn Koning; an experienced musical theatre educator. \nBroadway Bound will allow each actor to sing\, dance\, deliver lines\, and be part of a virtual theatrical ensemble which builds presence and self-confidence. \nCreative and engaging instructor Mr. Kelvyn will work with the young actors ideas to compose original music and scenes for each class as they prepare a virtual world premiere production! \nBefore filming\, the student will be provided with a Broadway Bound “Backstage” Box with all the costume pieces and props needed to film their scenes\, songs\, and choreography with flair! \nClick here for registration. \nAges 5-7 years\nSept. 12 to Jan. 16 – Saturdays: 1:00 – 1:45 pm \nAges 8-10 years\nSept. 10 to Jan. 7  – Thursday: 5:00 – 5:45 pm\nSept. 12 to Jan. 16 – Saturday: 1:45 – 2:30 pm
URL:https://newtonculture.org/event/all-newton-music-school-broadway-bound-online-class-3/2020-10-17/
LOCATION:ONLINE\, United Kingdom\, E16 2DQ
CATEGORIES:Culture and Education,Family Friendly,Music,Performing Arts
ATTACH;FMTTYPE=image/png:https://newtonculture.org/wp-content/uploads/2020/08/ScreenShot2020-08-11at7.03.56PM.png
END:VEVENT
END:VCALENDAR