BEGIN:VCALENDAR
VERSION:2.0
PRODID:-//Newton Cultural Alliance - ECPv6.13.2.1//NONSGML v1.0//EN
CALSCALE:GREGORIAN
METHOD:PUBLISH
X-ORIGINAL-URL:https://newtonculture.org
X-WR-CALDESC:Events for Newton Cultural Alliance
REFRESH-INTERVAL;VALUE=DURATION:PT1H
X-Robots-Tag:noindex
X-PUBLISHED-TTL:PT1H
BEGIN:VTIMEZONE
TZID:America/New_York
BEGIN:DAYLIGHT
TZOFFSETFROM:-0500
TZOFFSETTO:-0400
TZNAME:EDT
DTSTART:20200308T070000
END:DAYLIGHT
BEGIN:STANDARD
TZOFFSETFROM:-0400
TZOFFSETTO:-0500
TZNAME:EST
DTSTART:20201101T060000
END:STANDARD
END:VTIMEZONE
BEGIN:VEVENT
DTSTART;VALUE=DATE:20201022
DTEND;VALUE=DATE:20201023
DTSTAMP:20260421T124413
CREATED:20200330T171900Z
LAST-MODIFIED:20200406T152214Z
UID:10016105-1603324800-1603411199@newtonculture.org
SUMMARY:An online series on the history & nature of Jewish choral music
DESCRIPTION:These audio and video podcasts\, presented by Zamir Chorale of Boston\, can serve as an introduction to the field of Jewish Choral Music. But caveat lector\, these are not comprehensive; they provide only an introduction to the field. Readers may follow up with the many texts and websites that are listed elsewhere in this website: https://www.jewishchoralmusic.com/podcasts
URL:https://newtonculture.org/event/an-online-series-on-the-history-and-nature-of-jewish-choral-music/2020-10-22/
LOCATION:ONLINE\, United Kingdom\, E16 2DQ
CATEGORIES:Culture and Education
ATTACH;FMTTYPE=image/jpeg:https://newtonculture.org/wp-content/uploads/2020/03/JewishChoralMusic-homepage-1024x568-1.jpg
ORGANIZER;CN="Zamir Chorale of Boston":MAILTO:manager@zamir.org
END:VEVENT
BEGIN:VEVENT
DTSTART;VALUE=DATE:20201022
DTEND;VALUE=DATE:20201023
DTSTAMP:20260421T124413
CREATED:20200513T173621Z
LAST-MODIFIED:20200923T170754Z
UID:10018440-1603324800-1603411199@newtonculture.org
SUMMARY:Newton Art Association: Shelter in Art
DESCRIPTION:Shelter in Art is a virtual exhibition of work created by Newton Art Association members during the COVID-19 crisis. Click here to view this incredible exhibit online through October 31. \n 
URL:https://newtonculture.org/event/newton-art-association-shelter-in-art/2020-10-22/
LOCATION:ONLINE\, United Kingdom\, E16 2DQ
CATEGORIES:Art,Family Friendly,Free Event
ATTACH;FMTTYPE=image/jpeg:https://newtonculture.org/wp-content/uploads/2020/05/shelter-in-home-exhibition-768x495-1.jpg
ORGANIZER;CN="Newton Art Association":MAILTO:info@newtonartassociation.com
END:VEVENT
BEGIN:VEVENT
DTSTART;TZID=America/New_York:20201022T083000
DTEND;TZID=America/New_York:20201022T170000
DTSTAMP:20260421T124413
CREATED:20200924T163210Z
LAST-MODIFIED:20200924T163210Z
UID:10018273-1603355400-1603386000@newtonculture.org
SUMMARY:Newton Free Library: Early Voting
DESCRIPTION:Vote Early In Person\nIf you are a registered voter in Newton\, you can vote early in person at the Newton Free Library’s Druker Auditorium\, every day starting on Saturday\, October 17  until Friday\, October 30\, 2020.  Voting will be open Monday through Friday 8:30 am to 5:00 pm; and Saturdays and Sundays 10:00 am to 4:00 pm. \nClick here to check if you’re registered to vote\, or view a sample ballot.
URL:https://newtonculture.org/event/newton-free-library-early-voting-2/2020-10-22/
LOCATION:Newton Free Library\, 330 Homer St\, Newton\, MA\, 02459\, United States
CATEGORIES:Community Event,Culture and Education,Family Friendly
ATTACH;FMTTYPE=image/jpeg:https://newtonculture.org/wp-content/uploads/2020/09/23-236678_graphic-freeuse-download-vote-transparent-election-national-voter.jpg
END:VEVENT
BEGIN:VEVENT
DTSTART;TZID=America/New_York:20201022T170000
DTEND;TZID=America/New_York:20201022T174500
DTSTAMP:20260421T124413
CREATED:20200826T195156Z
LAST-MODIFIED:20200826T195156Z
UID:10019080-1603386000-1603388700@newtonculture.org
SUMMARY:All Newton Music School: Broadway Bound Online Class
DESCRIPTION:Actors will spend the Semester creating and exploring imaginative characters\, learning choreography\, and proper singing technique with director\, composer\, and playwright Kelvyn Koning; an experienced musical theatre educator. \nBroadway Bound will allow each actor to sing\, dance\, deliver lines\, and be part of a virtual theatrical ensemble which builds presence and self-confidence. \nCreative and engaging instructor Mr. Kelvyn will work with the young actors ideas to compose original music and scenes for each class as they prepare a virtual world premiere production! \nBefore filming\, the student will be provided with a Broadway Bound “Backstage” Box with all the costume pieces and props needed to film their scenes\, songs\, and choreography with flair! \nClick here for registration. \nAges 5-7 years\nSept. 12 to Jan. 16 – Saturdays: 1:00 – 1:45 pm \nAges 8-10 years\nSept. 10 to Jan. 7  – Thursday: 5:00 – 5:45 pm\nSept. 12 to Jan. 16 – Saturday: 1:45 – 2:30 pm
URL:https://newtonculture.org/event/all-newton-music-school-broadway-bound-online-class/2020-10-22/
LOCATION:ONLINE\, United Kingdom\, E16 2DQ
CATEGORIES:Culture and Education,Family Friendly,Music,Performing Arts
ATTACH;FMTTYPE=image/png:https://newtonculture.org/wp-content/uploads/2020/08/ScreenShot2020-08-11at7.03.56PM.png
END:VEVENT
BEGIN:VEVENT
DTSTART;TZID=America/New_York:20201022T183000
DTEND;TZID=America/New_York:20201022T203000
DTSTAMP:20260421T124413
CREATED:20201007T151329Z
LAST-MODIFIED:20201007T151329Z
UID:10019287-1603391400-1603398600@newtonculture.org
SUMMARY:New Art Center: Gesture\, Color\, Painting
DESCRIPTION:This exciting class will bridge the methods of gesture drawing with abstract painting. Students will investigate intuitive mark-making as the base for an abstract painting\, and explore ways that color heightens the work. They will explore the relationship between line\, shape and color\, and look at art from the present and past to better understand the possibilities. Students will use both drawing materials and acrylic paint to create a series of works on canvas. See website for materials list.
URL:https://newtonculture.org/event/new-art-center-gesture-color-painting/2020-10-22/
LOCATION:New Art Center\, 61 Washington Park\, Newton\, MA\, 02460\, United States
CATEGORIES:Art,Culture and Education,Visual Arts
ATTACH;FMTTYPE=image/jpeg:https://newtonculture.org/wp-content/uploads/2020/10/ACF20248.jpg
ORGANIZER;CN="New Art Center":MAILTO:info@newartcenter.org
END:VEVENT
BEGIN:VEVENT
DTSTART;TZID=America/New_York:20201022T200000
DTEND;TZID=America/New_York:20201022T220000
DTSTAMP:20260421T124413
CREATED:20200914T155244Z
LAST-MODIFIED:20200914T160309Z
UID:10019154-1603396800-1603404000@newtonculture.org
SUMMARY:Pro Arte's Fall Salon Series: Salon 3
DESCRIPTION:The Fall Salon Series takes place entirely online. Each of these six concerts premieres at 8pm on Thursday night and will be available to watch through the following Sunday. On the night of the premiere\, the performance will also be followed by a live Q&A session with that night’s musicians. Tickets for each performance are $20 for an individual or $35 for families. Click here to purchase tickets. \nSalon 3: \nPlease join the principal winds of the Pro Arte Chamber Orchestra for a fabulous program of quintet music\, all by American composers. We are so excited about this concert! We will travel through a couple of standards\, the gorgeous Summer Music by Samuel Barber\, the perfectly danceable Partita by Irving Fine\, and also visit a couple of pieces that may be less familiar. Umoja\, meaning unity\, written by one of our top young American composers\, Valerie Coleman\, and is more timely than ever. We go back in time a bit with an arrangement of Summerland by the formidable and under performed William Grant Still\, originally written for solo piano in 1936. And we couldn’t resist throwing in a nod to Paris with some Gershwin just for fun\, because who doesn’t need some fun these days? We hope you’ll enjoy the journey as much as we will.\n\n\nBARBER Summer Music\, Op. 31\nFINE Partita\nValerie COLEMAN Umoja\nSTILL Summerland\nGERSHWIN An American in Paris\n\n\nMUSICIANS\nAnn Bobo\, flute\nNancy Dimock\, oboe\nIan Greitzer\, clarinet\nRon Haroutunian\, bassoon\nRobert Marlatt\, horn
URL:https://newtonculture.org/event/pro-artes-fall-salon-series-salon-3/
LOCATION:ONLINE\, United Kingdom\, E16 2DQ
CATEGORIES:Community Event,Culture and Education,Music
END:VEVENT
END:VCALENDAR