BEGIN:VCALENDAR
VERSION:2.0
PRODID:-//Newton Cultural Alliance - ECPv6.13.2.1//NONSGML v1.0//EN
CALSCALE:GREGORIAN
METHOD:PUBLISH
X-ORIGINAL-URL:https://newtonculture.org
X-WR-CALDESC:Events for Newton Cultural Alliance
REFRESH-INTERVAL;VALUE=DURATION:PT1H
X-Robots-Tag:noindex
X-PUBLISHED-TTL:PT1H
BEGIN:VTIMEZONE
TZID:America/New_York
BEGIN:DAYLIGHT
TZOFFSETFROM:-0500
TZOFFSETTO:-0400
TZNAME:EDT
DTSTART:20200308T070000
END:DAYLIGHT
BEGIN:STANDARD
TZOFFSETFROM:-0400
TZOFFSETTO:-0500
TZNAME:EST
DTSTART:20201101T060000
END:STANDARD
END:VTIMEZONE
BEGIN:VEVENT
DTSTART;VALUE=DATE:20201025
DTEND;VALUE=DATE:20201026
DTSTAMP:20260421T124414
CREATED:20200330T171900Z
LAST-MODIFIED:20200406T152214Z
UID:10016108-1603584000-1603670399@newtonculture.org
SUMMARY:An online series on the history & nature of Jewish choral music
DESCRIPTION:These audio and video podcasts\, presented by Zamir Chorale of Boston\, can serve as an introduction to the field of Jewish Choral Music. But caveat lector\, these are not comprehensive; they provide only an introduction to the field. Readers may follow up with the many texts and websites that are listed elsewhere in this website: https://www.jewishchoralmusic.com/podcasts
URL:https://newtonculture.org/event/an-online-series-on-the-history-and-nature-of-jewish-choral-music/2020-10-25/
LOCATION:ONLINE\, United Kingdom\, E16 2DQ
CATEGORIES:Culture and Education
ATTACH;FMTTYPE=image/jpeg:https://newtonculture.org/wp-content/uploads/2020/03/JewishChoralMusic-homepage-1024x568-1.jpg
ORGANIZER;CN="Zamir Chorale of Boston":MAILTO:manager@zamir.org
END:VEVENT
BEGIN:VEVENT
DTSTART;VALUE=DATE:20201025
DTEND;VALUE=DATE:20201026
DTSTAMP:20260421T124414
CREATED:20200513T173621Z
LAST-MODIFIED:20200923T170754Z
UID:10018443-1603584000-1603670399@newtonculture.org
SUMMARY:Newton Art Association: Shelter in Art
DESCRIPTION:Shelter in Art is a virtual exhibition of work created by Newton Art Association members during the COVID-19 crisis. Click here to view this incredible exhibit online through October 31. \n 
URL:https://newtonculture.org/event/newton-art-association-shelter-in-art/2020-10-25/
LOCATION:ONLINE\, United Kingdom\, E16 2DQ
CATEGORIES:Art,Family Friendly,Free Event
ATTACH;FMTTYPE=image/jpeg:https://newtonculture.org/wp-content/uploads/2020/05/shelter-in-home-exhibition-768x495-1.jpg
ORGANIZER;CN="Newton Art Association":MAILTO:info@newtonartassociation.com
END:VEVENT
BEGIN:VEVENT
DTSTART;VALUE=DATE:20201025
DTEND;VALUE=DATE:20201026
DTSTAMP:20260421T124414
CREATED:20201020T161737Z
LAST-MODIFIED:20201020T161737Z
UID:10018461-1603584000-1603670399@newtonculture.org
SUMMARY:Amherst Early Music presents: CityRecorder Global
DESCRIPTION:A 2-day online workshop for recorders\, curated by Valerie Horst and Wendy Powers\, with 3 classes per day and a concert on Saturday\, and Music & Instrument Discussion with Eric Haas on Sunday. Join us from wherever you are in the world! \nClick here to view the full schedule of events and sign up.
URL:https://newtonculture.org/event/amherst-early-music-presents-cityrecorder-global/2020-10-25/
LOCATION:ONLINE\, United Kingdom\, E16 2DQ
CATEGORIES:Culture and Education,Music
ORGANIZER;CN="Amherst Early Music":MAILTO:info@amherstearlymusic.org
END:VEVENT
BEGIN:VEVENT
DTSTART;VALUE=DATE:20201025
DTEND;VALUE=DATE:20201026
DTSTAMP:20260421T124414
CREATED:20201023T145728Z
LAST-MODIFIED:20201023T145728Z
UID:10018475-1603584000-1603670399@newtonculture.org
SUMMARY:Scandinavian Cultural Center online: "Trespassing Bergman" Screening
DESCRIPTION:Join the Scandinavian Cultural Center for an online screening of the 2013 documentary Trespassing Bergman\, available throughout the month of October. \nSwedish film director Ingmar Bergman built his house in the mid 1960’s\, choosing to withdraw from Stockholm\, to an island in the Baltic Sea. Throughout his life\, the exact location of the house was a well-guarded secret. Here the demon director would live and shoot some of his seminal films until his death in 2007. \n“Trespassing Bergman” takes you to Bergman’s mystical home in the company of great directors such as Michael Haneke\, Claire Denis and the aforementioned Iñárritu. “Trespassing Bergman” tells the story of Ingmar Bergman\, his island and some of his most central films. \nPreviously unseen\, behind-the-scenes\, footage from the making of Bergman’s films are mixed with interviews shot at Fårö and around the world. Filmmakers such as Woody Allen\, Lars von Trier\, Holly Hunter\, Ang Lee and Wes Anderson talk about the impact that films ranging from “Summer with Monika” (1953)\,“Persona” (1966) to “Fanny and Alexander” (1982) have had on their lives and carriers. \nClick here to learn more and sign up.
URL:https://newtonculture.org/event/scandinavian-cultural-center-online-trespassing-bergman-screening/2020-10-25/
LOCATION:ONLINE\, United Kingdom\, E16 2DQ
CATEGORIES:Culture and Education,Film and Media
ATTACH;FMTTYPE=image/jpeg:https://newtonculture.org/wp-content/uploads/2020/10/Tresspassing2-600x266-1.jpg
END:VEVENT
BEGIN:VEVENT
DTSTART;TZID=America/New_York:20201025T100000
DTEND;TZID=America/New_York:20201025T160000
DTSTAMP:20260421T124414
CREATED:20200924T162559Z
LAST-MODIFIED:20200924T162559Z
UID:10018269-1603620000-1603641600@newtonculture.org
SUMMARY:Newton Free Library: Early Voting
DESCRIPTION:Vote Early In Person\nIf you are a registered voter in Newton\, you can vote early in person at the Newton Free Library’s Druker Auditorium\, every day starting on Saturday\, October 17  until Friday\, October 30\, 2020.  Voting will be open Monday through Friday 8:30 am to 5:00 pm; and Saturdays and Sundays 10:00 am to 4:00 pm. \nClick here to check if you’re registered to vote\, or view a sample ballot.
URL:https://newtonculture.org/event/newton-free-library-early-voting/2020-10-25/
LOCATION:Newton Free Library\, 330 Homer St\, Newton\, MA\, 02459\, United States
CATEGORIES:Community Event,Culture and Education,Free Event
ATTACH;FMTTYPE=image/jpeg:https://newtonculture.org/wp-content/uploads/2020/09/23-236678_graphic-freeuse-download-vote-transparent-election-national-voter.jpg
END:VEVENT
END:VCALENDAR