BEGIN:VCALENDAR
VERSION:2.0
PRODID:-//Newton Cultural Alliance - ECPv6.13.2.1//NONSGML v1.0//EN
CALSCALE:GREGORIAN
METHOD:PUBLISH
X-ORIGINAL-URL:https://newtonculture.org
X-WR-CALDESC:Events for Newton Cultural Alliance
REFRESH-INTERVAL;VALUE=DURATION:PT1H
X-Robots-Tag:noindex
X-PUBLISHED-TTL:PT1H
BEGIN:VTIMEZONE
TZID:America/New_York
BEGIN:DAYLIGHT
TZOFFSETFROM:-0500
TZOFFSETTO:-0400
TZNAME:EDT
DTSTART:20200308T070000
END:DAYLIGHT
BEGIN:STANDARD
TZOFFSETFROM:-0400
TZOFFSETTO:-0500
TZNAME:EST
DTSTART:20201101T060000
END:STANDARD
END:VTIMEZONE
BEGIN:VEVENT
DTSTART;VALUE=DATE:20201112
DTEND;VALUE=DATE:20201113
DTSTAMP:20260421T112532
CREATED:20200330T171900Z
LAST-MODIFIED:20200406T152214Z
UID:10016126-1605139200-1605225599@newtonculture.org
SUMMARY:An online series on the history & nature of Jewish choral music
DESCRIPTION:These audio and video podcasts\, presented by Zamir Chorale of Boston\, can serve as an introduction to the field of Jewish Choral Music. But caveat lector\, these are not comprehensive; they provide only an introduction to the field. Readers may follow up with the many texts and websites that are listed elsewhere in this website: https://www.jewishchoralmusic.com/podcasts
URL:https://newtonculture.org/event/an-online-series-on-the-history-and-nature-of-jewish-choral-music/2020-11-12/
LOCATION:ONLINE\, United Kingdom\, E16 2DQ
CATEGORIES:Culture and Education
ATTACH;FMTTYPE=image/jpeg:https://newtonculture.org/wp-content/uploads/2020/03/JewishChoralMusic-homepage-1024x568-1.jpg
ORGANIZER;CN="Zamir Chorale of Boston":MAILTO:manager@zamir.org
END:VEVENT
BEGIN:VEVENT
DTSTART;TZID=America/New_York:20201112T170000
DTEND;TZID=America/New_York:20201112T174500
DTSTAMP:20260421T112532
CREATED:20200826T195156Z
LAST-MODIFIED:20200826T195156Z
UID:10019083-1605200400-1605203100@newtonculture.org
SUMMARY:All Newton Music School: Broadway Bound Online Class
DESCRIPTION:Actors will spend the Semester creating and exploring imaginative characters\, learning choreography\, and proper singing technique with director\, composer\, and playwright Kelvyn Koning; an experienced musical theatre educator. \nBroadway Bound will allow each actor to sing\, dance\, deliver lines\, and be part of a virtual theatrical ensemble which builds presence and self-confidence. \nCreative and engaging instructor Mr. Kelvyn will work with the young actors ideas to compose original music and scenes for each class as they prepare a virtual world premiere production! \nBefore filming\, the student will be provided with a Broadway Bound “Backstage” Box with all the costume pieces and props needed to film their scenes\, songs\, and choreography with flair! \nClick here for registration. \nAges 5-7 years\nSept. 12 to Jan. 16 – Saturdays: 1:00 – 1:45 pm \nAges 8-10 years\nSept. 10 to Jan. 7  – Thursday: 5:00 – 5:45 pm\nSept. 12 to Jan. 16 – Saturday: 1:45 – 2:30 pm
URL:https://newtonculture.org/event/all-newton-music-school-broadway-bound-online-class/2020-11-12/
LOCATION:ONLINE\, United Kingdom\, E16 2DQ
CATEGORIES:Culture and Education,Family Friendly,Music,Performing Arts
ATTACH;FMTTYPE=image/png:https://newtonculture.org/wp-content/uploads/2020/08/ScreenShot2020-08-11at7.03.56PM.png
END:VEVENT
BEGIN:VEVENT
DTSTART;TZID=America/New_York:20201112T183000
DTEND;TZID=America/New_York:20201112T203000
DTSTAMP:20260421T112532
CREATED:20201007T151329Z
LAST-MODIFIED:20201007T151329Z
UID:10019290-1605205800-1605213000@newtonculture.org
SUMMARY:New Art Center: Gesture\, Color\, Painting
DESCRIPTION:This exciting class will bridge the methods of gesture drawing with abstract painting. Students will investigate intuitive mark-making as the base for an abstract painting\, and explore ways that color heightens the work. They will explore the relationship between line\, shape and color\, and look at art from the present and past to better understand the possibilities. Students will use both drawing materials and acrylic paint to create a series of works on canvas. See website for materials list.
URL:https://newtonculture.org/event/new-art-center-gesture-color-painting/2020-11-12/
LOCATION:New Art Center\, 61 Washington Park\, Newton\, MA\, 02460\, United States
CATEGORIES:Art,Culture and Education,Visual Arts
ATTACH;FMTTYPE=image/jpeg:https://newtonculture.org/wp-content/uploads/2020/10/ACF20248.jpg
ORGANIZER;CN="New Art Center":MAILTO:info@newartcenter.org
END:VEVENT
BEGIN:VEVENT
DTSTART;TZID=America/New_York:20201112T190000
DTEND;TZID=America/New_York:20201112T210000
DTSTAMP:20260421T112532
CREATED:20201026T163153Z
LAST-MODIFIED:20201026T163153Z
UID:10018488-1605207600-1605214800@newtonculture.org
SUMMARY:Newton Art Association: Online Artists' Demos
DESCRIPTION:Watch Artists Work!\nThe NAA hosts eight artists each year who share their media\, message\, and skills.\nFall and spring demos are on Thursday evenings; winter demos are on Sunday afternoons. This year some demos will be virtual. Click on the links below on each demo to get zoom link (will be provided a few days before day of demo). \nUPCOMING DEMOS | CLICK ON LINK FOR MORE INFO\nThursday\, November 12\, 7-9 p.m. | James C. Varnum: Mixed Media\nSunday\, December 6\, 2-4 p.m. | Janet Schwartz: Pastel\nSunday\, January 10\, 2021\, 2-4 p.m. | Adria Arch: Printing for Painters \nAll are free and open to the public.
URL:https://newtonculture.org/event/newton-art-association-online-artists-demos/2020-11-12/
LOCATION:ONLINE\, United Kingdom\, E16 2DQ
CATEGORIES:Art,Culture and Education,Visual Arts
ATTACH;FMTTYPE=image/png:https://newtonculture.org/wp-content/uploads/2019/11/10.png
ORGANIZER;CN="Newton Art Association":MAILTO:info@newtonartassociation.com
END:VEVENT
END:VCALENDAR