BEGIN:VCALENDAR
VERSION:2.0
PRODID:-//Newton Cultural Alliance - ECPv6.13.2.1//NONSGML v1.0//EN
CALSCALE:GREGORIAN
METHOD:PUBLISH
X-ORIGINAL-URL:https://newtonculture.org
X-WR-CALDESC:Events for Newton Cultural Alliance
REFRESH-INTERVAL;VALUE=DURATION:PT1H
X-Robots-Tag:noindex
X-PUBLISHED-TTL:PT1H
BEGIN:VTIMEZONE
TZID:America/New_York
BEGIN:DAYLIGHT
TZOFFSETFROM:-0500
TZOFFSETTO:-0400
TZNAME:EDT
DTSTART:20200308T070000
END:DAYLIGHT
BEGIN:STANDARD
TZOFFSETFROM:-0400
TZOFFSETTO:-0500
TZNAME:EST
DTSTART:20201101T060000
END:STANDARD
END:VTIMEZONE
BEGIN:VEVENT
DTSTART;VALUE=DATE:20201114
DTEND;VALUE=DATE:20201115
DTSTAMP:20260421T112533
CREATED:20200330T171900Z
LAST-MODIFIED:20200406T152214Z
UID:10016128-1605312000-1605398399@newtonculture.org
SUMMARY:An online series on the history & nature of Jewish choral music
DESCRIPTION:These audio and video podcasts\, presented by Zamir Chorale of Boston\, can serve as an introduction to the field of Jewish Choral Music. But caveat lector\, these are not comprehensive; they provide only an introduction to the field. Readers may follow up with the many texts and websites that are listed elsewhere in this website: https://www.jewishchoralmusic.com/podcasts
URL:https://newtonculture.org/event/an-online-series-on-the-history-and-nature-of-jewish-choral-music/2020-11-14/
LOCATION:ONLINE\, United Kingdom\, E16 2DQ
CATEGORIES:Culture and Education
ATTACH;FMTTYPE=image/jpeg:https://newtonculture.org/wp-content/uploads/2020/03/JewishChoralMusic-homepage-1024x568-1.jpg
ORGANIZER;CN="Zamir Chorale of Boston":MAILTO:manager@zamir.org
END:VEVENT
BEGIN:VEVENT
DTSTART;VALUE=DATE:20201114
DTEND;VALUE=DATE:20201115
DTSTAMP:20260421T112533
CREATED:20201113T151832Z
LAST-MODIFIED:20201113T151832Z
UID:10018566-1605312000-1605398399@newtonculture.org
SUMMARY:SCC Virtual Screening: Pelle the Conqueror
DESCRIPTION:Join us for a 30th anniversary remastered version screening of Pelle the Conqueror. The film won the Palme d’Or at the 1988 Cannes Film Festival The film also won the Academy Award for Best Foreign Language Film\, 1988; it was submitted to the Academy by the Danish government\, giving Denmark its second consecutive win after Babette’s Feast. \nLasse\, an elderly and widowed farmer\, and his young son Pelle\, join a boat-load of immigrants to escape from impoverished rural Sweden to Denmark’s Baltic island of Bornholm. They are employed at a large farm in Denmark\, where they are treated as the lowest of the low. It is ultimately their loving relationship which sustains them through a difficult year. \nThe film is 150 minutes\, and will be available to watch online from Friday\, November 13th until Friday\, December 11th. Click here to watch the film’s trailer and learn more about how to watch.
URL:https://newtonculture.org/event/scc-virtual-screening-pelle-the-conqueror/2020-11-14/
LOCATION:ONLINE\, United Kingdom\, E16 2DQ
CATEGORIES:Community Event,Culture and Education,Film and Media
ATTACH;FMTTYPE=image/jpeg:https://newtonculture.org/wp-content/uploads/2020/11/Pelle-the-Conqueror_gallery-6-600x266-1.jpg
END:VEVENT
BEGIN:VEVENT
DTSTART;TZID=America/New_York:20201114T080000
DTEND;TZID=America/New_York:20201114T170000
DTSTAMP:20260421T112533
CREATED:20201023T145227Z
LAST-MODIFIED:20201023T145227Z
UID:10018464-1605340800-1605373200@newtonculture.org
SUMMARY:Newton Theatre Kids presents: Fall Workshop Series
DESCRIPTION:Newton Theatre Kids is proud to present our Fall Workshop Series! These one-time-only virtual workshops are the perfect opportunity for the young performers in your life to experiment with new types of theatre\, connect with peers\, and flex their creative muscles. With topics ranging from Shakespeare to Musical Theatre to 10 Minute Plays and classes available for students in grades 2-12\, we are thrilled to continue providing a variety of outlets to engage your children! \nTo learn more about each workshop and to register\, click here.
URL:https://newtonculture.org/event/newton-theatre-kids-presents-fall-workshop-series/2020-11-14/
LOCATION:ONLINE\, United Kingdom\, E16 2DQ
CATEGORIES:Culture and Education,Performing Arts
ATTACH;FMTTYPE=image/png:https://newtonculture.org/wp-content/uploads/2020/10/newton-theatre-kids-summer-intensive-series-5_orig.png
ORGANIZER;CN="Newton Theatre Company":MAILTO:info@newtontheatrecompany.com
END:VEVENT
BEGIN:VEVENT
DTSTART;TZID=America/New_York:20201114T100000
DTEND;TZID=America/New_York:20201114T140000
DTSTAMP:20260421T112533
CREATED:20201001T151925Z
LAST-MODIFIED:20201001T151925Z
UID:10019272-1605348000-1605362400@newtonculture.org
SUMMARY:New Art Center: Painting Workshop - From Nature to Abstraction
DESCRIPTION:Bring nature inside to inspire drawing and abstract painting! Students will begin with a loose drawing of an object found in nature to use as a base for an abstract painting. They will focus on using limited color\, and also learn about abstract acrylic artists who explore the relationship of drawing and painting. See website for materials list\, and bring a lunch.
URL:https://newtonculture.org/event/new-art-center-painting-workshop-from-nature-to-abstraction/
LOCATION:New Art Center\, 61 Washington Park\, Newton\, MA\, 02460\, United States
CATEGORIES:Art,Culture and Education,Visual Arts
ATTACH;FMTTYPE=image/jpeg:https://newtonculture.org/wp-content/uploads/2020/10/AWF20230.jpg
ORGANIZER;CN="New Art Center":MAILTO:info@newartcenter.org
END:VEVENT
BEGIN:VEVENT
DTSTART;TZID=America/New_York:20201114T130000
DTEND;TZID=America/New_York:20201114T134500
DTSTAMP:20260421T112533
CREATED:20200826T195444Z
LAST-MODIFIED:20200826T195444Z
UID:10019101-1605358800-1605361500@newtonculture.org
SUMMARY:All Newton Music School: Broadway Bound Online Class
DESCRIPTION:Actors will spend the Semester creating and exploring imaginative characters\, learning choreography\, and proper singing technique with director\, composer\, and playwright Kelvyn Koning; an experienced musical theatre educator. \nBroadway Bound will allow each actor to sing\, dance\, deliver lines\, and be part of a virtual theatrical ensemble which builds presence and self-confidence. \nCreative and engaging instructor Mr. Kelvyn will work with the young actors ideas to compose original music and scenes for each class as they prepare a virtual world premiere production! \nBefore filming\, the student will be provided with a Broadway Bound “Backstage” Box with all the costume pieces and props needed to film their scenes\, songs\, and choreography with flair! \nClick here for registration. \nAges 5-7 years\nSept. 12 to Jan. 16 – Saturdays: 1:00 – 1:45 pm \nAges 8-10 years\nSept. 10 to Jan. 7  – Thursday: 5:00 – 5:45 pm\nSept. 12 to Jan. 16 – Saturday: 1:45 – 2:30 pm
URL:https://newtonculture.org/event/all-newton-music-school-broadway-bound-online-class-2/2020-11-14/
LOCATION:ONLINE\, United Kingdom\, E16 2DQ
CATEGORIES:Art,Family Friendly,Music,Performing Arts
ATTACH;FMTTYPE=image/png:https://newtonculture.org/wp-content/uploads/2020/08/ScreenShot2020-08-11at7.03.56PM.png
END:VEVENT
BEGIN:VEVENT
DTSTART;TZID=America/New_York:20201114T130000
DTEND;TZID=America/New_York:20201114T160000
DTSTAMP:20260421T112533
CREATED:20201001T155051Z
LAST-MODIFIED:20201001T155051Z
UID:10019282-1605358800-1605369600@newtonculture.org
SUMMARY:New Art Center online: The Collaged Landscape Workshop
DESCRIPTION:New Art Live Online Learning – Weekly online class at designated class times. New Art faculty conduct a real-time class through Zoom video meetings. \n\nUsing collage can really improve your design and understanding of the landscape. It is also a wonderful way of creating a beautiful work of art using unconventional materials. Working online live with Jill Pottle\, one week will focus on drawn and painted forests\, and the other on collaged cities. In this 2-session workshop\, students will use found materials (magazines\, decorative papers and old books\, etc.) for shape\, value\, color\, and texture as they create a work of art. In addition\, students will make their own collage materials to use. This class will be freeing\, expressive\, and fun. All levels are welcome. See website for materials list.
URL:https://newtonculture.org/event/new-art-center-online-the-collaged-landscape-workshop/2020-11-14/
LOCATION:ONLINE\, United Kingdom\, E16 2DQ
CATEGORIES:Art,Culture and Education,Visual Arts
ATTACH;FMTTYPE=image/jpeg:https://newtonculture.org/wp-content/uploads/2020/10/AWF20220.jpg
ORGANIZER;CN="New Art Center":MAILTO:info@newartcenter.org
END:VEVENT
BEGIN:VEVENT
DTSTART;TZID=America/New_York:20201114T134500
DTEND;TZID=America/New_York:20201114T143000
DTSTAMP:20260421T112533
CREATED:20200826T195622Z
LAST-MODIFIED:20201001T153407Z
UID:10019120-1605361500-1605364200@newtonculture.org
SUMMARY:All Newton Music School: Broadway Bound Online Class
DESCRIPTION:Actors will spend the Semester creating and exploring imaginative characters\, learning choreography\, and proper singing technique with director\, composer\, and playwright Kelvyn Koning; an experienced musical theatre educator. \nBroadway Bound will allow each actor to sing\, dance\, deliver lines\, and be part of a virtual theatrical ensemble which builds presence and self-confidence. \nCreative and engaging instructor Mr. Kelvyn will work with the young actors ideas to compose original music and scenes for each class as they prepare a virtual world premiere production! \nBefore filming\, the student will be provided with a Broadway Bound “Backstage” Box with all the costume pieces and props needed to film their scenes\, songs\, and choreography with flair! \nClick here for registration. \nAges 5-7 years\nSept. 12 to Jan. 16 – Saturdays: 1:00 – 1:45 pm \nAges 8-10 years\nSept. 10 to Jan. 7  – Thursday: 5:00 – 5:45 pm\nSept. 12 to Jan. 16 – Saturday: 1:45 – 2:30 pm
URL:https://newtonculture.org/event/all-newton-music-school-broadway-bound-online-class-3/2020-11-14/
LOCATION:ONLINE\, United Kingdom\, E16 2DQ
CATEGORIES:Culture and Education,Family Friendly,Music,Performing Arts
ATTACH;FMTTYPE=image/png:https://newtonculture.org/wp-content/uploads/2020/08/ScreenShot2020-08-11at7.03.56PM.png
END:VEVENT
END:VCALENDAR