BEGIN:VCALENDAR
VERSION:2.0
PRODID:-//Newton Cultural Alliance - ECPv6.13.2.1//NONSGML v1.0//EN
CALSCALE:GREGORIAN
METHOD:PUBLISH
X-ORIGINAL-URL:https://newtonculture.org
X-WR-CALDESC:Events for Newton Cultural Alliance
REFRESH-INTERVAL;VALUE=DURATION:PT1H
X-Robots-Tag:noindex
X-PUBLISHED-TTL:PT1H
BEGIN:VTIMEZONE
TZID:America/New_York
BEGIN:DAYLIGHT
TZOFFSETFROM:-0500
TZOFFSETTO:-0400
TZNAME:EDT
DTSTART:20200308T070000
END:DAYLIGHT
BEGIN:STANDARD
TZOFFSETFROM:-0400
TZOFFSETTO:-0500
TZNAME:EST
DTSTART:20201101T060000
END:STANDARD
END:VTIMEZONE
BEGIN:VEVENT
DTSTART;VALUE=DATE:20201121
DTEND;VALUE=DATE:20201122
DTSTAMP:20260421T114617
CREATED:20200330T171900Z
LAST-MODIFIED:20200406T152214Z
UID:10016135-1605916800-1606003199@newtonculture.org
SUMMARY:An online series on the history & nature of Jewish choral music
DESCRIPTION:These audio and video podcasts\, presented by Zamir Chorale of Boston\, can serve as an introduction to the field of Jewish Choral Music. But caveat lector\, these are not comprehensive; they provide only an introduction to the field. Readers may follow up with the many texts and websites that are listed elsewhere in this website: https://www.jewishchoralmusic.com/podcasts
URL:https://newtonculture.org/event/an-online-series-on-the-history-and-nature-of-jewish-choral-music/2020-11-21/
LOCATION:ONLINE\, United Kingdom\, E16 2DQ
CATEGORIES:Culture and Education
ATTACH;FMTTYPE=image/jpeg:https://newtonculture.org/wp-content/uploads/2020/03/JewishChoralMusic-homepage-1024x568-1.jpg
ORGANIZER;CN="Zamir Chorale of Boston":MAILTO:manager@zamir.org
END:VEVENT
BEGIN:VEVENT
DTSTART;VALUE=DATE:20201121
DTEND;VALUE=DATE:20201122
DTSTAMP:20260421T114617
CREATED:20200918T140042Z
LAST-MODIFIED:20200918T140042Z
UID:10019196-1605916800-1606003199@newtonculture.org
SUMMARY:Boston Ballet presents: Forsythe Elements
DESCRIPTION:From new choreographic voices to narratives you know by heart\, enjoy live dance like you have never seen it before. Dance where you are with Boston Ballet’s first-ever virtual season BB@YourHome; six programs that feature fresh creations\, signature works\, and classical ballet favorites captured live in-studio and streamed directly to you. A digital subscription allows you to enjoy each production with your entire household. With each subscription\, you support our dancers\, fuel new art-making\, and invest in Boston Ballet’s future. Subscribe today\, or click here to learn more about virtual performances. \nForsythe Elements\nNovember 19 – 29 \nJoin choreographic genius William Forsythe for an in-depth look at his incredible work\, past and present. With live-captured excerpts from our studio\, Forsythe personally leads a conversation on dance\, music\, form\, and function with Boston Ballet dancers\, encouraging us all to think physically.
URL:https://newtonculture.org/event/boston-ballet-presents-forsythe-elements/2020-11-21/
LOCATION:ONLINE\, United Kingdom\, E16 2DQ
CATEGORIES:Culture and Education,Performing Arts
ATTACH;FMTTYPE=image/jpeg:https://newtonculture.org/wp-content/uploads/2020/09/perf-large_FY21_BBatyourhome.jpeg
ORGANIZER;CN="Boston Ballet School":MAILTO:school@bostonballet.org
END:VEVENT
BEGIN:VEVENT
DTSTART;VALUE=DATE:20201121
DTEND;VALUE=DATE:20201122
DTSTAMP:20260421T114617
CREATED:20201113T151832Z
LAST-MODIFIED:20201113T151832Z
UID:10018573-1605916800-1606003199@newtonculture.org
SUMMARY:SCC Virtual Screening: Pelle the Conqueror
DESCRIPTION:Join us for a 30th anniversary remastered version screening of Pelle the Conqueror. The film won the Palme d’Or at the 1988 Cannes Film Festival The film also won the Academy Award for Best Foreign Language Film\, 1988; it was submitted to the Academy by the Danish government\, giving Denmark its second consecutive win after Babette’s Feast. \nLasse\, an elderly and widowed farmer\, and his young son Pelle\, join a boat-load of immigrants to escape from impoverished rural Sweden to Denmark’s Baltic island of Bornholm. They are employed at a large farm in Denmark\, where they are treated as the lowest of the low. It is ultimately their loving relationship which sustains them through a difficult year. \nThe film is 150 minutes\, and will be available to watch online from Friday\, November 13th until Friday\, December 11th. Click here to watch the film’s trailer and learn more about how to watch.
URL:https://newtonculture.org/event/scc-virtual-screening-pelle-the-conqueror/2020-11-21/
LOCATION:ONLINE\, United Kingdom\, E16 2DQ
CATEGORIES:Community Event,Culture and Education,Film and Media
ATTACH;FMTTYPE=image/jpeg:https://newtonculture.org/wp-content/uploads/2020/11/Pelle-the-Conqueror_gallery-6-600x266-1.jpg
END:VEVENT
BEGIN:VEVENT
DTSTART;VALUE=DATE:20201121
DTEND;VALUE=DATE:20201122
DTSTAMP:20260421T114617
CREATED:20201113T153725Z
LAST-MODIFIED:20201113T153725Z
UID:10019303-1605916800-1606003199@newtonculture.org
SUMMARY:SCC Virtual Screening: When the Raven Flies
DESCRIPTION:Hrafn Gunnlaugsson‘s first Viking film\, where he presents a new concept of the Viking era\, destroying the stereotype Hollywood image. Set in the middle Ages\, the film tells the story of the revenge of Gestur\, an Irishman who as a child witnessed the murder of his parents by two Norwegian Vikings\, the foster-brothers Thór and Erik\, and the taking of his sister as a slave. Gest follows their trail to Iceland and incites their mutual distrust and hatred. His sister stands between two men: the one who once ravished her\, the father of her beloved son\, and her brother\, whom she has also learned to love\, and who now wants to rescue her and to avenge their parents’ death. \nFilm followed by a Q & A with writer and director Hrafn Gunnlaugsson. Interviewed by author of Norse Mythology for Bostonians: A Transcription of the Impudent Edda\, Rowdy Geirsson and author illustrator of Barbarian Lord\, Matt Smith. \nThe film is 109 minutes with English subtitles\, and will be available to watch online from Sunday\, November 15th until Tuesday\, November 15th. Cost is $15 ; $7 for SCC Members. Click here to watch trailer and learn more.
URL:https://newtonculture.org/event/scc-virtual-screening-when-the-raven-flies/2020-11-21/
LOCATION:ONLINE\, United Kingdom\, E16 2DQ
CATEGORIES:Community Event,Culture and Education,Film and Media
ATTACH;FMTTYPE=image/jpeg:https://newtonculture.org/wp-content/uploads/2020/11/maxresdefault-2-600x266-1.jpg
END:VEVENT
BEGIN:VEVENT
DTSTART;TZID=America/New_York:20201121T080000
DTEND;TZID=America/New_York:20201121T170000
DTSTAMP:20260421T114617
CREATED:20201023T145227Z
LAST-MODIFIED:20201023T145227Z
UID:10018466-1605945600-1605978000@newtonculture.org
SUMMARY:Newton Theatre Kids presents: Fall Workshop Series
DESCRIPTION:Newton Theatre Kids is proud to present our Fall Workshop Series! These one-time-only virtual workshops are the perfect opportunity for the young performers in your life to experiment with new types of theatre\, connect with peers\, and flex their creative muscles. With topics ranging from Shakespeare to Musical Theatre to 10 Minute Plays and classes available for students in grades 2-12\, we are thrilled to continue providing a variety of outlets to engage your children! \nTo learn more about each workshop and to register\, click here.
URL:https://newtonculture.org/event/newton-theatre-kids-presents-fall-workshop-series/2020-11-21/
LOCATION:ONLINE\, United Kingdom\, E16 2DQ
CATEGORIES:Culture and Education,Performing Arts
ATTACH;FMTTYPE=image/png:https://newtonculture.org/wp-content/uploads/2020/10/newton-theatre-kids-summer-intensive-series-5_orig.png
ORGANIZER;CN="Newton Theatre Company":MAILTO:info@newtontheatrecompany.com
END:VEVENT
BEGIN:VEVENT
DTSTART;TZID=America/New_York:20201121T130000
DTEND;TZID=America/New_York:20201121T134500
DTSTAMP:20260421T114617
CREATED:20200826T195444Z
LAST-MODIFIED:20200826T195444Z
UID:10019102-1605963600-1605966300@newtonculture.org
SUMMARY:All Newton Music School: Broadway Bound Online Class
DESCRIPTION:Actors will spend the Semester creating and exploring imaginative characters\, learning choreography\, and proper singing technique with director\, composer\, and playwright Kelvyn Koning; an experienced musical theatre educator. \nBroadway Bound will allow each actor to sing\, dance\, deliver lines\, and be part of a virtual theatrical ensemble which builds presence and self-confidence. \nCreative and engaging instructor Mr. Kelvyn will work with the young actors ideas to compose original music and scenes for each class as they prepare a virtual world premiere production! \nBefore filming\, the student will be provided with a Broadway Bound “Backstage” Box with all the costume pieces and props needed to film their scenes\, songs\, and choreography with flair! \nClick here for registration. \nAges 5-7 years\nSept. 12 to Jan. 16 – Saturdays: 1:00 – 1:45 pm \nAges 8-10 years\nSept. 10 to Jan. 7  – Thursday: 5:00 – 5:45 pm\nSept. 12 to Jan. 16 – Saturday: 1:45 – 2:30 pm
URL:https://newtonculture.org/event/all-newton-music-school-broadway-bound-online-class-2/2020-11-21/
LOCATION:ONLINE\, United Kingdom\, E16 2DQ
CATEGORIES:Art,Family Friendly,Music,Performing Arts
ATTACH;FMTTYPE=image/png:https://newtonculture.org/wp-content/uploads/2020/08/ScreenShot2020-08-11at7.03.56PM.png
END:VEVENT
BEGIN:VEVENT
DTSTART;TZID=America/New_York:20201121T130000
DTEND;TZID=America/New_York:20201121T160000
DTSTAMP:20260421T114617
CREATED:20201001T155051Z
LAST-MODIFIED:20201001T155051Z
UID:10019283-1605963600-1605974400@newtonculture.org
SUMMARY:New Art Center online: The Collaged Landscape Workshop
DESCRIPTION:New Art Live Online Learning – Weekly online class at designated class times. New Art faculty conduct a real-time class through Zoom video meetings. \n\nUsing collage can really improve your design and understanding of the landscape. It is also a wonderful way of creating a beautiful work of art using unconventional materials. Working online live with Jill Pottle\, one week will focus on drawn and painted forests\, and the other on collaged cities. In this 2-session workshop\, students will use found materials (magazines\, decorative papers and old books\, etc.) for shape\, value\, color\, and texture as they create a work of art. In addition\, students will make their own collage materials to use. This class will be freeing\, expressive\, and fun. All levels are welcome. See website for materials list.
URL:https://newtonculture.org/event/new-art-center-online-the-collaged-landscape-workshop/2020-11-21/
LOCATION:ONLINE\, United Kingdom\, E16 2DQ
CATEGORIES:Art,Culture and Education,Visual Arts
ATTACH;FMTTYPE=image/jpeg:https://newtonculture.org/wp-content/uploads/2020/10/AWF20220.jpg
ORGANIZER;CN="New Art Center":MAILTO:info@newartcenter.org
END:VEVENT
BEGIN:VEVENT
DTSTART;TZID=America/New_York:20201121T134500
DTEND;TZID=America/New_York:20201121T143000
DTSTAMP:20260421T114617
CREATED:20200826T195622Z
LAST-MODIFIED:20201001T153407Z
UID:10019121-1605966300-1605969000@newtonculture.org
SUMMARY:All Newton Music School: Broadway Bound Online Class
DESCRIPTION:Actors will spend the Semester creating and exploring imaginative characters\, learning choreography\, and proper singing technique with director\, composer\, and playwright Kelvyn Koning; an experienced musical theatre educator. \nBroadway Bound will allow each actor to sing\, dance\, deliver lines\, and be part of a virtual theatrical ensemble which builds presence and self-confidence. \nCreative and engaging instructor Mr. Kelvyn will work with the young actors ideas to compose original music and scenes for each class as they prepare a virtual world premiere production! \nBefore filming\, the student will be provided with a Broadway Bound “Backstage” Box with all the costume pieces and props needed to film their scenes\, songs\, and choreography with flair! \nClick here for registration. \nAges 5-7 years\nSept. 12 to Jan. 16 – Saturdays: 1:00 – 1:45 pm \nAges 8-10 years\nSept. 10 to Jan. 7  – Thursday: 5:00 – 5:45 pm\nSept. 12 to Jan. 16 – Saturday: 1:45 – 2:30 pm
URL:https://newtonculture.org/event/all-newton-music-school-broadway-bound-online-class-3/2020-11-21/
LOCATION:ONLINE\, United Kingdom\, E16 2DQ
CATEGORIES:Culture and Education,Family Friendly,Music,Performing Arts
ATTACH;FMTTYPE=image/png:https://newtonculture.org/wp-content/uploads/2020/08/ScreenShot2020-08-11at7.03.56PM.png
END:VEVENT
BEGIN:VEVENT
DTSTART;TZID=America/New_York:20201121T200000
DTEND;TZID=America/New_York:20201121T200000
DTSTAMP:20260421T114617
CREATED:20200924T153940Z
LAST-MODIFIED:20200924T153940Z
UID:10019253-1605988800-1605988800@newtonculture.org
SUMMARY:Newton Theatre Company online: Antigone
DESCRIPTION:The Newton Theatre Company is thrilled to announce the first three virtual productions of their eighth season: Anna Deavere Smith’s Twilight Los Angeles\, 1992\, Sophocles’ Antigone\, and It’s a Wonderful Life. These productions will take us from the palace of ancient Thebes\, through 20th-century New York\, and into the streets of Los Angles in 1992. With a blend of classical and contemporary narratives\, we hope that this season will spark conversations about community accountability and fighting for what is right. \nAntigone\nBy Sophocles | Translated by Seamus Heaney\nSaturday\, November 21st\n8:00PM\nSponsored by Betty and Arthur Salz
URL:https://newtonculture.org/event/newton-theatre-company-online-antigone/
LOCATION:Zoom
CATEGORIES:Culture and Education,Performing Arts
ATTACH;FMTTYPE=image/png:https://newtonculture.org/wp-content/uploads/2020/09/2_orig.png
ORGANIZER;CN="Newton Theatre Company":MAILTO:info@newtontheatrecompany.com
END:VEVENT
END:VCALENDAR