BEGIN:VCALENDAR
VERSION:2.0
PRODID:-//Newton Cultural Alliance - ECPv6.13.2.1//NONSGML v1.0//EN
CALSCALE:GREGORIAN
METHOD:PUBLISH
X-WR-CALNAME:Newton Cultural Alliance
X-ORIGINAL-URL:https://newtonculture.org
X-WR-CALDESC:Events for Newton Cultural Alliance
REFRESH-INTERVAL;VALUE=DURATION:PT1H
X-Robots-Tag:noindex
X-PUBLISHED-TTL:PT1H
BEGIN:VTIMEZONE
TZID:America/New_York
BEGIN:DAYLIGHT
TZOFFSETFROM:-0500
TZOFFSETTO:-0400
TZNAME:EDT
DTSTART:20200308T070000
END:DAYLIGHT
BEGIN:STANDARD
TZOFFSETFROM:-0400
TZOFFSETTO:-0500
TZNAME:EST
DTSTART:20201101T060000
END:STANDARD
END:VTIMEZONE
BEGIN:VEVENT
DTSTART;VALUE=DATE:20201127
DTEND;VALUE=DATE:20201128
DTSTAMP:20260421T112536
CREATED:20200330T171900Z
LAST-MODIFIED:20200406T152214Z
UID:10016141-1606435200-1606521599@newtonculture.org
SUMMARY:An online series on the history & nature of Jewish choral music
DESCRIPTION:These audio and video podcasts\, presented by Zamir Chorale of Boston\, can serve as an introduction to the field of Jewish Choral Music. But caveat lector\, these are not comprehensive; they provide only an introduction to the field. Readers may follow up with the many texts and websites that are listed elsewhere in this website: https://www.jewishchoralmusic.com/podcasts
URL:https://newtonculture.org/event/an-online-series-on-the-history-and-nature-of-jewish-choral-music/2020-11-27/
LOCATION:ONLINE\, United Kingdom\, E16 2DQ
CATEGORIES:Culture and Education
ATTACH;FMTTYPE=image/jpeg:https://newtonculture.org/wp-content/uploads/2020/03/JewishChoralMusic-homepage-1024x568-1.jpg
ORGANIZER;CN="Zamir Chorale of Boston":MAILTO:manager@zamir.org
END:VEVENT
BEGIN:VEVENT
DTSTART;VALUE=DATE:20201127
DTEND;VALUE=DATE:20201128
DTSTAMP:20260421T112536
CREATED:20200918T140042Z
LAST-MODIFIED:20200918T140042Z
UID:10019202-1606435200-1606521599@newtonculture.org
SUMMARY:Boston Ballet presents: Forsythe Elements
DESCRIPTION:From new choreographic voices to narratives you know by heart\, enjoy live dance like you have never seen it before. Dance where you are with Boston Ballet’s first-ever virtual season BB@YourHome; six programs that feature fresh creations\, signature works\, and classical ballet favorites captured live in-studio and streamed directly to you. A digital subscription allows you to enjoy each production with your entire household. With each subscription\, you support our dancers\, fuel new art-making\, and invest in Boston Ballet’s future. Subscribe today\, or click here to learn more about virtual performances. \nForsythe Elements\nNovember 19 – 29 \nJoin choreographic genius William Forsythe for an in-depth look at his incredible work\, past and present. With live-captured excerpts from our studio\, Forsythe personally leads a conversation on dance\, music\, form\, and function with Boston Ballet dancers\, encouraging us all to think physically.
URL:https://newtonculture.org/event/boston-ballet-presents-forsythe-elements/2020-11-27/
LOCATION:ONLINE\, United Kingdom\, E16 2DQ
CATEGORIES:Culture and Education,Performing Arts
ATTACH;FMTTYPE=image/jpeg:https://newtonculture.org/wp-content/uploads/2020/09/perf-large_FY21_BBatyourhome.jpeg
ORGANIZER;CN="Boston Ballet School":MAILTO:school@bostonballet.org
END:VEVENT
BEGIN:VEVENT
DTSTART;VALUE=DATE:20201127
DTEND;VALUE=DATE:20201128
DTSTAMP:20260421T112536
CREATED:20201113T151832Z
LAST-MODIFIED:20201113T151832Z
UID:10018579-1606435200-1606521599@newtonculture.org
SUMMARY:SCC Virtual Screening: Pelle the Conqueror
DESCRIPTION:Join us for a 30th anniversary remastered version screening of Pelle the Conqueror. The film won the Palme d’Or at the 1988 Cannes Film Festival The film also won the Academy Award for Best Foreign Language Film\, 1988; it was submitted to the Academy by the Danish government\, giving Denmark its second consecutive win after Babette’s Feast. \nLasse\, an elderly and widowed farmer\, and his young son Pelle\, join a boat-load of immigrants to escape from impoverished rural Sweden to Denmark’s Baltic island of Bornholm. They are employed at a large farm in Denmark\, where they are treated as the lowest of the low. It is ultimately their loving relationship which sustains them through a difficult year. \nThe film is 150 minutes\, and will be available to watch online from Friday\, November 13th until Friday\, December 11th. Click here to watch the film’s trailer and learn more about how to watch.
URL:https://newtonculture.org/event/scc-virtual-screening-pelle-the-conqueror/2020-11-27/
LOCATION:ONLINE\, United Kingdom\, E16 2DQ
CATEGORIES:Community Event,Culture and Education,Film and Media
ATTACH;FMTTYPE=image/jpeg:https://newtonculture.org/wp-content/uploads/2020/11/Pelle-the-Conqueror_gallery-6-600x266-1.jpg
END:VEVENT
BEGIN:VEVENT
DTSTART;VALUE=DATE:20201127
DTEND;VALUE=DATE:20201128
DTSTAMP:20260421T112536
CREATED:20201113T153725Z
LAST-MODIFIED:20201113T153725Z
UID:10019309-1606435200-1606521599@newtonculture.org
SUMMARY:SCC Virtual Screening: When the Raven Flies
DESCRIPTION:Hrafn Gunnlaugsson‘s first Viking film\, where he presents a new concept of the Viking era\, destroying the stereotype Hollywood image. Set in the middle Ages\, the film tells the story of the revenge of Gestur\, an Irishman who as a child witnessed the murder of his parents by two Norwegian Vikings\, the foster-brothers Thór and Erik\, and the taking of his sister as a slave. Gest follows their trail to Iceland and incites their mutual distrust and hatred. His sister stands between two men: the one who once ravished her\, the father of her beloved son\, and her brother\, whom she has also learned to love\, and who now wants to rescue her and to avenge their parents’ death. \nFilm followed by a Q & A with writer and director Hrafn Gunnlaugsson. Interviewed by author of Norse Mythology for Bostonians: A Transcription of the Impudent Edda\, Rowdy Geirsson and author illustrator of Barbarian Lord\, Matt Smith. \nThe film is 109 minutes with English subtitles\, and will be available to watch online from Sunday\, November 15th until Tuesday\, November 15th. Cost is $15 ; $7 for SCC Members. Click here to watch trailer and learn more.
URL:https://newtonculture.org/event/scc-virtual-screening-when-the-raven-flies/2020-11-27/
LOCATION:ONLINE\, United Kingdom\, E16 2DQ
CATEGORIES:Community Event,Culture and Education,Film and Media
ATTACH;FMTTYPE=image/jpeg:https://newtonculture.org/wp-content/uploads/2020/11/maxresdefault-2-600x266-1.jpg
END:VEVENT
END:VCALENDAR