BEGIN:VCALENDAR
VERSION:2.0
PRODID:-//Newton Cultural Alliance - ECPv6.13.2.1//NONSGML v1.0//EN
CALSCALE:GREGORIAN
METHOD:PUBLISH
X-ORIGINAL-URL:https://newtonculture.org
X-WR-CALDESC:Events for Newton Cultural Alliance
REFRESH-INTERVAL;VALUE=DURATION:PT1H
X-Robots-Tag:noindex
X-PUBLISHED-TTL:PT1H
BEGIN:VTIMEZONE
TZID:America/New_York
BEGIN:DAYLIGHT
TZOFFSETFROM:-0500
TZOFFSETTO:-0400
TZNAME:EDT
DTSTART:20200308T070000
END:DAYLIGHT
BEGIN:STANDARD
TZOFFSETFROM:-0400
TZOFFSETTO:-0500
TZNAME:EST
DTSTART:20201101T060000
END:STANDARD
BEGIN:DAYLIGHT
TZOFFSETFROM:-0500
TZOFFSETTO:-0400
TZNAME:EDT
DTSTART:20210314T070000
END:DAYLIGHT
BEGIN:STANDARD
TZOFFSETFROM:-0400
TZOFFSETTO:-0500
TZNAME:EST
DTSTART:20211107T060000
END:STANDARD
END:VTIMEZONE
BEGIN:VEVENT
DTSTART;VALUE=DATE:20201208
DTEND;VALUE=DATE:20210215
DTSTAMP:20260422T071017
CREATED:20201208T165116Z
LAST-MODIFIED:20201224T150003Z
UID:10019349-1607385600-1613347199@newtonculture.org
SUMMARY:NAA's Art Works for Good
DESCRIPTION:Join the Newton Art Association (NAA) in its virtual art exhibition and help support Newton’s two food pantries. In partnership with the Centre Street Food Pantry and the Newton Food Pantry\, NAA members will sell their art works and donate half of the selling price to the two pantries. . \nArt works can be viewed and purchased as holiday gifts and for your home. Timely delivery will be arranged between the buyer and the artist. Explore the variety of art at www.newtonartassociation.com. \nNAA’s Art Works for Good has been extended to Valentine’s Day\, February 14\, 2021.
URL:https://newtonculture.org/event/art-works-for-good/
LOCATION:ONLINE\, United Kingdom\, E16 2DQ
CATEGORIES:Art,Visual Arts
ATTACH;FMTTYPE=image/jpeg:https://newtonculture.org/wp-content/uploads/2020/12/Art-Work-for-good-banner.jpg
ORGANIZER;CN="Newton Art Association":MAILTO:info@newtonartassociation.com
END:VEVENT
BEGIN:VEVENT
DTSTART;VALUE=DATE:20201213
DTEND;VALUE=DATE:20201214
DTSTAMP:20260422T071017
CREATED:20200330T171900Z
LAST-MODIFIED:20200406T152214Z
UID:10016157-1607817600-1607903999@newtonculture.org
SUMMARY:An online series on the history & nature of Jewish choral music
DESCRIPTION:These audio and video podcasts\, presented by Zamir Chorale of Boston\, can serve as an introduction to the field of Jewish Choral Music. But caveat lector\, these are not comprehensive; they provide only an introduction to the field. Readers may follow up with the many texts and websites that are listed elsewhere in this website: https://www.jewishchoralmusic.com/podcasts
URL:https://newtonculture.org/event/an-online-series-on-the-history-and-nature-of-jewish-choral-music/2020-12-13/
LOCATION:ONLINE\, United Kingdom\, E16 2DQ
CATEGORIES:Culture and Education
ATTACH;FMTTYPE=image/jpeg:https://newtonculture.org/wp-content/uploads/2020/03/JewishChoralMusic-homepage-1024x568-1.jpg
ORGANIZER;CN="Zamir Chorale of Boston":MAILTO:manager@zamir.org
END:VEVENT
BEGIN:VEVENT
DTSTART;VALUE=DATE:20201213
DTEND;VALUE=DATE:20201214
DTSTAMP:20260422T071017
CREATED:20201113T153725Z
LAST-MODIFIED:20201113T153725Z
UID:10019325-1607817600-1607903999@newtonculture.org
SUMMARY:SCC Virtual Screening: When the Raven Flies
DESCRIPTION:Hrafn Gunnlaugsson‘s first Viking film\, where he presents a new concept of the Viking era\, destroying the stereotype Hollywood image. Set in the middle Ages\, the film tells the story of the revenge of Gestur\, an Irishman who as a child witnessed the murder of his parents by two Norwegian Vikings\, the foster-brothers Thór and Erik\, and the taking of his sister as a slave. Gest follows their trail to Iceland and incites their mutual distrust and hatred. His sister stands between two men: the one who once ravished her\, the father of her beloved son\, and her brother\, whom she has also learned to love\, and who now wants to rescue her and to avenge their parents’ death. \nFilm followed by a Q & A with writer and director Hrafn Gunnlaugsson. Interviewed by author of Norse Mythology for Bostonians: A Transcription of the Impudent Edda\, Rowdy Geirsson and author illustrator of Barbarian Lord\, Matt Smith. \nThe film is 109 minutes with English subtitles\, and will be available to watch online from Sunday\, November 15th until Tuesday\, November 15th. Cost is $15 ; $7 for SCC Members. Click here to watch trailer and learn more.
URL:https://newtonculture.org/event/scc-virtual-screening-when-the-raven-flies/2020-12-13/
LOCATION:ONLINE\, United Kingdom\, E16 2DQ
CATEGORIES:Community Event,Culture and Education,Film and Media
ATTACH;FMTTYPE=image/jpeg:https://newtonculture.org/wp-content/uploads/2020/11/maxresdefault-2-600x266-1.jpg
END:VEVENT
BEGIN:VEVENT
DTSTART;TZID=America/New_York:20201213T080000
DTEND;TZID=America/New_York:20201213T170000
DTSTAMP:20260422T071017
CREATED:20201023T145227Z
LAST-MODIFIED:20201023T145227Z
UID:10018470-1607846400-1607878800@newtonculture.org
SUMMARY:Newton Theatre Kids presents: Fall Workshop Series
DESCRIPTION:Newton Theatre Kids is proud to present our Fall Workshop Series! These one-time-only virtual workshops are the perfect opportunity for the young performers in your life to experiment with new types of theatre\, connect with peers\, and flex their creative muscles. With topics ranging from Shakespeare to Musical Theatre to 10 Minute Plays and classes available for students in grades 2-12\, we are thrilled to continue providing a variety of outlets to engage your children! \nTo learn more about each workshop and to register\, click here.
URL:https://newtonculture.org/event/newton-theatre-kids-presents-fall-workshop-series/2020-12-13/
LOCATION:ONLINE\, United Kingdom\, E16 2DQ
CATEGORIES:Culture and Education,Performing Arts
ATTACH;FMTTYPE=image/png:https://newtonculture.org/wp-content/uploads/2020/10/newton-theatre-kids-summer-intensive-series-5_orig.png
ORGANIZER;CN="Newton Theatre Company":MAILTO:info@newtontheatrecompany.com
END:VEVENT
END:VCALENDAR