BEGIN:VCALENDAR
VERSION:2.0
PRODID:-//Newton Cultural Alliance - ECPv6.13.2.1//NONSGML v1.0//EN
CALSCALE:GREGORIAN
METHOD:PUBLISH
X-ORIGINAL-URL:https://newtonculture.org
X-WR-CALDESC:Events for Newton Cultural Alliance
REFRESH-INTERVAL;VALUE=DURATION:PT1H
X-Robots-Tag:noindex
X-PUBLISHED-TTL:PT1H
BEGIN:VTIMEZONE
TZID:America/New_York
BEGIN:DAYLIGHT
TZOFFSETFROM:-0500
TZOFFSETTO:-0400
TZNAME:EDT
DTSTART:20200308T070000
END:DAYLIGHT
BEGIN:STANDARD
TZOFFSETFROM:-0400
TZOFFSETTO:-0500
TZNAME:EST
DTSTART:20201101T060000
END:STANDARD
BEGIN:DAYLIGHT
TZOFFSETFROM:-0500
TZOFFSETTO:-0400
TZNAME:EDT
DTSTART:20210314T070000
END:DAYLIGHT
BEGIN:STANDARD
TZOFFSETFROM:-0400
TZOFFSETTO:-0500
TZNAME:EST
DTSTART:20211107T060000
END:STANDARD
END:VTIMEZONE
BEGIN:VEVENT
DTSTART;VALUE=DATE:20201208
DTEND;VALUE=DATE:20210215
DTSTAMP:20260422T115402
CREATED:20201208T165116Z
LAST-MODIFIED:20201224T150003Z
UID:10019349-1607385600-1613347199@newtonculture.org
SUMMARY:NAA's Art Works for Good
DESCRIPTION:Join the Newton Art Association (NAA) in its virtual art exhibition and help support Newton’s two food pantries. In partnership with the Centre Street Food Pantry and the Newton Food Pantry\, NAA members will sell their art works and donate half of the selling price to the two pantries. . \nArt works can be viewed and purchased as holiday gifts and for your home. Timely delivery will be arranged between the buyer and the artist. Explore the variety of art at www.newtonartassociation.com. \nNAA’s Art Works for Good has been extended to Valentine’s Day\, February 14\, 2021.
URL:https://newtonculture.org/event/art-works-for-good/
LOCATION:ONLINE\, United Kingdom\, E16 2DQ
CATEGORIES:Art,Visual Arts
ATTACH;FMTTYPE=image/jpeg:https://newtonculture.org/wp-content/uploads/2020/12/Art-Work-for-good-banner.jpg
ORGANIZER;CN="Newton Art Association":MAILTO:info@newtonartassociation.com
END:VEVENT
BEGIN:VEVENT
DTSTART;VALUE=DATE:20210121
DTEND;VALUE=DATE:20210122
DTSTAMP:20260422T115402
CREATED:20200330T171900Z
LAST-MODIFIED:20200406T152214Z
UID:10016196-1611187200-1611273599@newtonculture.org
SUMMARY:An online series on the history & nature of Jewish choral music
DESCRIPTION:These audio and video podcasts\, presented by Zamir Chorale of Boston\, can serve as an introduction to the field of Jewish Choral Music. But caveat lector\, these are not comprehensive; they provide only an introduction to the field. Readers may follow up with the many texts and websites that are listed elsewhere in this website: https://www.jewishchoralmusic.com/podcasts
URL:https://newtonculture.org/event/an-online-series-on-the-history-and-nature-of-jewish-choral-music/2021-01-21/
LOCATION:ONLINE\, United Kingdom\, E16 2DQ
CATEGORIES:Culture and Education
ATTACH;FMTTYPE=image/jpeg:https://newtonculture.org/wp-content/uploads/2020/03/JewishChoralMusic-homepage-1024x568-1.jpg
ORGANIZER;CN="Zamir Chorale of Boston":MAILTO:manager@zamir.org
END:VEVENT
BEGIN:VEVENT
DTSTART;VALUE=DATE:20210121
DTEND;VALUE=DATE:20210122
DTSTAMP:20260422T115402
CREATED:20200918T141102Z
LAST-MODIFIED:20200918T141127Z
UID:10019218-1611187200-1611273599@newtonculture.org
SUMMARY:Boston Ballet presents: Look Back\, Focus Forward
DESCRIPTION:From new choreographic voices to narratives you know by heart\, enjoy live dance like you have never seen it before. Dance where you are with Boston Ballet’s first-ever virtual season BB@YourHome; six programs that feature fresh creations\, signature works\, and classical ballet favorites captured live in-studio and streamed directly to you. A digital subscription allows you to enjoy each production with your entire household. With each subscription\, you support our dancers\, fuel new art-making\, and invest in Boston Ballet’s future. Subscribe today\, or click here to learn more about virtual performances. \nLook Back\, Focus Forward\nJanuary 21 – 31\, 2021 \nTake a virtual voyage of Boston Ballet’s history and artistic achievements\, including outstanding international tours\, the special relationship with Jiří Kylián’s repertoire\, the intimate ballets from Leonid Yakobson\, and many more. This reflective collage celebrates our journey together and explores the exciting future ahead as we enter a new year.
URL:https://newtonculture.org/event/boston-ballet-presents-look-back-focus-forward/2021-01-21/
LOCATION:ONLINE\, United Kingdom\, E16 2DQ
CATEGORIES:Culture and Education,Performing Arts
ATTACH;FMTTYPE=image/jpeg:https://newtonculture.org/wp-content/uploads/2020/09/perf-large_FY21_BBatyourhome.jpeg
ORGANIZER;CN="Boston Ballet School":MAILTO:school@bostonballet.org
END:VEVENT
BEGIN:VEVENT
DTSTART;TZID=America/New_York:20210121T173000
DTEND;TZID=America/New_York:20210121T183000
DTSTAMP:20260422T115402
CREATED:20201214T161234Z
LAST-MODIFIED:20201214T162341Z
UID:10019352-1611250200-1611253800@newtonculture.org
SUMMARY:New Art Center presents: Artist Talk with Freedom Baird
DESCRIPTION:Join us on Zoom for our winter Artist Talk Series featuring contemporary artists whose work examines climate and the environment. \nThere were blackberries on a hilltop\, a skinny doe and her two fawns\, a glossy ibis\, and an octopus. There were also teens with a shotgun\, bootleg baseball\, missiles on a launch pad\, and a children’s hospital on fire. These are among the memories\, experiences and impressions gathered from more than seventy participants in the Shore Line Recall art project during the summer of 2018 on the Boston Harbor Islands. Interdisciplinary artist Freedom Baird brought a vintage field desk to nine islands and a boat\, and placed it in the most vulnerable spot she could reach\, at high tide. In those windswept places she talked with visitors\, staff\, and volunteers\, gathering their stories and drawings to preserve and share in a book of the same name — Shore Line Recall: Boston Harbor Islands. She also documented the islands in photographs\, a collection of which she curated into the book’s pages. As we continue to transform the planet\, one way we can adapt is with a kind of future nostalgia–looking forward to a moment when we will look back and remember places that will someday be long gone. \nIn this presentation and discussion Baird will share her experience of the Shore Line Recall residency\, project\, and book. \nClick here for more information.
URL:https://newtonculture.org/event/new-art-center-presents-artist-talk-with-freedom-baird/
LOCATION:ONLINE\, United Kingdom\, E16 2DQ
CATEGORIES:Art,Culture and Education
ATTACH;FMTTYPE=image/jpeg:https://newtonculture.org/wp-content/uploads/2020/12/freedomBaird.jpg
ORGANIZER;CN="New Art Center":MAILTO:info@newartcenter.org
END:VEVENT
END:VCALENDAR