BEGIN:VCALENDAR
VERSION:2.0
PRODID:-//Newton Cultural Alliance - ECPv6.13.2.1//NONSGML v1.0//EN
CALSCALE:GREGORIAN
METHOD:PUBLISH
X-ORIGINAL-URL:https://newtonculture.org
X-WR-CALDESC:Events for Newton Cultural Alliance
REFRESH-INTERVAL;VALUE=DURATION:PT1H
X-Robots-Tag:noindex
X-PUBLISHED-TTL:PT1H
BEGIN:VTIMEZONE
TZID:America/New_York
BEGIN:DAYLIGHT
TZOFFSETFROM:-0500
TZOFFSETTO:-0400
TZNAME:EDT
DTSTART:20200308T070000
END:DAYLIGHT
BEGIN:STANDARD
TZOFFSETFROM:-0400
TZOFFSETTO:-0500
TZNAME:EST
DTSTART:20201101T060000
END:STANDARD
BEGIN:DAYLIGHT
TZOFFSETFROM:-0500
TZOFFSETTO:-0400
TZNAME:EDT
DTSTART:20210314T070000
END:DAYLIGHT
BEGIN:STANDARD
TZOFFSETFROM:-0400
TZOFFSETTO:-0500
TZNAME:EST
DTSTART:20211107T060000
END:STANDARD
END:VTIMEZONE
BEGIN:VEVENT
DTSTART;VALUE=DATE:20201208
DTEND;VALUE=DATE:20210215
DTSTAMP:20260421T234600
CREATED:20201208T165116Z
LAST-MODIFIED:20201224T150003Z
UID:10019349-1607385600-1613347199@newtonculture.org
SUMMARY:NAA's Art Works for Good
DESCRIPTION:Join the Newton Art Association (NAA) in its virtual art exhibition and help support Newton’s two food pantries. In partnership with the Centre Street Food Pantry and the Newton Food Pantry\, NAA members will sell their art works and donate half of the selling price to the two pantries. . \nArt works can be viewed and purchased as holiday gifts and for your home. Timely delivery will be arranged between the buyer and the artist. Explore the variety of art at www.newtonartassociation.com. \nNAA’s Art Works for Good has been extended to Valentine’s Day\, February 14\, 2021.
URL:https://newtonculture.org/event/art-works-for-good/
LOCATION:ONLINE\, United Kingdom\, E16 2DQ
CATEGORIES:Art,Visual Arts
ATTACH;FMTTYPE=image/jpeg:https://newtonculture.org/wp-content/uploads/2020/12/Art-Work-for-good-banner.jpg
ORGANIZER;CN="Newton Art Association":MAILTO:info@newtonartassociation.com
END:VEVENT
BEGIN:VEVENT
DTSTART;VALUE=DATE:20210130
DTEND;VALUE=DATE:20210131
DTSTAMP:20260421T234600
CREATED:20200330T171900Z
LAST-MODIFIED:20200406T152214Z
UID:10016205-1611964800-1612051199@newtonculture.org
SUMMARY:An online series on the history & nature of Jewish choral music
DESCRIPTION:These audio and video podcasts\, presented by Zamir Chorale of Boston\, can serve as an introduction to the field of Jewish Choral Music. But caveat lector\, these are not comprehensive; they provide only an introduction to the field. Readers may follow up with the many texts and websites that are listed elsewhere in this website: https://www.jewishchoralmusic.com/podcasts
URL:https://newtonculture.org/event/an-online-series-on-the-history-and-nature-of-jewish-choral-music/2021-01-30/
LOCATION:ONLINE\, United Kingdom\, E16 2DQ
CATEGORIES:Culture and Education
ATTACH;FMTTYPE=image/jpeg:https://newtonculture.org/wp-content/uploads/2020/03/JewishChoralMusic-homepage-1024x568-1.jpg
ORGANIZER;CN="Zamir Chorale of Boston":MAILTO:manager@zamir.org
END:VEVENT
BEGIN:VEVENT
DTSTART;VALUE=DATE:20210130
DTEND;VALUE=DATE:20210131
DTSTAMP:20260421T234600
CREATED:20200918T141102Z
LAST-MODIFIED:20200918T141127Z
UID:10019227-1611964800-1612051199@newtonculture.org
SUMMARY:Boston Ballet presents: Look Back\, Focus Forward
DESCRIPTION:From new choreographic voices to narratives you know by heart\, enjoy live dance like you have never seen it before. Dance where you are with Boston Ballet’s first-ever virtual season BB@YourHome; six programs that feature fresh creations\, signature works\, and classical ballet favorites captured live in-studio and streamed directly to you. A digital subscription allows you to enjoy each production with your entire household. With each subscription\, you support our dancers\, fuel new art-making\, and invest in Boston Ballet’s future. Subscribe today\, or click here to learn more about virtual performances. \nLook Back\, Focus Forward\nJanuary 21 – 31\, 2021 \nTake a virtual voyage of Boston Ballet’s history and artistic achievements\, including outstanding international tours\, the special relationship with Jiří Kylián’s repertoire\, the intimate ballets from Leonid Yakobson\, and many more. This reflective collage celebrates our journey together and explores the exciting future ahead as we enter a new year.
URL:https://newtonculture.org/event/boston-ballet-presents-look-back-focus-forward/2021-01-30/
LOCATION:ONLINE\, United Kingdom\, E16 2DQ
CATEGORIES:Culture and Education,Performing Arts
ATTACH;FMTTYPE=image/jpeg:https://newtonculture.org/wp-content/uploads/2020/09/perf-large_FY21_BBatyourhome.jpeg
ORGANIZER;CN="Boston Ballet School":MAILTO:school@bostonballet.org
END:VEVENT
BEGIN:VEVENT
DTSTART;TZID=America/New_York:20210130T183000
DTEND;TZID=America/New_York:20210130T200000
DTSTAMP:20260421T234600
CREATED:20201208T164932Z
LAST-MODIFIED:20201208T164932Z
UID:10019348-1612031400-1612036800@newtonculture.org
SUMMARY:Suzuki School of Newton Spring Faculty Concert
DESCRIPTION:Join the Suzuki School of Newton on Facebook Live for our Spring Faculty Concert on January 30th at 6:30 pm! Our faculty will be performing both contemporary and classical pieces. It will be broadcast for free on SSN’s Facebook page\, which can be found here: https://www.facebook.com/SuzukiNewton \nWe hope to see you there!
URL:https://newtonculture.org/event/suzuki-school-of-newton-spring-faculty-concert/
LOCATION:Zoom
CATEGORIES:Music,Performing Arts
ATTACH;FMTTYPE=image/png:https://newtonculture.org/wp-content/uploads/2020/11/Jan.-2021-Faculty-Concert-Promo.png
ORGANIZER;CN="Suzuki School of Newton":MAILTO:email@suzukinewton.org
END:VEVENT
BEGIN:VEVENT
DTSTART;TZID=America/New_York:20210130T203000
DTEND;TZID=America/New_York:20210130T210000
DTSTAMP:20260421T234600
CREATED:20210107T174658Z
LAST-MODIFIED:20210107T174658Z
UID:10019365-1612038600-1612040400@newtonculture.org
SUMMARY:NTC's And Then We Baked Bread: An Evening of Quarantine-Inspired Theatre
DESCRIPTION:Newton Theatre Company is thrilled to be starting off 2021 with an evening of engaging live performances! \nA virtual collage of music\, movement\, and theatre. “And Then We Baked Bread” is a snapshot of life in its most uncertain moments. This evening of short performances is a seriously fun\, perfectly imperfect\, raw and honest release\, teaching us what it means to live fully in the present moment even if it’s scary. \nAbout “always nothing else” by Beth Hyland\, the short play that will be featured during the production: \nMarco Polo is an app that lets you record videos of yourself for your friends\, and Meg and Tom are two friends sending each other videos on Marco Polo during These Difficult Times. always nothing else follows Meg and Tom as they bake/don’t bake\, cope/don’t cope\, drink/definitely drink\, and maybe/maybe don’t realize what they actually really need from each other. \nalways nothing else was originally developed at First Floor Theater.
URL:https://newtonculture.org/event/ntcs-and-then-we-baked-bread-an-evening-of-quarantine-inspired-theatre/
LOCATION:Zoom
CATEGORIES:Performing Arts
ATTACH;FMTTYPE=image/png:https://newtonculture.org/wp-content/uploads/2021/01/and-then-we-baked-bread_orig.png
ORGANIZER;CN="Newton Theatre Company":MAILTO:info@newtontheatrecompany.com
END:VEVENT
END:VCALENDAR