BEGIN:VCALENDAR
VERSION:2.0
PRODID:-//Newton Cultural Alliance - ECPv6.13.2.1//NONSGML v1.0//EN
CALSCALE:GREGORIAN
METHOD:PUBLISH
X-ORIGINAL-URL:https://newtonculture.org
X-WR-CALDESC:Events for Newton Cultural Alliance
REFRESH-INTERVAL;VALUE=DURATION:PT1H
X-Robots-Tag:noindex
X-PUBLISHED-TTL:PT1H
BEGIN:VTIMEZONE
TZID:America/New_York
BEGIN:DAYLIGHT
TZOFFSETFROM:-0500
TZOFFSETTO:-0400
TZNAME:EDT
DTSTART:20200308T070000
END:DAYLIGHT
BEGIN:STANDARD
TZOFFSETFROM:-0400
TZOFFSETTO:-0500
TZNAME:EST
DTSTART:20201101T060000
END:STANDARD
BEGIN:DAYLIGHT
TZOFFSETFROM:-0500
TZOFFSETTO:-0400
TZNAME:EDT
DTSTART:20210314T070000
END:DAYLIGHT
BEGIN:STANDARD
TZOFFSETFROM:-0400
TZOFFSETTO:-0500
TZNAME:EST
DTSTART:20211107T060000
END:STANDARD
END:VTIMEZONE
BEGIN:VEVENT
DTSTART;VALUE=DATE:20201208
DTEND;VALUE=DATE:20210215
DTSTAMP:20260421T193304
CREATED:20201208T165116Z
LAST-MODIFIED:20201224T150003Z
UID:10019349-1607385600-1613347199@newtonculture.org
SUMMARY:NAA's Art Works for Good
DESCRIPTION:Join the Newton Art Association (NAA) in its virtual art exhibition and help support Newton’s two food pantries. In partnership with the Centre Street Food Pantry and the Newton Food Pantry\, NAA members will sell their art works and donate half of the selling price to the two pantries. . \nArt works can be viewed and purchased as holiday gifts and for your home. Timely delivery will be arranged between the buyer and the artist. Explore the variety of art at www.newtonartassociation.com. \nNAA’s Art Works for Good has been extended to Valentine’s Day\, February 14\, 2021.
URL:https://newtonculture.org/event/art-works-for-good/
LOCATION:ONLINE\, United Kingdom\, E16 2DQ
CATEGORIES:Art,Visual Arts
ATTACH;FMTTYPE=image/jpeg:https://newtonculture.org/wp-content/uploads/2020/12/Art-Work-for-good-banner.jpg
ORGANIZER;CN="Newton Art Association":MAILTO:info@newtonartassociation.com
END:VEVENT
BEGIN:VEVENT
DTSTART;VALUE=DATE:20210202
DTEND;VALUE=DATE:20210203
DTSTAMP:20260421T193304
CREATED:20200330T171900Z
LAST-MODIFIED:20200406T152214Z
UID:10016208-1612224000-1612310399@newtonculture.org
SUMMARY:An online series on the history & nature of Jewish choral music
DESCRIPTION:These audio and video podcasts\, presented by Zamir Chorale of Boston\, can serve as an introduction to the field of Jewish Choral Music. But caveat lector\, these are not comprehensive; they provide only an introduction to the field. Readers may follow up with the many texts and websites that are listed elsewhere in this website: https://www.jewishchoralmusic.com/podcasts
URL:https://newtonculture.org/event/an-online-series-on-the-history-and-nature-of-jewish-choral-music/2021-02-02/
LOCATION:ONLINE\, United Kingdom\, E16 2DQ
CATEGORIES:Culture and Education
ATTACH;FMTTYPE=image/jpeg:https://newtonculture.org/wp-content/uploads/2020/03/JewishChoralMusic-homepage-1024x568-1.jpg
ORGANIZER;CN="Zamir Chorale of Boston":MAILTO:manager@zamir.org
END:VEVENT
BEGIN:VEVENT
DTSTART;TZID=America/New_York:20210202T190000
DTEND;TZID=America/New_York:20210202T200000
DTSTAMP:20260421T193304
CREATED:20210121T173011Z
LAST-MODIFIED:20210121T173011Z
UID:10018645-1612292400-1612296000@newtonculture.org
SUMMARY:Newton Free Library presents: Kamala's Way - An American Life
DESCRIPTION:Join Dan Morain\, author of the new biography\, Kamala’s Way: An American Life\, for a discussion of America’s new Vice President\, Kamala Harris. During his time as a reporter with the Los Angeles Times and editorial editor with the Sacramento Bee\, Morain covered Kamala Harris’s rise to power as a deputy district attorney in Alameda County to District Attorney to California Attorney General to U.S. Senator to the first Black\, South Asian and female Vice President in our country’s history. Learn how the daughter of two immigrants of color in segregated California became one of America’s most effective power players. Morain will be joined in conversation by Liz Goodwin\, deputy bureau chief for The Boston Globe in Washington\, DC. \nIf you’d like to borrow the book from the library you can reserve it here. \nAutographed copies of Kamala’s Way will be available for sale before and during the event from our bookstore partner Wellesley Books. Contact them here. 10% of the proceeds from your sale will be donated to the host library of your choice. \nRegistration will end two hours before the event start time. Zoom login information will be sent the evening of the program.
URL:https://newtonculture.org/event/newton-free-library-presents-kamalas-way-an-american-life/
LOCATION:ONLINE\, United Kingdom\, E16 2DQ
CATEGORIES:Culture and Education,Free Event,Literary Arts
ATTACH;FMTTYPE=image/jpeg:https://newtonculture.org/wp-content/uploads/2021/01/02-02_Author_Dan_Morain_Kamala_s_Way.jpg
ORGANIZER;CN="Newton Free Library":MAILTO:admin@newtonfreelibrary.net
END:VEVENT
END:VCALENDAR