BEGIN:VCALENDAR
VERSION:2.0
PRODID:-//Newton Cultural Alliance - ECPv6.13.2.1//NONSGML v1.0//EN
CALSCALE:GREGORIAN
METHOD:PUBLISH
X-WR-CALNAME:Newton Cultural Alliance
X-ORIGINAL-URL:https://newtonculture.org
X-WR-CALDESC:Events for Newton Cultural Alliance
REFRESH-INTERVAL;VALUE=DURATION:PT1H
X-Robots-Tag:noindex
X-PUBLISHED-TTL:PT1H
BEGIN:VTIMEZONE
TZID:America/New_York
BEGIN:DAYLIGHT
TZOFFSETFROM:-0500
TZOFFSETTO:-0400
TZNAME:EDT
DTSTART:20200308T070000
END:DAYLIGHT
BEGIN:STANDARD
TZOFFSETFROM:-0400
TZOFFSETTO:-0500
TZNAME:EST
DTSTART:20201101T060000
END:STANDARD
BEGIN:DAYLIGHT
TZOFFSETFROM:-0500
TZOFFSETTO:-0400
TZNAME:EDT
DTSTART:20210314T070000
END:DAYLIGHT
BEGIN:STANDARD
TZOFFSETFROM:-0400
TZOFFSETTO:-0500
TZNAME:EST
DTSTART:20211107T060000
END:STANDARD
END:VTIMEZONE
BEGIN:VEVENT
DTSTART;VALUE=DATE:20201208
DTEND;VALUE=DATE:20210215
DTSTAMP:20260421T210224
CREATED:20201208T165116Z
LAST-MODIFIED:20201224T150003Z
UID:10019349-1607385600-1613347199@newtonculture.org
SUMMARY:NAA's Art Works for Good
DESCRIPTION:Join the Newton Art Association (NAA) in its virtual art exhibition and help support Newton’s two food pantries. In partnership with the Centre Street Food Pantry and the Newton Food Pantry\, NAA members will sell their art works and donate half of the selling price to the two pantries. . \nArt works can be viewed and purchased as holiday gifts and for your home. Timely delivery will be arranged between the buyer and the artist. Explore the variety of art at www.newtonartassociation.com. \nNAA’s Art Works for Good has been extended to Valentine’s Day\, February 14\, 2021.
URL:https://newtonculture.org/event/art-works-for-good/
LOCATION:ONLINE\, United Kingdom\, E16 2DQ
CATEGORIES:Art,Visual Arts
ATTACH;FMTTYPE=image/jpeg:https://newtonculture.org/wp-content/uploads/2020/12/Art-Work-for-good-banner.jpg
ORGANIZER;CN="Newton Art Association":MAILTO:info@newtonartassociation.com
END:VEVENT
BEGIN:VEVENT
DTSTART;VALUE=DATE:20210204
DTEND;VALUE=DATE:20210205
DTSTAMP:20260421T210224
CREATED:20200330T171900Z
LAST-MODIFIED:20200406T152214Z
UID:10016210-1612396800-1612483199@newtonculture.org
SUMMARY:An online series on the history & nature of Jewish choral music
DESCRIPTION:These audio and video podcasts\, presented by Zamir Chorale of Boston\, can serve as an introduction to the field of Jewish Choral Music. But caveat lector\, these are not comprehensive; they provide only an introduction to the field. Readers may follow up with the many texts and websites that are listed elsewhere in this website: https://www.jewishchoralmusic.com/podcasts
URL:https://newtonculture.org/event/an-online-series-on-the-history-and-nature-of-jewish-choral-music/2021-02-04/
LOCATION:ONLINE\, United Kingdom\, E16 2DQ
CATEGORIES:Culture and Education
ATTACH;FMTTYPE=image/jpeg:https://newtonculture.org/wp-content/uploads/2020/03/JewishChoralMusic-homepage-1024x568-1.jpg
ORGANIZER;CN="Zamir Chorale of Boston":MAILTO:manager@zamir.org
END:VEVENT
BEGIN:VEVENT
DTSTART;TZID=America/New_York:20210204T173000
DTEND;TZID=America/New_York:20210204T183000
DTSTAMP:20260421T210224
CREATED:20201214T161616Z
LAST-MODIFIED:20201214T162139Z
UID:10019354-1612459800-1612463400@newtonculture.org
SUMMARY:New Art Center presents: Artist Talk with Sophy Tuttle
DESCRIPTION:Join us on Zoom for our winter Artist Talk Series featuring contemporary artists whose work examines climate and the environment. \nSophy Tuttle is an interdisciplinary artist based in Lowell\, MA. Her work is focused on the natural world\, our place in it\, and the conflicts and collaborations we find ourselves in everyday with nature. Her science-based murals and paintings use natural imagery to bring humans closer to their wild neighbors and highlight important environmental and social justice issues. \nIn this lecture\, Sophy will speak about her work as a muralist and installation artist\, as well as about other artists who are working with the same themes of nature\, research\, and environmental activism within art. \nClick here for more information.
URL:https://newtonculture.org/event/new-art-center-presents-artist-talk-with-sophy-tuttle/
LOCATION:ONLINE\, United Kingdom\, E16 2DQ
CATEGORIES:Art,Culture and Education
ATTACH;FMTTYPE=image/jpeg:https://newtonculture.org/wp-content/uploads/2020/12/SophyTuttle-1.jpg
ORGANIZER;CN="New Art Center":MAILTO:info@newartcenter.org
END:VEVENT
BEGIN:VEVENT
DTSTART;TZID=America/New_York:20210204T190000
DTEND;TZID=America/New_York:20210204T190000
DTSTAMP:20260421T210224
CREATED:20210121T172712Z
LAST-MODIFIED:20210121T172713Z
UID:10018644-1612465200-1612465200@newtonculture.org
SUMMARY:Newton Free Library presents: 'Legacy of Love' virtual screening
DESCRIPTION:Join Writer\, Producer and Director\, Roberto Mighty\, for a virtual screening of his new documentary\, Legacy of Love\, as recently seen on WGBH-TV. The film\, hosted by EMMY award winning newscaster and Pastor Reverend Liz Walker\, reveals the mostly unknown story of Martin Luther King and Coretta Scott’s formative years in 1950’s Boston – where they met as students\, fell in love\, and started on the road to becoming worldwide leaders and iconic symbols for the rights of oppressed people all over the world. The half hour documentary also highlights the influence of Coretta Scott’s leftist politics on their mutual trajectories. Taking stylistic cues from narrative filmmaking\, this documentary explores their romantic relationship and their dreams for a life of activism and family. In terms of storytelling\, Legacy of Love utilizes living witnesses\, historical dramatizations\, music and original illustrations. \nA Q and A with Mr. Mighty will follow. Cosponsored by the Newton Human Rights Commission. \nThe Zoom login information will be sent the afternoon of the program. Registration closes two hours prior to the event start time. \n 
URL:https://newtonculture.org/event/newton-free-library-presents-legacy-of-love-virtual-screening/
LOCATION:ONLINE\, United Kingdom\, E16 2DQ
CATEGORIES:Culture and Education,Film and Media
ATTACH;FMTTYPE=image/jpeg:https://newtonculture.org/wp-content/uploads/2021/01/02-04_Program_Legacy-of-Love_Film_Poster_Roberto-Mighty.jpg
ORGANIZER;CN="Newton Free Library":MAILTO:admin@newtonfreelibrary.net
END:VEVENT
BEGIN:VEVENT
DTSTART;TZID=America/New_York:20210204T200000
DTEND;TZID=America/New_York:20210204T200000
DTSTAMP:20260421T210224
CREATED:20210111T160500Z
LAST-MODIFIED:20210111T172237Z
UID:10019369-1612468800-1612468800@newtonculture.org
SUMMARY:Pro Arte's Winter Salon Series: Salon 2
DESCRIPTION:The Winter Salon Series takes place entirely online. Concerts premiere at 8pm on Thursday night and are available to watch through the following Sunday. On the night of the premiere\, the performance will also be followed by a live Q&A session with that night’s musicians. Tickets for each performance are $20 for an individual or $35 for families. Click here to purchase tickets. \nThursday\, February 4th:  “Ravel and Dohnányi”\nPROGRAM:\nRAVEL Sonata for Violin and Cello\nDOHNÁNY Serenade for String Trio\, op.10\nColeridge-Taylor PERKINSON Movement for String Trio\n \nMUSICIANS:\nJulia Cash\, violin\nAron Zelkowicz\, cello
URL:https://newtonculture.org/event/pro-artes-winter-salon-series-salon-2/
LOCATION:ONLINE\, United Kingdom\, E16 2DQ
CATEGORIES:Community Event,Music
END:VEVENT
END:VCALENDAR