BEGIN:VCALENDAR
VERSION:2.0
PRODID:-//Newton Cultural Alliance - ECPv6.13.2.1//NONSGML v1.0//EN
CALSCALE:GREGORIAN
METHOD:PUBLISH
X-ORIGINAL-URL:https://newtonculture.org
X-WR-CALDESC:Events for Newton Cultural Alliance
REFRESH-INTERVAL;VALUE=DURATION:PT1H
X-Robots-Tag:noindex
X-PUBLISHED-TTL:PT1H
BEGIN:VTIMEZONE
TZID:America/New_York
BEGIN:DAYLIGHT
TZOFFSETFROM:-0500
TZOFFSETTO:-0400
TZNAME:EDT
DTSTART:20200308T070000
END:DAYLIGHT
BEGIN:STANDARD
TZOFFSETFROM:-0400
TZOFFSETTO:-0500
TZNAME:EST
DTSTART:20201101T060000
END:STANDARD
BEGIN:DAYLIGHT
TZOFFSETFROM:-0500
TZOFFSETTO:-0400
TZNAME:EDT
DTSTART:20210314T070000
END:DAYLIGHT
BEGIN:STANDARD
TZOFFSETFROM:-0400
TZOFFSETTO:-0500
TZNAME:EST
DTSTART:20211107T060000
END:STANDARD
END:VTIMEZONE
BEGIN:VEVENT
DTSTART;VALUE=DATE:20201208
DTEND;VALUE=DATE:20210215
DTSTAMP:20260421T193259
CREATED:20201208T165116Z
LAST-MODIFIED:20201224T150003Z
UID:10019349-1607385600-1613347199@newtonculture.org
SUMMARY:NAA's Art Works for Good
DESCRIPTION:Join the Newton Art Association (NAA) in its virtual art exhibition and help support Newton’s two food pantries. In partnership with the Centre Street Food Pantry and the Newton Food Pantry\, NAA members will sell their art works and donate half of the selling price to the two pantries. . \nArt works can be viewed and purchased as holiday gifts and for your home. Timely delivery will be arranged between the buyer and the artist. Explore the variety of art at www.newtonartassociation.com. \nNAA’s Art Works for Good has been extended to Valentine’s Day\, February 14\, 2021.
URL:https://newtonculture.org/event/art-works-for-good/
LOCATION:ONLINE\, United Kingdom\, E16 2DQ
CATEGORIES:Art,Visual Arts
ATTACH;FMTTYPE=image/jpeg:https://newtonculture.org/wp-content/uploads/2020/12/Art-Work-for-good-banner.jpg
ORGANIZER;CN="Newton Art Association":MAILTO:info@newtonartassociation.com
END:VEVENT
BEGIN:VEVENT
DTSTART;VALUE=DATE:20210211
DTEND;VALUE=DATE:20210212
DTSTAMP:20260421T193259
CREATED:20200330T171900Z
LAST-MODIFIED:20200406T152214Z
UID:10016217-1613001600-1613087999@newtonculture.org
SUMMARY:An online series on the history & nature of Jewish choral music
DESCRIPTION:These audio and video podcasts\, presented by Zamir Chorale of Boston\, can serve as an introduction to the field of Jewish Choral Music. But caveat lector\, these are not comprehensive; they provide only an introduction to the field. Readers may follow up with the many texts and websites that are listed elsewhere in this website: https://www.jewishchoralmusic.com/podcasts
URL:https://newtonculture.org/event/an-online-series-on-the-history-and-nature-of-jewish-choral-music/2021-02-11/
LOCATION:ONLINE\, United Kingdom\, E16 2DQ
CATEGORIES:Culture and Education
ATTACH;FMTTYPE=image/jpeg:https://newtonculture.org/wp-content/uploads/2020/03/JewishChoralMusic-homepage-1024x568-1.jpg
ORGANIZER;CN="Zamir Chorale of Boston":MAILTO:manager@zamir.org
END:VEVENT
BEGIN:VEVENT
DTSTART;VALUE=DATE:20210211
DTEND;VALUE=DATE:20210212
DTSTAMP:20260421T193259
CREATED:20210208T163921Z
LAST-MODIFIED:20210208T163921Z
UID:10019393-1613001600-1613087999@newtonculture.org
SUMMARY:Newton Art Association's High School Senior Art Scholarship
DESCRIPTION:For more than 30 years the Newton Art Association (NAA) has recognized art students through the NAA High School Senior Scholarship Program. NAA strongly believes that talented students deserve to be acknowledged for their artistic accomplishments.  \nSenior students who go to high school in Newton or are residents of Newton are eligible to apply for the scholarships. Consistently\, the submitted artworks reveal an extensive range of creativity across all media\, including painting\, drawing\, collage/mixed media\, photography\, jewelry\, fabric art and 3D works.  \nAwards are based on an overall assessment of the senior’s creativity\, artistic expression\, technical skills\, and personal statement. The recipients share $3\,000 in scholarship money. \nEligible students can apply online from February 8 through March 30\, 2021. A virtual award ceremony will be held May 5. Details about the program and online application process can be found on the NAA website. If you know a talented high school senior\, encourage them to apply. 
URL:https://newtonculture.org/event/newton-art-associations-high-school-senior-art-scholarship/2021-02-11/
LOCATION:ONLINE\, United Kingdom\, E16 2DQ
CATEGORIES:Art,Community Event,Culture and Education,Family Friendly,Visual Arts
END:VEVENT
BEGIN:VEVENT
DTSTART;TZID=America/New_York:20210211T190000
DTEND;TZID=America/New_York:20210211T200000
DTSTAMP:20260421T193259
CREATED:20210121T171830Z
LAST-MODIFIED:20210121T171830Z
UID:10018638-1613070000-1613073600@newtonculture.org
SUMMARY:Newton Free Library presents: The System\, Who Rigged It\, How We Fix It
DESCRIPTION:Millions of Americans have lost confidence in our political and economic system. With the characteristic clarity and passion that has made him a central civil voice\, Robert B. Reich shows how wealth and power have interacted to install an elite oligarchy\, eviscerate the middle class and undermine democracy. Join us for an engaging conversation with Mr. Reich on his latest book\, The System: Who Rigged It\, How We Fix It. \nChristopher Lydon\, host of the original podcast\, Open Source\, heard in Boston on WBUR\, will moderate. \nRobert B. Reich is chancellor’s professor of public policy at the Goldman School of Public Policy at the University of California\, Berkeley. He has served in three national administrations and has written fifteen books\, including The Work of Nations\, which has been translated into twenty-two languages\, and the bestsellers The Common Good\, Saving Capitalism\, Supercapitalism and Locked in the Cabinet. \nSpace is limited\, please register here. Login information will be sent the day of the event. Please note\, registration closes two hours before the event start time. \nIf you’d like to borrow\, The System\, from the library please reserve it here. If you would like to own a copy\, they are available at Newtonville Books. 
URL:https://newtonculture.org/event/newton-free-library-presents-the-system-who-rigged-it-how-we-fix-it/
LOCATION:ONLINE\, United Kingdom\, E16 2DQ
CATEGORIES:Community Event,Culture and Education,Literary Arts
ATTACH;FMTTYPE=image/jpeg:https://newtonculture.org/wp-content/uploads/2021/01/02-_Program_Robert_Reich_headshot_copy.jpg
ORGANIZER;CN="Newton Free Library":MAILTO:admin@newtonfreelibrary.net
END:VEVENT
END:VCALENDAR