BEGIN:VCALENDAR
VERSION:2.0
PRODID:-//Newton Cultural Alliance - ECPv6.13.2.1//NONSGML v1.0//EN
CALSCALE:GREGORIAN
METHOD:PUBLISH
X-WR-CALNAME:Newton Cultural Alliance
X-ORIGINAL-URL:https://newtonculture.org
X-WR-CALDESC:Events for Newton Cultural Alliance
REFRESH-INTERVAL;VALUE=DURATION:PT1H
X-Robots-Tag:noindex
X-PUBLISHED-TTL:PT1H
BEGIN:VTIMEZONE
TZID:America/New_York
BEGIN:DAYLIGHT
TZOFFSETFROM:-0500
TZOFFSETTO:-0400
TZNAME:EDT
DTSTART:20210314T070000
END:DAYLIGHT
BEGIN:STANDARD
TZOFFSETFROM:-0400
TZOFFSETTO:-0500
TZNAME:EST
DTSTART:20211107T060000
END:STANDARD
END:VTIMEZONE
BEGIN:VEVENT
DTSTART;VALUE=DATE:20210216
DTEND;VALUE=DATE:20210217
DTSTAMP:20260421T210222
CREATED:20200330T171900Z
LAST-MODIFIED:20200406T152214Z
UID:10016222-1613433600-1613519999@newtonculture.org
SUMMARY:An online series on the history & nature of Jewish choral music
DESCRIPTION:These audio and video podcasts\, presented by Zamir Chorale of Boston\, can serve as an introduction to the field of Jewish Choral Music. But caveat lector\, these are not comprehensive; they provide only an introduction to the field. Readers may follow up with the many texts and websites that are listed elsewhere in this website: https://www.jewishchoralmusic.com/podcasts
URL:https://newtonculture.org/event/an-online-series-on-the-history-and-nature-of-jewish-choral-music/2021-02-16/
LOCATION:ONLINE\, United Kingdom\, E16 2DQ
CATEGORIES:Culture and Education
ATTACH;FMTTYPE=image/jpeg:https://newtonculture.org/wp-content/uploads/2020/03/JewishChoralMusic-homepage-1024x568-1.jpg
ORGANIZER;CN="Zamir Chorale of Boston":MAILTO:manager@zamir.org
END:VEVENT
BEGIN:VEVENT
DTSTART;VALUE=DATE:20210216
DTEND;VALUE=DATE:20210217
DTSTAMP:20260421T210222
CREATED:20210208T163921Z
LAST-MODIFIED:20210208T163921Z
UID:10019398-1613433600-1613519999@newtonculture.org
SUMMARY:Newton Art Association's High School Senior Art Scholarship
DESCRIPTION:For more than 30 years the Newton Art Association (NAA) has recognized art students through the NAA High School Senior Scholarship Program. NAA strongly believes that talented students deserve to be acknowledged for their artistic accomplishments.  \nSenior students who go to high school in Newton or are residents of Newton are eligible to apply for the scholarships. Consistently\, the submitted artworks reveal an extensive range of creativity across all media\, including painting\, drawing\, collage/mixed media\, photography\, jewelry\, fabric art and 3D works.  \nAwards are based on an overall assessment of the senior’s creativity\, artistic expression\, technical skills\, and personal statement. The recipients share $3\,000 in scholarship money. \nEligible students can apply online from February 8 through March 30\, 2021. A virtual award ceremony will be held May 5. Details about the program and online application process can be found on the NAA website. If you know a talented high school senior\, encourage them to apply. 
URL:https://newtonculture.org/event/newton-art-associations-high-school-senior-art-scholarship/2021-02-16/
LOCATION:ONLINE\, United Kingdom\, E16 2DQ
CATEGORIES:Art,Community Event,Culture and Education,Family Friendly,Visual Arts
END:VEVENT
BEGIN:VEVENT
DTSTART;TZID=America/New_York:20210216T190000
DTEND;TZID=America/New_York:20210216T200000
DTSTAMP:20260421T210222
CREATED:20210121T162056Z
LAST-MODIFIED:20210121T162056Z
UID:10019378-1613502000-1613505600@newtonculture.org
SUMMARY:Historic Newton presents: Sculpture in Service of Social Justice
DESCRIPTION:Cyrus Dallin\, Sculpture in Service of Social Justice\n\nDate:02/16/2021 7:00 PM – 8:00 PM\nLocation:Virtual\nVirtual Meeting\nNewton\, Massachusetts 02459\n\nDid you know that Cyrus Dallin\, sculptor of the Francis B. Hornbrook statue which is part of the Newton Free Library’s Permanent Collection of Art\, was also an educator\, activist and agent of change? Join Cyrus Dallin Art Museum director and curator\, Heather Leavell\, for a program that will cover the history of three local Dallin works\, illustrating how Dallin employed his position as an internationally acclaimed sculptor to fight the oppression of Indigenous people. Learn how Dallin took a lead role in efforts to reform government policies adversely affecting Native peoples and educate the general public about Indigenous cultures. Co-sponsored by Historic Newton and the Newton Free Library. Register here to attend the program.
URL:https://newtonculture.org/event/historic-newton-presents-sculpture-in-service-of-social-justice/
LOCATION:ONLINE\, United Kingdom\, E16 2DQ
CATEGORIES:Art,Community Event,Culture and Education
ATTACH;FMTTYPE=image/png:https://newtonculture.org/wp-content/uploads/2019/11/9.png
END:VEVENT
END:VCALENDAR