BEGIN:VCALENDAR
VERSION:2.0
PRODID:-//Newton Cultural Alliance - ECPv6.13.2.1//NONSGML v1.0//EN
CALSCALE:GREGORIAN
METHOD:PUBLISH
X-WR-CALNAME:Newton Cultural Alliance
X-ORIGINAL-URL:https://newtonculture.org
X-WR-CALDESC:Events for Newton Cultural Alliance
REFRESH-INTERVAL;VALUE=DURATION:PT1H
X-Robots-Tag:noindex
X-PUBLISHED-TTL:PT1H
BEGIN:VTIMEZONE
TZID:America/New_York
BEGIN:DAYLIGHT
TZOFFSETFROM:-0500
TZOFFSETTO:-0400
TZNAME:EDT
DTSTART:20210314T070000
END:DAYLIGHT
BEGIN:STANDARD
TZOFFSETFROM:-0400
TZOFFSETTO:-0500
TZNAME:EST
DTSTART:20211107T060000
END:STANDARD
END:VTIMEZONE
BEGIN:VEVENT
DTSTART;VALUE=DATE:20210301
DTEND;VALUE=DATE:20210302
DTSTAMP:20260421T223104
CREATED:20200330T171900Z
LAST-MODIFIED:20200406T152214Z
UID:10016235-1614556800-1614643199@newtonculture.org
SUMMARY:An online series on the history & nature of Jewish choral music
DESCRIPTION:These audio and video podcasts\, presented by Zamir Chorale of Boston\, can serve as an introduction to the field of Jewish Choral Music. But caveat lector\, these are not comprehensive; they provide only an introduction to the field. Readers may follow up with the many texts and websites that are listed elsewhere in this website: https://www.jewishchoralmusic.com/podcasts
URL:https://newtonculture.org/event/an-online-series-on-the-history-and-nature-of-jewish-choral-music/2021-03-01/
LOCATION:ONLINE\, United Kingdom\, E16 2DQ
CATEGORIES:Culture and Education
ATTACH;FMTTYPE=image/jpeg:https://newtonculture.org/wp-content/uploads/2020/03/JewishChoralMusic-homepage-1024x568-1.jpg
ORGANIZER;CN="Zamir Chorale of Boston":MAILTO:manager@zamir.org
END:VEVENT
BEGIN:VEVENT
DTSTART;VALUE=DATE:20210301
DTEND;VALUE=DATE:20210302
DTSTAMP:20260421T223104
CREATED:20200918T141445Z
LAST-MODIFIED:20200918T141445Z
UID:10019234-1614556800-1614643199@newtonculture.org
SUMMARY:Boston Ballet presents: Celebrating Jorma Elo
DESCRIPTION:From new choreographic voices to narratives you know by heart\, enjoy live dance like you have never seen it before. Dance where you are with Boston Ballet’s first-ever virtual season BB@YourHome; six programs that feature fresh creations\, signature works\, and classical ballet favorites captured live in-studio and streamed directly to you. A digital subscription allows you to enjoy each production with your entire household. With each subscription\, you support our dancers\, fuel new art-making\, and invest in Boston Ballet’s future. Subscribe today\, or click here to learn more about virtual performances. \nCelebrating Jorma Elo\nFebruary 25 – March 7\, 2021 \nCelebrate the boldness and choreographic evolution of Jorma Elo’s work through his 15 years as Boston Ballet’s Resident Choreographer. Watch as a new cast of dancers takes on his mind-blowing hit Plan to B and be the first to experience his brand-new work for two dancers.
URL:https://newtonculture.org/event/boston-ballet-presents-celebrating-jorma-elo/2021-03-01/
LOCATION:ONLINE\, United Kingdom\, E16 2DQ
CATEGORIES:Culture and Education,Performing Arts
ATTACH;FMTTYPE=image/jpeg:https://newtonculture.org/wp-content/uploads/2020/09/perf-large_FY21_BBatyourhome.jpeg
ORGANIZER;CN="Boston Ballet School":MAILTO:school@bostonballet.org
END:VEVENT
BEGIN:VEVENT
DTSTART;VALUE=DATE:20210301
DTEND;VALUE=DATE:20210302
DTSTAMP:20260421T223104
CREATED:20210208T163921Z
LAST-MODIFIED:20210208T163921Z
UID:10019411-1614556800-1614643199@newtonculture.org
SUMMARY:Newton Art Association's High School Senior Art Scholarship
DESCRIPTION:For more than 30 years the Newton Art Association (NAA) has recognized art students through the NAA High School Senior Scholarship Program. NAA strongly believes that talented students deserve to be acknowledged for their artistic accomplishments.  \nSenior students who go to high school in Newton or are residents of Newton are eligible to apply for the scholarships. Consistently\, the submitted artworks reveal an extensive range of creativity across all media\, including painting\, drawing\, collage/mixed media\, photography\, jewelry\, fabric art and 3D works.  \nAwards are based on an overall assessment of the senior’s creativity\, artistic expression\, technical skills\, and personal statement. The recipients share $3\,000 in scholarship money. \nEligible students can apply online from February 8 through March 30\, 2021. A virtual award ceremony will be held May 5. Details about the program and online application process can be found on the NAA website. If you know a talented high school senior\, encourage them to apply. 
URL:https://newtonculture.org/event/newton-art-associations-high-school-senior-art-scholarship/2021-03-01/
LOCATION:ONLINE\, United Kingdom\, E16 2DQ
CATEGORIES:Art,Community Event,Culture and Education,Family Friendly,Visual Arts
END:VEVENT
END:VCALENDAR