BEGIN:VCALENDAR
VERSION:2.0
PRODID:-//Newton Cultural Alliance - ECPv6.13.2.1//NONSGML v1.0//EN
CALSCALE:GREGORIAN
METHOD:PUBLISH
X-WR-CALNAME:Newton Cultural Alliance
X-ORIGINAL-URL:https://newtonculture.org
X-WR-CALDESC:Events for Newton Cultural Alliance
REFRESH-INTERVAL;VALUE=DURATION:PT1H
X-Robots-Tag:noindex
X-PUBLISHED-TTL:PT1H
BEGIN:VTIMEZONE
TZID:America/New_York
BEGIN:DAYLIGHT
TZOFFSETFROM:-0500
TZOFFSETTO:-0400
TZNAME:EDT
DTSTART:20210314T070000
END:DAYLIGHT
BEGIN:STANDARD
TZOFFSETFROM:-0400
TZOFFSETTO:-0500
TZNAME:EST
DTSTART:20211107T060000
END:STANDARD
END:VTIMEZONE
BEGIN:VEVENT
DTSTART;VALUE=DATE:20210310
DTEND;VALUE=DATE:20210311
DTSTAMP:20260422T003612
CREATED:20200330T171900Z
LAST-MODIFIED:20200406T152214Z
UID:10016244-1615334400-1615420799@newtonculture.org
SUMMARY:An online series on the history & nature of Jewish choral music
DESCRIPTION:These audio and video podcasts\, presented by Zamir Chorale of Boston\, can serve as an introduction to the field of Jewish Choral Music. But caveat lector\, these are not comprehensive; they provide only an introduction to the field. Readers may follow up with the many texts and websites that are listed elsewhere in this website: https://www.jewishchoralmusic.com/podcasts
URL:https://newtonculture.org/event/an-online-series-on-the-history-and-nature-of-jewish-choral-music/2021-03-10/
LOCATION:ONLINE\, United Kingdom\, E16 2DQ
CATEGORIES:Culture and Education
ATTACH;FMTTYPE=image/jpeg:https://newtonculture.org/wp-content/uploads/2020/03/JewishChoralMusic-homepage-1024x568-1.jpg
ORGANIZER;CN="Zamir Chorale of Boston":MAILTO:manager@zamir.org
END:VEVENT
BEGIN:VEVENT
DTSTART;VALUE=DATE:20210310
DTEND;VALUE=DATE:20210311
DTSTAMP:20260422T003612
CREATED:20210208T163921Z
LAST-MODIFIED:20210208T163921Z
UID:10019420-1615334400-1615420799@newtonculture.org
SUMMARY:Newton Art Association's High School Senior Art Scholarship
DESCRIPTION:For more than 30 years the Newton Art Association (NAA) has recognized art students through the NAA High School Senior Scholarship Program. NAA strongly believes that talented students deserve to be acknowledged for their artistic accomplishments.  \nSenior students who go to high school in Newton or are residents of Newton are eligible to apply for the scholarships. Consistently\, the submitted artworks reveal an extensive range of creativity across all media\, including painting\, drawing\, collage/mixed media\, photography\, jewelry\, fabric art and 3D works.  \nAwards are based on an overall assessment of the senior’s creativity\, artistic expression\, technical skills\, and personal statement. The recipients share $3\,000 in scholarship money. \nEligible students can apply online from February 8 through March 30\, 2021. A virtual award ceremony will be held May 5. Details about the program and online application process can be found on the NAA website. If you know a talented high school senior\, encourage them to apply. 
URL:https://newtonculture.org/event/newton-art-associations-high-school-senior-art-scholarship/2021-03-10/
LOCATION:ONLINE\, United Kingdom\, E16 2DQ
CATEGORIES:Art,Community Event,Culture and Education,Family Friendly,Visual Arts
END:VEVENT
BEGIN:VEVENT
DTSTART;TZID=America/New_York:20210310T183000
DTEND;TZID=America/New_York:20210310T193000
DTSTAMP:20260422T003612
CREATED:20240205T221621Z
LAST-MODIFIED:20240205T221621Z
UID:10018686-1615401000-1615404600@newtonculture.org
SUMMARY:Newton Free Library presents: Create Your Own Comics
DESCRIPTION:Do you like Dogman\, Narwhal & Jelly or the Babysitters Club? Come learn about how to make your own comics! We will meet on the first two Wednesdays evenings: February through June. Learn about the ways you can make your comics go KA-POW! as we write\, draw\, and share. Join us for this beginner’s creative writing workshop for children in third and fourth grade. A reminder email and zoom link will be sent out prior to the first session. \nOnline registration is required and begins Wednesday\, January 20 at 6:30pm. \nWhen you register\, you register for ALL 10 sessions: 2/3\, 2/10\, 3/3\, 3/10\, 4/7\, 4/14\, 5/5\, 5/12\, 6/2\, and 6/9.
URL:https://newtonculture.org/event/newton-free-library-presents-create-your-own-comics/2021-03-10/
LOCATION:ONLINE\, United Kingdom\, E16 2DQ
CATEGORIES:Culture and Education,Literary Arts,Visual Arts
ATTACH;FMTTYPE=image/jpeg:https://newtonculture.org/wp-content/uploads/2021/01/write_stuff.jpg
ORGANIZER;CN="Newton Free Library":MAILTO:admin@newtonfreelibrary.net
END:VEVENT
END:VCALENDAR