BEGIN:VCALENDAR
VERSION:2.0
PRODID:-//Newton Cultural Alliance - ECPv6.13.2.1//NONSGML v1.0//EN
CALSCALE:GREGORIAN
METHOD:PUBLISH
X-WR-CALNAME:Newton Cultural Alliance
X-ORIGINAL-URL:https://newtonculture.org
X-WR-CALDESC:Events for Newton Cultural Alliance
REFRESH-INTERVAL;VALUE=DURATION:PT1H
X-Robots-Tag:noindex
X-PUBLISHED-TTL:PT1H
BEGIN:VTIMEZONE
TZID:America/New_York
BEGIN:DAYLIGHT
TZOFFSETFROM:-0500
TZOFFSETTO:-0400
TZNAME:EDT
DTSTART:20210314T070000
END:DAYLIGHT
BEGIN:STANDARD
TZOFFSETFROM:-0400
TZOFFSETTO:-0500
TZNAME:EST
DTSTART:20211107T060000
END:STANDARD
END:VTIMEZONE
BEGIN:VEVENT
DTSTART;VALUE=DATE:20210319
DTEND;VALUE=DATE:20210320
DTSTAMP:20260422T003612
CREATED:20200330T171900Z
LAST-MODIFIED:20200406T152214Z
UID:10016253-1616112000-1616198399@newtonculture.org
SUMMARY:An online series on the history & nature of Jewish choral music
DESCRIPTION:These audio and video podcasts\, presented by Zamir Chorale of Boston\, can serve as an introduction to the field of Jewish Choral Music. But caveat lector\, these are not comprehensive; they provide only an introduction to the field. Readers may follow up with the many texts and websites that are listed elsewhere in this website: https://www.jewishchoralmusic.com/podcasts
URL:https://newtonculture.org/event/an-online-series-on-the-history-and-nature-of-jewish-choral-music/2021-03-19/
LOCATION:ONLINE\, United Kingdom\, E16 2DQ
CATEGORIES:Culture and Education
ATTACH;FMTTYPE=image/jpeg:https://newtonculture.org/wp-content/uploads/2020/03/JewishChoralMusic-homepage-1024x568-1.jpg
ORGANIZER;CN="Zamir Chorale of Boston":MAILTO:manager@zamir.org
END:VEVENT
BEGIN:VEVENT
DTSTART;VALUE=DATE:20210319
DTEND;VALUE=DATE:20210320
DTSTAMP:20260422T003612
CREATED:20210208T163921Z
LAST-MODIFIED:20210208T163921Z
UID:10019429-1616112000-1616198399@newtonculture.org
SUMMARY:Newton Art Association's High School Senior Art Scholarship
DESCRIPTION:For more than 30 years the Newton Art Association (NAA) has recognized art students through the NAA High School Senior Scholarship Program. NAA strongly believes that talented students deserve to be acknowledged for their artistic accomplishments.  \nSenior students who go to high school in Newton or are residents of Newton are eligible to apply for the scholarships. Consistently\, the submitted artworks reveal an extensive range of creativity across all media\, including painting\, drawing\, collage/mixed media\, photography\, jewelry\, fabric art and 3D works.  \nAwards are based on an overall assessment of the senior’s creativity\, artistic expression\, technical skills\, and personal statement. The recipients share $3\,000 in scholarship money. \nEligible students can apply online from February 8 through March 30\, 2021. A virtual award ceremony will be held May 5. Details about the program and online application process can be found on the NAA website. If you know a talented high school senior\, encourage them to apply. 
URL:https://newtonculture.org/event/newton-art-associations-high-school-senior-art-scholarship/2021-03-19/
LOCATION:ONLINE\, United Kingdom\, E16 2DQ
CATEGORIES:Art,Community Event,Culture and Education,Family Friendly,Visual Arts
END:VEVENT
BEGIN:VEVENT
DTSTART;TZID=America/New_York:20210319T183000
DTEND;TZID=America/New_York:20210319T193000
DTSTAMP:20260422T003612
CREATED:20210305T154137Z
LAST-MODIFIED:20210305T154137Z
UID:10019466-1616178600-1616182200@newtonculture.org
SUMMARY:New Art Center presents: Art & Cocktails - Marvelous Mexico
DESCRIPTION:Let us transport you to Mexico without stress\, jet lag\, or COVID-restrictions! Join curator Juan Omar Rodriguez and Flora’s Wine Bar for a tasting tour of Mexico from the comfort of your home! The tasting tour includes ingredients and tools to make a classic Margarita and Flora’s version of a Carajillo\, live cocktail demonstrations with Flora’s bartender\, and an art history presentation from curator Juan Omar Rodriguez about artists of Mexico. Flora will provide all drink ingredients just add ice and your glassware of choice. \nFull tour with cocktails and accompaniments: $175 \nFree delivery available for Newton residents only\, additional charges will be applied for outside of the Newton area. We can also arrange for ingredients to be picked up at the New Art Center. Contact Samuel Sadowsky at samuel@newartcenter.org to arrange delivery outside of Newton or for pick up. \nArt lecture only: $25 \nThe tasting begins at 6:30pm and the lecture begins at 7:00pm. Registration for the full tour closes March 13\, 2021. \nJuan Omar Rodriguez is an art historian and curator based in Cambridge\, MA. He has worked at the Institute of Contemporary Art Boston and the MFA. He has a MA in Art History and Museum Studies from Tufts University and a BA from Oberlin College.
URL:https://newtonculture.org/event/new-art-center-presents-art-cocktails-marvelous-mexico/
LOCATION:ONLINE\, United Kingdom\, E16 2DQ
CATEGORIES:Art,Culture and Education
ATTACH;FMTTYPE=image/jpeg:https://newtonculture.org/wp-content/uploads/2021/03/AEW2104W-scaled-1.jpg
ORGANIZER;CN="New Art Center":MAILTO:info@newartcenter.org
END:VEVENT
END:VCALENDAR