BEGIN:VCALENDAR
VERSION:2.0
PRODID:-//Newton Cultural Alliance - ECPv6.13.2.1//NONSGML v1.0//EN
CALSCALE:GREGORIAN
METHOD:PUBLISH
X-ORIGINAL-URL:https://newtonculture.org
X-WR-CALDESC:Events for Newton Cultural Alliance
REFRESH-INTERVAL;VALUE=DURATION:PT1H
X-Robots-Tag:noindex
X-PUBLISHED-TTL:PT1H
BEGIN:VTIMEZONE
TZID:America/New_York
BEGIN:DAYLIGHT
TZOFFSETFROM:-0500
TZOFFSETTO:-0400
TZNAME:EDT
DTSTART:20210314T070000
END:DAYLIGHT
BEGIN:STANDARD
TZOFFSETFROM:-0400
TZOFFSETTO:-0500
TZNAME:EST
DTSTART:20211107T060000
END:STANDARD
END:VTIMEZONE
BEGIN:VEVENT
DTSTART;VALUE=DATE:20210327
DTEND;VALUE=DATE:20210328
DTSTAMP:20260422T032606
CREATED:20200330T171900Z
LAST-MODIFIED:20200406T152214Z
UID:10016261-1616803200-1616889599@newtonculture.org
SUMMARY:An online series on the history & nature of Jewish choral music
DESCRIPTION:These audio and video podcasts\, presented by Zamir Chorale of Boston\, can serve as an introduction to the field of Jewish Choral Music. But caveat lector\, these are not comprehensive; they provide only an introduction to the field. Readers may follow up with the many texts and websites that are listed elsewhere in this website: https://www.jewishchoralmusic.com/podcasts
URL:https://newtonculture.org/event/an-online-series-on-the-history-and-nature-of-jewish-choral-music/2021-03-27/
LOCATION:ONLINE\, United Kingdom\, E16 2DQ
CATEGORIES:Culture and Education
ATTACH;FMTTYPE=image/jpeg:https://newtonculture.org/wp-content/uploads/2020/03/JewishChoralMusic-homepage-1024x568-1.jpg
ORGANIZER;CN="Zamir Chorale of Boston":MAILTO:manager@zamir.org
END:VEVENT
BEGIN:VEVENT
DTSTART;VALUE=DATE:20210327
DTEND;VALUE=DATE:20210328
DTSTAMP:20260422T032606
CREATED:20200918T141723Z
LAST-MODIFIED:20200918T141723Z
UID:10019243-1616803200-1616889599@newtonculture.org
SUMMARY:Boston Ballet presents: The Art of Classical Ballet
DESCRIPTION:From new choreographic voices to narratives you know by heart\, enjoy live dance like you have never seen it before. Dance where you are with Boston Ballet’s first-ever virtual season BB@YourHome; six programs that feature fresh creations\, signature works\, and classical ballet favorites captured live in-studio and streamed directly to you. A digital subscription allows you to enjoy each production with your entire household. With each subscription\, you support our dancers\, fuel new art-making\, and invest in Boston Ballet’s future. Subscribe today\, or click here to learn more about virtual performances. \nThe Art of Classical Ballet\nMarch 25 – April 4\, 2021 \nOpen a treasure chest of pas de deux from classical ballet including a few rarely-performed gems. Experience a curated look at the foundations of the art form and the leaps ballet has made since then.
URL:https://newtonculture.org/event/boston-ballet-presents-the-art-of-classical-ballet/2021-03-27/
LOCATION:ONLINE\, United Kingdom\, E16 2DQ
CATEGORIES:Culture and Education,Performing Arts
ATTACH;FMTTYPE=image/jpeg:https://newtonculture.org/wp-content/uploads/2020/09/perf-large_FY21_BBatyourhome.jpeg
ORGANIZER;CN="Boston Ballet School":MAILTO:school@bostonballet.org
END:VEVENT
BEGIN:VEVENT
DTSTART;VALUE=DATE:20210327
DTEND;VALUE=DATE:20210328
DTSTAMP:20260422T032606
CREATED:20210208T163921Z
LAST-MODIFIED:20210208T163921Z
UID:10019437-1616803200-1616889599@newtonculture.org
SUMMARY:Newton Art Association's High School Senior Art Scholarship
DESCRIPTION:For more than 30 years the Newton Art Association (NAA) has recognized art students through the NAA High School Senior Scholarship Program. NAA strongly believes that talented students deserve to be acknowledged for their artistic accomplishments.  \nSenior students who go to high school in Newton or are residents of Newton are eligible to apply for the scholarships. Consistently\, the submitted artworks reveal an extensive range of creativity across all media\, including painting\, drawing\, collage/mixed media\, photography\, jewelry\, fabric art and 3D works.  \nAwards are based on an overall assessment of the senior’s creativity\, artistic expression\, technical skills\, and personal statement. The recipients share $3\,000 in scholarship money. \nEligible students can apply online from February 8 through March 30\, 2021. A virtual award ceremony will be held May 5. Details about the program and online application process can be found on the NAA website. If you know a talented high school senior\, encourage them to apply. 
URL:https://newtonculture.org/event/newton-art-associations-high-school-senior-art-scholarship/2021-03-27/
LOCATION:ONLINE\, United Kingdom\, E16 2DQ
CATEGORIES:Art,Community Event,Culture and Education,Family Friendly,Visual Arts
END:VEVENT
BEGIN:VEVENT
DTSTART;TZID=America/New_York:20210327T130000
DTEND;TZID=America/New_York:20210327T130000
DTSTAMP:20260422T032606
CREATED:20210304T161433Z
LAST-MODIFIED:20210304T161433Z
UID:10019462-1616850000-1616850000@newtonculture.org
SUMMARY:Scandinavian Cultural Center presents: Connecting with Nature the Norwegian Way
DESCRIPTION:Join author Oliver Luke Delorie to discuss his book\, Fruiluftsliv: Connect with Nature the Norwegian Way. \nTranslated from Norwegian as “free life air\,” friluftsliv highlights the basic need for humans to get outside and connect with the natural world. It’s not about conquering nature\, as in climbing the highest mountain\, or about camping and other activities: it’s about truly finding harmony and becoming one with the outdoors. Whether you live in the city or out in the countryside\, this inspiring guide will show you how to enter a friluftsliv state of mind. It explains how spending time in nature and feeling its rhythms\, even when it’s something as simple as a magical Sunday walk in a local park\, can improve our well-being and encourage productive self-reflection. \nSaturday\, March 27th | 1pm EST | $5; free for SCC Members | register here \nABOUT OLIVER: Nicknamed “Monk” the day he was born\, Oliver Luke Delorie grew up steeped in Eastern philosophy and martial arts. He is also the author of the playful 100 Small Ways to Quit Worrying and 100 Small Ways to Manage Time. Delorie lives in Victoria\, British Columbia\, Canada.
URL:https://newtonculture.org/event/scandinavian-cultural-center-presents-connecting-with-nature-the-norwegian-way/
LOCATION:ONLINE\, United Kingdom\, E16 2DQ
CATEGORIES:Community Event,Culture and Education,Literary Arts
ATTACH;FMTTYPE=image/jpeg:https://newtonculture.org/wp-content/uploads/2021/03/616pY9QJgqL.jpg
END:VEVENT
BEGIN:VEVENT
DTSTART;TZID=America/New_York:20210327T140000
DTEND;TZID=America/New_York:20210327T163000
DTSTAMP:20260422T032606
CREATED:20210305T170707Z
LAST-MODIFIED:20210305T170707Z
UID:10019468-1616853600-1616862600@newtonculture.org
SUMMARY:New Art Center presents: Parent/Teen Polymer Clay Jewelry Workshop
DESCRIPTION:Make your own polymer clay jewelry in this in-person workshop! Through demonstrations and hands-on instruction\, you will learn a variety of techniques to make designs and intricate shapes. Use your imagination and creativity to work with clay and create unique jewelry designs. Tuition includes polymer clay\, wire hooks and earring loops for one parent and teen. Register here.
URL:https://newtonculture.org/event/new-art-center-presents-parent-teen-polymer-clay-jewelry-workshop/
LOCATION:New Art Center\, 61 Washington Park\, Newton\, MA\, 02460\, United States
CATEGORIES:Art,Community Event,Culture and Education,Family Friendly
ATTACH;FMTTYPE=image/jpeg:https://newtonculture.org/wp-content/uploads/2021/03/Josie.jpg
ORGANIZER;CN="Newton Art Association":MAILTO:info@newtonartassociation.com
END:VEVENT
END:VCALENDAR