BEGIN:VCALENDAR
VERSION:2.0
PRODID:-//Newton Cultural Alliance - ECPv6.13.2.1//NONSGML v1.0//EN
CALSCALE:GREGORIAN
METHOD:PUBLISH
X-WR-CALNAME:Newton Cultural Alliance
X-ORIGINAL-URL:https://newtonculture.org
X-WR-CALDESC:Events for Newton Cultural Alliance
REFRESH-INTERVAL;VALUE=DURATION:PT1H
X-Robots-Tag:noindex
X-PUBLISHED-TTL:PT1H
BEGIN:VTIMEZONE
TZID:America/New_York
BEGIN:DAYLIGHT
TZOFFSETFROM:-0500
TZOFFSETTO:-0400
TZNAME:EDT
DTSTART:20210314T070000
END:DAYLIGHT
BEGIN:STANDARD
TZOFFSETFROM:-0400
TZOFFSETTO:-0500
TZNAME:EST
DTSTART:20211107T060000
END:STANDARD
END:VTIMEZONE
BEGIN:VEVENT
DTSTART;VALUE=DATE:20210330
DTEND;VALUE=DATE:20210331
DTSTAMP:20260422T004842
CREATED:20200918T141723Z
LAST-MODIFIED:20200918T141723Z
UID:10019246-1617062400-1617148799@newtonculture.org
SUMMARY:Boston Ballet presents: The Art of Classical Ballet
DESCRIPTION:From new choreographic voices to narratives you know by heart\, enjoy live dance like you have never seen it before. Dance where you are with Boston Ballet’s first-ever virtual season BB@YourHome; six programs that feature fresh creations\, signature works\, and classical ballet favorites captured live in-studio and streamed directly to you. A digital subscription allows you to enjoy each production with your entire household. With each subscription\, you support our dancers\, fuel new art-making\, and invest in Boston Ballet’s future. Subscribe today\, or click here to learn more about virtual performances. \nThe Art of Classical Ballet\nMarch 25 – April 4\, 2021 \nOpen a treasure chest of pas de deux from classical ballet including a few rarely-performed gems. Experience a curated look at the foundations of the art form and the leaps ballet has made since then.
URL:https://newtonculture.org/event/boston-ballet-presents-the-art-of-classical-ballet/2021-03-30/
LOCATION:ONLINE\, United Kingdom\, E16 2DQ
CATEGORIES:Culture and Education,Performing Arts
ATTACH;FMTTYPE=image/jpeg:https://newtonculture.org/wp-content/uploads/2020/09/perf-large_FY21_BBatyourhome.jpeg
ORGANIZER;CN="Boston Ballet School":MAILTO:school@bostonballet.org
END:VEVENT
BEGIN:VEVENT
DTSTART;VALUE=DATE:20210330
DTEND;VALUE=DATE:20210331
DTSTAMP:20260422T004842
CREATED:20210208T163921Z
LAST-MODIFIED:20210208T163921Z
UID:10019440-1617062400-1617148799@newtonculture.org
SUMMARY:Newton Art Association's High School Senior Art Scholarship
DESCRIPTION:For more than 30 years the Newton Art Association (NAA) has recognized art students through the NAA High School Senior Scholarship Program. NAA strongly believes that talented students deserve to be acknowledged for their artistic accomplishments.  \nSenior students who go to high school in Newton or are residents of Newton are eligible to apply for the scholarships. Consistently\, the submitted artworks reveal an extensive range of creativity across all media\, including painting\, drawing\, collage/mixed media\, photography\, jewelry\, fabric art and 3D works.  \nAwards are based on an overall assessment of the senior’s creativity\, artistic expression\, technical skills\, and personal statement. The recipients share $3\,000 in scholarship money. \nEligible students can apply online from February 8 through March 30\, 2021. A virtual award ceremony will be held May 5. Details about the program and online application process can be found on the NAA website. If you know a talented high school senior\, encourage them to apply. 
URL:https://newtonculture.org/event/newton-art-associations-high-school-senior-art-scholarship/2021-03-30/
LOCATION:ONLINE\, United Kingdom\, E16 2DQ
CATEGORIES:Art,Community Event,Culture and Education,Family Friendly,Visual Arts
END:VEVENT
END:VCALENDAR