BEGIN:VCALENDAR
VERSION:2.0
PRODID:-//Newton Cultural Alliance - ECPv6.13.2.1//NONSGML v1.0//EN
CALSCALE:GREGORIAN
METHOD:PUBLISH
X-ORIGINAL-URL:https://newtonculture.org
X-WR-CALDESC:Events for Newton Cultural Alliance
REFRESH-INTERVAL;VALUE=DURATION:PT1H
X-Robots-Tag:noindex
X-PUBLISHED-TTL:PT1H
BEGIN:VTIMEZONE
TZID:America/New_York
BEGIN:DAYLIGHT
TZOFFSETFROM:-0500
TZOFFSETTO:-0400
TZNAME:EDT
DTSTART:20210314T070000
END:DAYLIGHT
BEGIN:STANDARD
TZOFFSETFROM:-0400
TZOFFSETTO:-0500
TZNAME:EST
DTSTART:20211107T060000
END:STANDARD
END:VTIMEZONE
BEGIN:VEVENT
DTSTART;VALUE=DATE:20210331
DTEND;VALUE=DATE:20210401
DTSTAMP:20260422T032607
CREATED:20200918T141723Z
LAST-MODIFIED:20200918T141723Z
UID:10019247-1617148800-1617235199@newtonculture.org
SUMMARY:Boston Ballet presents: The Art of Classical Ballet
DESCRIPTION:From new choreographic voices to narratives you know by heart\, enjoy live dance like you have never seen it before. Dance where you are with Boston Ballet’s first-ever virtual season BB@YourHome; six programs that feature fresh creations\, signature works\, and classical ballet favorites captured live in-studio and streamed directly to you. A digital subscription allows you to enjoy each production with your entire household. With each subscription\, you support our dancers\, fuel new art-making\, and invest in Boston Ballet’s future. Subscribe today\, or click here to learn more about virtual performances. \nThe Art of Classical Ballet\nMarch 25 – April 4\, 2021 \nOpen a treasure chest of pas de deux from classical ballet including a few rarely-performed gems. Experience a curated look at the foundations of the art form and the leaps ballet has made since then.
URL:https://newtonculture.org/event/boston-ballet-presents-the-art-of-classical-ballet/2021-03-31/
LOCATION:ONLINE\, United Kingdom\, E16 2DQ
CATEGORIES:Culture and Education,Performing Arts
ATTACH;FMTTYPE=image/jpeg:https://newtonculture.org/wp-content/uploads/2020/09/perf-large_FY21_BBatyourhome.jpeg
ORGANIZER;CN="Boston Ballet School":MAILTO:school@bostonballet.org
END:VEVENT
BEGIN:VEVENT
DTSTART;TZID=America/New_York:20210331T190000
DTEND;TZID=America/New_York:20210331T200000
DTSTAMP:20260422T032607
CREATED:20210312T171331Z
LAST-MODIFIED:20210312T171331Z
UID:10018733-1617217200-1617220800@newtonculture.org
SUMMARY:Newton Free Library presents: How to Use Critical Thinking Skills
DESCRIPTION:What does it mean to be a critical thinker? Can critical thinking help us better understand the news and make better decisions\, including how to navigate a global pandemic? Join Jonathan Haber\, educational researcher\, consultant and author of\, Critical Thinking Essentials\, to learn\, among other things: \n\nHow the concept of critical thinking originated\nWhat critical thinking skills are\nHow critical thinking skills can be applied to decision making\n\nRegistration for this program will end two hours before the start time. The Zoom login information will be sent just after registration closes. Please be sure to check your spam folder in case it lands there.
URL:https://newtonculture.org/event/newton-free-library-presents-how-to-use-critical-thinking-skills/
LOCATION:ONLINE\, United Kingdom\, E16 2DQ
CATEGORIES:Community Event,Culture and Education,Literary Arts
ATTACH;FMTTYPE=image/jpeg:https://newtonculture.org/wp-content/uploads/2021/03/03-30_Author_Jonathan_Haber_Critical_Thinking.jpg
ORGANIZER;CN="Newton Free Library":MAILTO:admin@newtonfreelibrary.net
END:VEVENT
END:VCALENDAR