BEGIN:VCALENDAR
VERSION:2.0
PRODID:-//Newton Cultural Alliance - ECPv6.13.2.1//NONSGML v1.0//EN
CALSCALE:GREGORIAN
METHOD:PUBLISH
X-WR-CALNAME:Newton Cultural Alliance
X-ORIGINAL-URL:https://newtonculture.org
X-WR-CALDESC:Events for Newton Cultural Alliance
REFRESH-INTERVAL;VALUE=DURATION:PT1H
X-Robots-Tag:noindex
X-PUBLISHED-TTL:PT1H
BEGIN:VTIMEZONE
TZID:America/New_York
BEGIN:DAYLIGHT
TZOFFSETFROM:-0500
TZOFFSETTO:-0400
TZNAME:EDT
DTSTART:20210314T070000
END:DAYLIGHT
BEGIN:STANDARD
TZOFFSETFROM:-0400
TZOFFSETTO:-0500
TZNAME:EST
DTSTART:20211107T060000
END:STANDARD
END:VTIMEZONE
BEGIN:VEVENT
DTSTART;VALUE=DATE:20210408
DTEND;VALUE=DATE:20210409
DTSTAMP:20260421T035235
CREATED:20210405T165201Z
LAST-MODIFIED:20210405T165201Z
UID:10019494-1617840000-1617926399@newtonculture.org
SUMMARY:Scandinavian Cultural Center presents: International Shorts 2021 - Virtual Screening
DESCRIPTION:The SCC are pleased to be co-presenters for the International Shorts 2021 being presented as part of Wicked Queer\, the 37th Annual LBGTQ+ Film Festival being shown virtually between April 1st through April 30th. \nFeaturing international films by a selection of new talents\, this year’s lineup includes lyrical works from Spain\, a surreal Norwegian comedy\, and a bittersweet story from Belgium. Curated by Giuseppe Di Caprio. \nIncluded is The Corner (2021). Tired of waiting\, Veronika tries to give her girlfriend direction over the phone\, but Susan gets more and more confused with every word. The Corner is a 5-minute-long\, one-shot-film\, and it’s a story about communication and the sense (or non-sense) of direction.) \nDirected by Ida Hansen Eldøen | 2020 | 5 min | Norway | in Norwegian with English subtitles \nSee the full list of shorts here. \nThursday\, April 1st – Friday\, April 30th | on xerb.tv | $10 | purchase tickets here
URL:https://newtonculture.org/event/scandinavian-cultural-center-presents-international-shorts-2021-virtual-screening/2021-04-08/
LOCATION:ONLINE\, United Kingdom\, E16 2DQ
CATEGORIES:Culture and Education,Film and Media
ATTACH;FMTTYPE=image/jpeg:https://newtonculture.org/wp-content/uploads/2021/04/The-Corner-600x266-1.jpeg
END:VEVENT
BEGIN:VEVENT
DTSTART;TZID=America/New_York:20210408T170000
DTEND;TZID=America/New_York:20210408T170000
DTSTAMP:20260421T035235
CREATED:20210322T161231Z
LAST-MODIFIED:20210322T161231Z
UID:10019477-1617901200-1617901200@newtonculture.org
SUMMARY:Historic Newton presents: Making Change in the Civil Rights Era
DESCRIPTION:As the Civil Rights movement heated up in the 1960s\, citizens with Newton ties felt called to participate. Clips from the film “Freedom Riders” set the stage for a conversation with Skip Griffin and Judy Frieze Wright\, who discuss their activism\, including attending the 1963 March on Washington\, in a conversation moderated by Boston journalist Carmen Fields. This program is funded in part by Mass Humanities\, an affiliate of the National Endowment for the Humanities. Any views\, findings\, conclusions\, or recommendations expressed in this program do not necessarily represent those of the National Endowment for the Humanities. This program takes place Thursday\, April 8 at 5:00 p.m.\n\n\nSuggested donation: $5.00 for members\, $10.00 for non-members. \nRegister here. You will receive the Zoom link in your confirmation email.
URL:https://newtonculture.org/event/historic-newton-presents-making-change-in-the-civil-rights-era/
LOCATION:ONLINE\, United Kingdom\, E16 2DQ
CATEGORIES:Community Event,Culture and Education,Film and Media
ATTACH;FMTTYPE=image/jpeg:https://newtonculture.org/wp-content/uploads/2021/03/637515892637830000.jpeg
END:VEVENT
BEGIN:VEVENT
DTSTART;TZID=America/New_York:20210408T200000
DTEND;TZID=America/New_York:20210408T200000
DTSTAMP:20260421T035235
CREATED:20210405T165802Z
LAST-MODIFIED:20210405T170238Z
UID:10019518-1617912000-1617912000@newtonculture.org
SUMMARY:Pro Arte's Spring Series: Salon 1
DESCRIPTION:The Spring Salon Series takes place entirely online. Concerts premiere at 8pm on Thursday night and are available to watch through the following Sunday. On the night of the premiere\, the performance will also be followed by a live Q&A session with that night’s musicians. Tickets for each performance are $20 for an individual or $35 for families. Click here to purchase tickets. \nProgram: \nJACQUES IBERT Cinq Pièces en Trio\nSIMON SARGON Haas Trio for oboe\, bassoon\, and piano\nW.A. MOZART Quintet for Piano and Winds in E-flat Major\, K. 452 \n​
URL:https://newtonculture.org/event/pro-arte-presents-spring-salon-series-1/
LOCATION:ONLINE\, United Kingdom\, E16 2DQ
CATEGORIES:Culture and Education,Music
END:VEVENT
END:VCALENDAR