BEGIN:VCALENDAR
VERSION:2.0
PRODID:-//Newton Cultural Alliance - ECPv6.13.2.1//NONSGML v1.0//EN
CALSCALE:GREGORIAN
METHOD:PUBLISH
X-ORIGINAL-URL:https://newtonculture.org
X-WR-CALDESC:Events for Newton Cultural Alliance
REFRESH-INTERVAL;VALUE=DURATION:PT1H
X-Robots-Tag:noindex
X-PUBLISHED-TTL:PT1H
BEGIN:VTIMEZONE
TZID:America/New_York
BEGIN:DAYLIGHT
TZOFFSETFROM:-0500
TZOFFSETTO:-0400
TZNAME:EDT
DTSTART:20210314T070000
END:DAYLIGHT
BEGIN:STANDARD
TZOFFSETFROM:-0400
TZOFFSETTO:-0500
TZNAME:EST
DTSTART:20211107T060000
END:STANDARD
END:VTIMEZONE
BEGIN:VEVENT
DTSTART;VALUE=DATE:20210412
DTEND;VALUE=DATE:20210413
DTSTAMP:20260421T035256
CREATED:20210405T165201Z
LAST-MODIFIED:20210405T165201Z
UID:10019498-1618185600-1618271999@newtonculture.org
SUMMARY:Scandinavian Cultural Center presents: International Shorts 2021 - Virtual Screening
DESCRIPTION:The SCC are pleased to be co-presenters for the International Shorts 2021 being presented as part of Wicked Queer\, the 37th Annual LBGTQ+ Film Festival being shown virtually between April 1st through April 30th. \nFeaturing international films by a selection of new talents\, this year’s lineup includes lyrical works from Spain\, a surreal Norwegian comedy\, and a bittersweet story from Belgium. Curated by Giuseppe Di Caprio. \nIncluded is The Corner (2021). Tired of waiting\, Veronika tries to give her girlfriend direction over the phone\, but Susan gets more and more confused with every word. The Corner is a 5-minute-long\, one-shot-film\, and it’s a story about communication and the sense (or non-sense) of direction.) \nDirected by Ida Hansen Eldøen | 2020 | 5 min | Norway | in Norwegian with English subtitles \nSee the full list of shorts here. \nThursday\, April 1st – Friday\, April 30th | on xerb.tv | $10 | purchase tickets here
URL:https://newtonculture.org/event/scandinavian-cultural-center-presents-international-shorts-2021-virtual-screening/2021-04-12/
LOCATION:ONLINE\, United Kingdom\, E16 2DQ
CATEGORIES:Culture and Education,Film and Media
ATTACH;FMTTYPE=image/jpeg:https://newtonculture.org/wp-content/uploads/2021/04/The-Corner-600x266-1.jpeg
END:VEVENT
BEGIN:VEVENT
DTSTART;TZID=America/New_York:20210412T170000
DTEND;TZID=America/New_York:20210412T180000
DTSTAMP:20260421T035256
CREATED:20210322T160813Z
LAST-MODIFIED:20210322T160813Z
UID:10019475-1618246800-1618250400@newtonculture.org
SUMMARY:Historic Newton presents: Heartbreak Hill Virtual Running Tour
DESCRIPTION:Though the Boston Marathon is postponed until October this year\, get into the Patriots’ Day spirit by joining Paul Clerici\, author of Images of Modern America: The Boston Marathon and 23-time Boston Marathon finisher for a special tour up Heartbreak Hill. Learn about Boston Marathon history along the Newton route and see other local landmarks along the way. Part of the Adventures in History series supported in part by Newton-Wellesley Hospital and a grant from the Newton Cultural Council\, part of the Mass Cultural Council. Register in advance for the video presentation followed by Q&A with Clerici. Register in advance for this program on Zoom.
URL:https://newtonculture.org/event/historic-newton-presents-heartbreak-hill-virtual-running-tour/
LOCATION:ONLINE\, United Kingdom\, E16 2DQ
CATEGORIES:Community Event,Culture and Education
ATTACH;FMTTYPE=image/jpeg:https://newtonculture.org/wp-content/uploads/2021/03/637515893274100000.jpeg
END:VEVENT
END:VCALENDAR