BEGIN:VCALENDAR
VERSION:2.0
PRODID:-//Newton Cultural Alliance - ECPv6.13.2.1//NONSGML v1.0//EN
CALSCALE:GREGORIAN
METHOD:PUBLISH
X-WR-CALNAME:Newton Cultural Alliance
X-ORIGINAL-URL:https://newtonculture.org
X-WR-CALDESC:Events for Newton Cultural Alliance
REFRESH-INTERVAL;VALUE=DURATION:PT1H
X-Robots-Tag:noindex
X-PUBLISHED-TTL:PT1H
BEGIN:VTIMEZONE
TZID:America/New_York
BEGIN:DAYLIGHT
TZOFFSETFROM:-0500
TZOFFSETTO:-0400
TZNAME:EDT
DTSTART:20210314T070000
END:DAYLIGHT
BEGIN:STANDARD
TZOFFSETFROM:-0400
TZOFFSETTO:-0500
TZNAME:EST
DTSTART:20211107T060000
END:STANDARD
END:VTIMEZONE
BEGIN:VEVENT
DTSTART;TZID=America/New_York:20210502T120000
DTEND;TZID=America/New_York:20210502T150000
DTSTAMP:20260421T035232
CREATED:20210302T174900Z
LAST-MODIFIED:20210302T174900Z
UID:10019461-1619956800-1619967600@newtonculture.org
SUMMARY:Suzuki School of Newton presents: Great Art by Little Artists
DESCRIPTION:The Suzuki Preschool of Newton presents our 5th annual: Great Art by Little Artists! \nThe event will take place on Sunday May 2\, 2021 from 12pm-3pm (Rain date May 16th 2021). There will be an open house\, children’s art exhibit and silent auction. We hope to see you there!
URL:https://newtonculture.org/event/suzuki-school-of-newton-presents-great-art-by-little-artists/
LOCATION:ONLINE\, United Kingdom\, E16 2DQ
CATEGORIES:Community Event,Music
ATTACH;FMTTYPE=image/png:https://newtonculture.org/wp-content/uploads/2021/03/ScreenShot2021-02-02at10.45.57AM.png
ORGANIZER;CN="Suzuki School of Newton":MAILTO:email@suzukinewton.org
END:VEVENT
BEGIN:VEVENT
DTSTART;TZID=America/New_York:20210502T150000
DTEND;TZID=America/New_York:20210502T160000
DTSTAMP:20260421T035232
CREATED:20210423T145022Z
LAST-MODIFIED:20210423T145022Z
UID:10019527-1619967600-1619971200@newtonculture.org
SUMMARY:First Unitarian Universalist Society in Newton presents: Annual Musicians Concert
DESCRIPTION:Annual FUUSN Musicians Concert Featuring Catie Curtis and Musicians From First Unitarian Universalist Society in Newton \nProceeds to Benefit the UU Urban Ministry \nCome and hear the wonderful musicians of the First Unitarian Universalist Society in Newton and our featured artist\, the amazing singer-songwriter Catie Curtis. Catie will be joined by renowned pianist Lois Shapiro\, professional saxophonist and composer Geoff Wadsworth\, guitarist Bob MacWilliams\, vocalist Naomi Wolfe\, our intrepid FUUSN Band\, and others. There will be a fantastic array of musical styles and moods: classical works\, traditional songs\, original jazz compositions\, and more. \nThe concert is free and open to the public. Donations will be gratefully accepted for the UU Urban Ministry. For more information\, email music@fusn.org. \nClick here to join via Zoom
URL:https://newtonculture.org/event/first-unitarian-universalist-society-in-newton-presents-annual-musicians-concert/
LOCATION:Zoom
CATEGORIES:Community Event,Free Event,Music,Performing Arts
ATTACH;FMTTYPE=image/png:https://newtonculture.org/wp-content/uploads/2021/04/unnamed-e1619189382738.png
ORGANIZER;CN="FUUSN":MAILTO:office@fusn.org
END:VEVENT
END:VCALENDAR