BEGIN:VCALENDAR
VERSION:2.0
PRODID:-//Newton Cultural Alliance - ECPv6.13.2.1//NONSGML v1.0//EN
CALSCALE:GREGORIAN
METHOD:PUBLISH
X-WR-CALNAME:Newton Cultural Alliance
X-ORIGINAL-URL:https://newtonculture.org
X-WR-CALDESC:Events for Newton Cultural Alliance
REFRESH-INTERVAL;VALUE=DURATION:PT1H
X-Robots-Tag:noindex
X-PUBLISHED-TTL:PT1H
BEGIN:VTIMEZONE
TZID:America/New_York
BEGIN:DAYLIGHT
TZOFFSETFROM:-0500
TZOFFSETTO:-0400
TZNAME:EDT
DTSTART:20210314T070000
END:DAYLIGHT
BEGIN:STANDARD
TZOFFSETFROM:-0400
TZOFFSETTO:-0500
TZNAME:EST
DTSTART:20211107T060000
END:STANDARD
END:VTIMEZONE
BEGIN:VEVENT
DTSTART;TZID=America/New_York:20210505T183000
DTEND;TZID=America/New_York:20210505T193000
DTSTAMP:20260421T035232
CREATED:20210122T172015Z
LAST-MODIFIED:20210122T172015Z
UID:10018682-1620239400-1620243000@newtonculture.org
SUMMARY:Newton Free Library presents: Create Your Own Comics
DESCRIPTION:Do you like Dogman\, Narwhal & Jelly or the Babysitters Club? Come learn about how to make your own comics! We will meet on the first two Wednesdays evenings: February through June. Learn about the ways you can make your comics go KA-POW! as we write\, draw\, and share. Join us for this beginner’s creative writing workshop for children in third and fourth grade. A reminder email and zoom link will be sent out prior to the first session. \nOnline registration is required and begins Wednesday\, January 20 at 6:30pm. \nWhen you register\, you register for ALL 10 sessions: 2/3\, 2/10\, 3/3\, 3/10\, 4/7\, 4/14\, 5/5\, 5/12\, 6/2\, and 6/9.
URL:https://newtonculture.org/event/newton-free-library-presents-create-your-own-comics/2021-05-05/
LOCATION:ONLINE\, United Kingdom\, E16 2DQ
CATEGORIES:Culture and Education,Literary Arts,Visual Arts
ATTACH;FMTTYPE=image/jpeg:https://newtonculture.org/wp-content/uploads/2021/01/write_stuff.jpg
ORGANIZER;CN="Newton Free Library":MAILTO:admin@newtonfreelibrary.net
END:VEVENT
END:VCALENDAR