BEGIN:VCALENDAR
VERSION:2.0
PRODID:-//Newton Cultural Alliance - ECPv6.13.2.1//NONSGML v1.0//EN
CALSCALE:GREGORIAN
METHOD:PUBLISH
X-ORIGINAL-URL:https://newtonculture.org
X-WR-CALDESC:Events for Newton Cultural Alliance
REFRESH-INTERVAL;VALUE=DURATION:PT1H
X-Robots-Tag:noindex
X-PUBLISHED-TTL:PT1H
BEGIN:VTIMEZONE
TZID:America/New_York
BEGIN:DAYLIGHT
TZOFFSETFROM:-0500
TZOFFSETTO:-0400
TZNAME:EDT
DTSTART:20210314T070000
END:DAYLIGHT
BEGIN:STANDARD
TZOFFSETFROM:-0400
TZOFFSETTO:-0500
TZNAME:EST
DTSTART:20211107T060000
END:STANDARD
END:VTIMEZONE
BEGIN:VEVENT
DTSTART;TZID=America/New_York:20210507T193000
DTEND;TZID=America/New_York:20210507T193000
DTSTAMP:20260421T080543
CREATED:20210430T155813Z
LAST-MODIFIED:20210430T155813Z
UID:10019548-1620415800-1620415800@newtonculture.org
SUMMARY:Theatre Ink presents: The Wolves
DESCRIPTION:Left quad. Right quad. Lunge. A girls indoor soccer team warms up. From the safety of their suburban stretch circle\, the team navigates big questions and wages tiny battles with all the vim and vigor of a pack of adolescent warriors. A portrait of life\, liberty\, and the pursuit of happiness for nine American girls who just want to score some goals. \nSeating will be extremely limited to no more than 75-100 patrons who will be assigned seats\, spread out\, in our 600 seat theatre. We will also live stream for people who are unable to attend. Seating: Only families or people living in the same household will be allowed to sit together. All other patrons will be seated individually. \nClick here to purchase live or livestream tickets.
URL:https://newtonculture.org/event/theatre-ink-presents-the-wolves/2021-05-07/
LOCATION:MA
CATEGORIES:Community Event,Performing Arts
ATTACH;FMTTYPE=image/png:https://newtonculture.org/wp-content/uploads/2021/04/Screen-Shot-2021-04-30-at-11.20.54-AM.png
END:VEVENT
END:VCALENDAR