BEGIN:VCALENDAR
VERSION:2.0
PRODID:-//Newton Cultural Alliance - ECPv6.13.2.1//NONSGML v1.0//EN
CALSCALE:GREGORIAN
METHOD:PUBLISH
X-WR-CALNAME:Newton Cultural Alliance
X-ORIGINAL-URL:https://newtonculture.org
X-WR-CALDESC:Events for Newton Cultural Alliance
REFRESH-INTERVAL;VALUE=DURATION:PT1H
X-Robots-Tag:noindex
X-PUBLISHED-TTL:PT1H
BEGIN:VTIMEZONE
TZID:America/New_York
BEGIN:DAYLIGHT
TZOFFSETFROM:-0500
TZOFFSETTO:-0400
TZNAME:EDT
DTSTART:20210314T070000
END:DAYLIGHT
BEGIN:STANDARD
TZOFFSETFROM:-0400
TZOFFSETTO:-0500
TZNAME:EST
DTSTART:20211107T060000
END:STANDARD
END:VTIMEZONE
BEGIN:VEVENT
DTSTART;TZID=America/New_York:20210508T140000
DTEND;TZID=America/New_York:20210508T170000
DTSTAMP:20260421T064521
CREATED:20210423T160005Z
LAST-MODIFIED:20210423T160005Z
UID:10019531-1620482400-1620493200@newtonculture.org
SUMMARY:New Art Center presents: Cubism Workshop
DESCRIPTION:At about the same time as the invention of Cubism\, Einstein was publishing his early papers on relativity; masks\, artifacts and ritual objects from Africa were first exhibited in Paris\, and the Eiffel Tower was new. Cubism was invented\, in part\, as a way of examining and painting stationary objects to incorporate what the object looks like as you move around it\, i.e. from different perspectives. Cubism sought to incorporate time as the fourth dimension in the arts. \nWe’ll start with drawing still-lifes with charcoal\, pencil\, pen and ink\, working from life rather than from Cubist drawings and paintings. Then we’ll begin the painting process using the earth tones of those early cubist paintings for the same reasons. First working out the structure with shapes and values\, then bringing colors to it as we progress\, much as the Cubists developed their plans. In the last session\, we’ll work from a model\, and we highlight painting in planes\, breaking down curves into prism-like flat sides. \nClick here to learn more and register.
URL:https://newtonculture.org/event/new-art-center-presents-cubism-workshop/2021-05-08/
LOCATION:New Art Center\, 61 Washington Park\, Newton\, MA\, 02460\, United States
CATEGORIES:Art,Culture and Education,Visual Arts
ATTACH;FMTTYPE=image/jpeg:https://newtonculture.org/wp-content/uploads/2021/04/Cubism-Workshop-Michael-Wilson.jpeg
ORGANIZER;CN="New Art Center":MAILTO:info@newartcenter.org
END:VEVENT
BEGIN:VEVENT
DTSTART;TZID=America/New_York:20210508T193000
DTEND;TZID=America/New_York:20210508T193000
DTSTAMP:20260421T064521
CREATED:20210430T155813Z
LAST-MODIFIED:20210430T155813Z
UID:10019549-1620502200-1620502200@newtonculture.org
SUMMARY:Theatre Ink presents: The Wolves
DESCRIPTION:Left quad. Right quad. Lunge. A girls indoor soccer team warms up. From the safety of their suburban stretch circle\, the team navigates big questions and wages tiny battles with all the vim and vigor of a pack of adolescent warriors. A portrait of life\, liberty\, and the pursuit of happiness for nine American girls who just want to score some goals. \nSeating will be extremely limited to no more than 75-100 patrons who will be assigned seats\, spread out\, in our 600 seat theatre. We will also live stream for people who are unable to attend. Seating: Only families or people living in the same household will be allowed to sit together. All other patrons will be seated individually. \nClick here to purchase live or livestream tickets.
URL:https://newtonculture.org/event/theatre-ink-presents-the-wolves/2021-05-08/
LOCATION:MA
CATEGORIES:Community Event,Performing Arts
ATTACH;FMTTYPE=image/png:https://newtonculture.org/wp-content/uploads/2021/04/Screen-Shot-2021-04-30-at-11.20.54-AM.png
END:VEVENT
END:VCALENDAR