BEGIN:VCALENDAR
VERSION:2.0
PRODID:-//Newton Cultural Alliance - ECPv6.13.2.1//NONSGML v1.0//EN
CALSCALE:GREGORIAN
METHOD:PUBLISH
X-WR-CALNAME:Newton Cultural Alliance
X-ORIGINAL-URL:https://newtonculture.org
X-WR-CALDESC:Events for Newton Cultural Alliance
REFRESH-INTERVAL;VALUE=DURATION:PT1H
X-Robots-Tag:noindex
X-PUBLISHED-TTL:PT1H
BEGIN:VTIMEZONE
TZID:America/New_York
BEGIN:DAYLIGHT
TZOFFSETFROM:-0500
TZOFFSETTO:-0400
TZNAME:EDT
DTSTART:20210314T070000
END:DAYLIGHT
BEGIN:STANDARD
TZOFFSETFROM:-0400
TZOFFSETTO:-0500
TZNAME:EST
DTSTART:20211107T060000
END:STANDARD
END:VTIMEZONE
BEGIN:VEVENT
DTSTART;VALUE=DATE:20210509
DTEND;VALUE=DATE:20210510
DTSTAMP:20260421T051927
CREATED:20210419T162210Z
LAST-MODIFIED:20210419T162210Z
UID:10019525-1620518400-1620604799@newtonculture.org
SUMMARY:New Art Center presents: Mother's Day Bouquet
DESCRIPTION:Show the special maternal figure in your life how much you care with a gift of blossoms and art appreciation! \nA beautiful spring bouquet from Centre Pieces Design Flower Shop in Newtonville will be delivered to the recipient’s door on Mother’s Day (May 9th)\, and a pre-recorded talk from art historian and educator Brendan Sullivan will be sent via e-mail. Brendan will explore depictions of motherhood and the maternal experience through a selection of artwork. \nRegister by May 3 and celebrate the ones you love! \nA portion of the cost will help to support the New Art Center and you will receive a tax receipt for your donation.
URL:https://newtonculture.org/event/new-art-center-presents-mothers-day-bouquet/
LOCATION:ONLINE\, United Kingdom\, E16 2DQ
CATEGORIES:Art,Community Event,Culture and Education
ATTACH;FMTTYPE=image/jpeg:https://newtonculture.org/wp-content/uploads/2021/04/TWW21333.jpeg
ORGANIZER;CN="New Art Center":MAILTO:info@newartcenter.org
END:VEVENT
END:VCALENDAR