BEGIN:VCALENDAR
VERSION:2.0
PRODID:-//Newton Cultural Alliance - ECPv6.13.2.1//NONSGML v1.0//EN
CALSCALE:GREGORIAN
METHOD:PUBLISH
X-ORIGINAL-URL:https://newtonculture.org
X-WR-CALDESC:Events for Newton Cultural Alliance
REFRESH-INTERVAL;VALUE=DURATION:PT1H
X-Robots-Tag:noindex
X-PUBLISHED-TTL:PT1H
BEGIN:VTIMEZONE
TZID:America/New_York
BEGIN:DAYLIGHT
TZOFFSETFROM:-0500
TZOFFSETTO:-0400
TZNAME:EDT
DTSTART:20210314T070000
END:DAYLIGHT
BEGIN:STANDARD
TZOFFSETFROM:-0400
TZOFFSETTO:-0500
TZNAME:EST
DTSTART:20211107T060000
END:STANDARD
END:VTIMEZONE
BEGIN:VEVENT
DTSTART;TZID=America/New_York:20210510T190000
DTEND;TZID=America/New_York:20210510T200000
DTSTAMP:20260421T035251
CREATED:20210423T161459Z
LAST-MODIFIED:20210423T161459Z
UID:10019539-1620673200-1620676800@newtonculture.org
SUMMARY:Newton Free Library presents: Newton by Map
DESCRIPTION:Join the Leventhal Map and Education Center and the Newton Free Library for a deep dive into Newton historical geography! \nWhat was Newton like in the late 19th and early 20th centuries? What used to be on the sites of your favorite Newton landmarks? How has the city changed\, and how has it stayed the same? Using Atlascope\, the Leventhal Map & Education Center’s user-friendly portal for exploring urban atlases\, we’ll dive into the historical geography of Newton. Come learn about how the community has changed over time\, and discover how to research the history of your own house and neighborhood. \nThis program is cosponsored by Historic Newton. \nRegistration for this program will end two hours before the start time. The login information will be sent just after registration closes.
URL:https://newtonculture.org/event/newton-free-library-presents-newton-by-map/
LOCATION:ONLINE\, United Kingdom\, E16 2DQ
CATEGORIES:Community Event,Culture and Education,Free Event
ATTACH;FMTTYPE=image/png:https://newtonculture.org/wp-content/uploads/2021/04/newtonpl.png
ORGANIZER;CN="Newton Free Library":MAILTO:admin@newtonfreelibrary.net
END:VEVENT
END:VCALENDAR