BEGIN:VCALENDAR
VERSION:2.0
PRODID:-//Newton Cultural Alliance - ECPv6.13.2.1//NONSGML v1.0//EN
CALSCALE:GREGORIAN
METHOD:PUBLISH
X-WR-CALNAME:Newton Cultural Alliance
X-ORIGINAL-URL:https://newtonculture.org
X-WR-CALDESC:Events for Newton Cultural Alliance
REFRESH-INTERVAL;VALUE=DURATION:PT1H
X-Robots-Tag:noindex
X-PUBLISHED-TTL:PT1H
BEGIN:VTIMEZONE
TZID:America/New_York
BEGIN:DAYLIGHT
TZOFFSETFROM:-0500
TZOFFSETTO:-0400
TZNAME:EDT
DTSTART:20210314T070000
END:DAYLIGHT
BEGIN:STANDARD
TZOFFSETFROM:-0400
TZOFFSETTO:-0500
TZNAME:EST
DTSTART:20211107T060000
END:STANDARD
END:VTIMEZONE
BEGIN:VEVENT
DTSTART;TZID=America/New_York:20210511T100000
DTEND;TZID=America/New_York:20210511T140000
DTSTAMP:20260421T051930
CREATED:20210305T172727Z
LAST-MODIFIED:20210305T172727Z
UID:10018722-1620727200-1620741600@newtonculture.org
SUMMARY:New Art Center presents: Classical and Contemporary Mexican Smalti Mosaics Workshop
DESCRIPTION:Learn the materials and methods to create your own original beautiful Mexican smalti mosaic. Mexican smalti is a high-quality handmade glass mosaic in a square to rectangular module that offers a broad range of colors from subtle skin tones to vibrant primaries. Students will bring a design for your choice for a 9” square. In the studio\, teacher and artist Joshua Winer will teach you to transfer the design onto a panel\, cover the panel with webbing\, cut and build the mosaic onto the webbing using Adamento flowing rhythms and Opus styles (including Vermiculatum\, Musivum\, and Regulatum)\, lift the mosaic with clear adhesive film\, and cement the work into colored thin-set. Register here.
URL:https://newtonculture.org/event/new-art-center-presents-classical-and-contemporary-mexican-smalti-mosaics-workshop/2021-05-11/
LOCATION:New Art Center\, 61 Washington Park\, Newton\, MA\, 02460\, United States
CATEGORIES:Art,Culture and Education,Visual Arts
ATTACH;FMTTYPE=image/jpeg:https://newtonculture.org/wp-content/uploads/2021/03/AWP21815.jpg
ORGANIZER;CN="New Art Center":MAILTO:info@newartcenter.org
END:VEVENT
END:VCALENDAR