BEGIN:VCALENDAR
VERSION:2.0
PRODID:-//Newton Cultural Alliance - ECPv6.13.2.1//NONSGML v1.0//EN
CALSCALE:GREGORIAN
METHOD:PUBLISH
X-WR-CALNAME:Newton Cultural Alliance
X-ORIGINAL-URL:https://newtonculture.org
X-WR-CALDESC:Events for Newton Cultural Alliance
REFRESH-INTERVAL;VALUE=DURATION:PT1H
X-Robots-Tag:noindex
X-PUBLISHED-TTL:PT1H
BEGIN:VTIMEZONE
TZID:America/New_York
BEGIN:DAYLIGHT
TZOFFSETFROM:-0500
TZOFFSETTO:-0400
TZNAME:EDT
DTSTART:20210314T070000
END:DAYLIGHT
BEGIN:STANDARD
TZOFFSETFROM:-0400
TZOFFSETTO:-0500
TZNAME:EST
DTSTART:20211107T060000
END:STANDARD
END:VTIMEZONE
BEGIN:VEVENT
DTSTART;TZID=America/New_York:20210513T190000
DTEND;TZID=America/New_York:20210513T200000
DTSTAMP:20260421T035231
CREATED:20210409T143354Z
LAST-MODIFIED:20210409T143354Z
UID:10019520-1620932400-1620936000@newtonculture.org
SUMMARY:Historic Newton presents: Voting Rights - Where Do We Go From Here?
DESCRIPTION:Join Gloria J. Browne-Marshall\, author of “The Voting Rights War” for a session presented by Overdue in partnership with Historic Newton. Professor Browne-Marshall will examine laws posing challenges to American voters — especially African-Americans — from enslavement and woman’s suffrage through current controversies of voter suppression. She will also look ahead to challenges that future voters are likely to face\, especially after the tumultuous 2020 election. A Q&A will follow. This program is funded in part by Mass Humanities\, an affiliate of the National Endowment for the Humanities. Any views\, findings\, conclusions\, or recommendations expressed in this program do not necessarily represent those of the National Endowment for the Humanities. To attend this program\, please register here.
URL:https://newtonculture.org/event/historic-newton-presents-voting-rights-where-do-we-go-from-here/
LOCATION:ONLINE\, United Kingdom\, E16 2DQ
CATEGORIES:Community Event,Culture and Education
ATTACH;FMTTYPE=image/png:https://newtonculture.org/wp-content/uploads/2021/04/637532341714770000.png
END:VEVENT
END:VCALENDAR