BEGIN:VCALENDAR
VERSION:2.0
PRODID:-//Newton Cultural Alliance - ECPv6.13.2.1//NONSGML v1.0//EN
CALSCALE:GREGORIAN
METHOD:PUBLISH
X-WR-CALNAME:Newton Cultural Alliance
X-ORIGINAL-URL:https://newtonculture.org
X-WR-CALDESC:Events for Newton Cultural Alliance
REFRESH-INTERVAL;VALUE=DURATION:PT1H
X-Robots-Tag:noindex
X-PUBLISHED-TTL:PT1H
BEGIN:VTIMEZONE
TZID:America/New_York
BEGIN:DAYLIGHT
TZOFFSETFROM:-0500
TZOFFSETTO:-0400
TZNAME:EDT
DTSTART:20210314T070000
END:DAYLIGHT
BEGIN:STANDARD
TZOFFSETFROM:-0400
TZOFFSETTO:-0500
TZNAME:EST
DTSTART:20211107T060000
END:STANDARD
END:VTIMEZONE
BEGIN:VEVENT
DTSTART;TZID=America/New_York:20210518T100000
DTEND;TZID=America/New_York:20210518T140000
DTSTAMP:20260421T035231
CREATED:20210305T172727Z
LAST-MODIFIED:20210305T172727Z
UID:10018723-1621332000-1621346400@newtonculture.org
SUMMARY:New Art Center presents: Classical and Contemporary Mexican Smalti Mosaics Workshop
DESCRIPTION:Learn the materials and methods to create your own original beautiful Mexican smalti mosaic. Mexican smalti is a high-quality handmade glass mosaic in a square to rectangular module that offers a broad range of colors from subtle skin tones to vibrant primaries. Students will bring a design for your choice for a 9” square. In the studio\, teacher and artist Joshua Winer will teach you to transfer the design onto a panel\, cover the panel with webbing\, cut and build the mosaic onto the webbing using Adamento flowing rhythms and Opus styles (including Vermiculatum\, Musivum\, and Regulatum)\, lift the mosaic with clear adhesive film\, and cement the work into colored thin-set. Register here.
URL:https://newtonculture.org/event/new-art-center-presents-classical-and-contemporary-mexican-smalti-mosaics-workshop/2021-05-18/
LOCATION:New Art Center\, 61 Washington Park\, Newton\, MA\, 02460\, United States
CATEGORIES:Art,Culture and Education,Visual Arts
ATTACH;FMTTYPE=image/jpeg:https://newtonculture.org/wp-content/uploads/2021/03/AWP21815.jpg
ORGANIZER;CN="New Art Center":MAILTO:info@newartcenter.org
END:VEVENT
BEGIN:VEVENT
DTSTART;TZID=America/New_York:20210518T190000
DTEND;TZID=America/New_York:20210518T200000
DTSTAMP:20260421T035231
CREATED:20210430T151446Z
LAST-MODIFIED:20210430T151446Z
UID:10019545-1621364400-1621368000@newtonculture.org
SUMMARY:Newton Free Library: The Asian American Experience - Reflections of an Historian and an Artist
DESCRIPTION:The session will deepen our understanding of the Asian American experience through an interactive dialogue Lisong Liu and Wen-ti Tsen. They will cover: \n\nThe historical perspective of Asian immigrants\nThe complexities of the Asian-American experience\nAsian cultural heritage\, community activism against racism and the cross-racial solidarity through art\n\nLisong Liu is professor of history at Massachusetts College of Art and Design and an associate in research at the Harvard Fairbank Center for Chinese Studies. He teaches Asian American history\, East Asian history\, world history and U.S.-China relations. His current research is about Chinese American history in the Greater Boston Area. He has been active in the local community\, and he is also passionate about developing exchange programs for American students to travel and study in China. \nWen-ti Tsen is a painter and public artist. Born in China\, he lived in Paris and London before coming to the U.S. to study at Boston Museum School. Since the mid-1970s\, he has been engaged in making art that explores cultural connections in the forms of personal paintings\, public site sculptures and community art projects. \nThis program is cosponsored by the Newton Human Rights Commission\, CAAN (Chinese American Association of Newton) and NESN (Newton Education Support Network). \nRegistration for this program will end two hours before the start time. The login information will be sent just after registration closes. Please be sure to check your spam folder in case it lands there.
URL:https://newtonculture.org/event/newton-free-library-the-asian-american-experience-reflections-of-an-historian-and-an-artist/
LOCATION:ONLINE\, United Kingdom\, E16 2DQ
CATEGORIES:Art,Community Event,Culture and Education
ATTACH;FMTTYPE=image/png:https://newtonculture.org/wp-content/uploads/2021/04/05-18_Program_proud_AA_jason-leung-bR5HesPecoE-unsplash_crop.png
ORGANIZER;CN="Newton Free Library":MAILTO:admin@newtonfreelibrary.net
END:VEVENT
END:VCALENDAR