BEGIN:VCALENDAR
VERSION:2.0
PRODID:-//Newton Cultural Alliance - ECPv6.13.2.1//NONSGML v1.0//EN
CALSCALE:GREGORIAN
METHOD:PUBLISH
X-WR-CALNAME:Newton Cultural Alliance
X-ORIGINAL-URL:https://newtonculture.org
X-WR-CALDESC:Events for Newton Cultural Alliance
REFRESH-INTERVAL;VALUE=DURATION:PT1H
X-Robots-Tag:noindex
X-PUBLISHED-TTL:PT1H
BEGIN:VTIMEZONE
TZID:America/New_York
BEGIN:DAYLIGHT
TZOFFSETFROM:-0500
TZOFFSETTO:-0400
TZNAME:EDT
DTSTART:20210314T070000
END:DAYLIGHT
BEGIN:STANDARD
TZOFFSETFROM:-0400
TZOFFSETTO:-0500
TZNAME:EST
DTSTART:20211107T060000
END:STANDARD
END:VTIMEZONE
BEGIN:VEVENT
DTSTART;TZID=America/New_York:20210519T110000
DTEND;TZID=America/New_York:20210519T140000
DTSTAMP:20260421T035231
CREATED:20210423T160358Z
LAST-MODIFIED:20210423T160447Z
UID:10019535-1621422000-1621432800@newtonculture.org
SUMMARY:New Art Center presents: Fabric Dyeing and Printing - A Mask Workshop
DESCRIPTION:We have all been wearing masks for a year now\, but is your mask a beautiful handmade work of art? Design and create a fabric mask in this three-day workshop. In session one\, students will explore dyeing techniques such as tie-dye and Japanese Shibori. Once students have chosen the colors for their fabrics\, they will add patterns designs using carved linoleum stamps in session two. In session three\, students will construct and sew their fabric into wearable works of art. \nClick here to learn more and register.
URL:https://newtonculture.org/event/new-art-center-presents-fabric-dyeing-and-printing-a-mask-workshop/2021-05-19/
LOCATION:New Art Center\, 61 Washington Park\, Newton\, MA\, 02460\, United States
CATEGORIES:Art,Culture and Education
ATTACH;FMTTYPE=image/jpeg:https://newtonculture.org/wp-content/uploads/2021/04/Fabric-Dyeing-and-Printing-A-Mask-Workshop-Anna-Fubini.jpeg
ORGANIZER;CN="New Art Center":MAILTO:info@newartcenter.org
END:VEVENT
END:VCALENDAR