BEGIN:VCALENDAR
VERSION:2.0
PRODID:-//Newton Cultural Alliance - ECPv6.13.2.1//NONSGML v1.0//EN
CALSCALE:GREGORIAN
METHOD:PUBLISH
X-WR-CALNAME:Newton Cultural Alliance
X-ORIGINAL-URL:https://newtonculture.org
X-WR-CALDESC:Events for Newton Cultural Alliance
REFRESH-INTERVAL;VALUE=DURATION:PT1H
X-Robots-Tag:noindex
X-PUBLISHED-TTL:PT1H
BEGIN:VTIMEZONE
TZID:America/New_York
BEGIN:DAYLIGHT
TZOFFSETFROM:-0500
TZOFFSETTO:-0400
TZNAME:EDT
DTSTART:20210314T070000
END:DAYLIGHT
BEGIN:STANDARD
TZOFFSETFROM:-0400
TZOFFSETTO:-0500
TZNAME:EST
DTSTART:20211107T060000
END:STANDARD
END:VTIMEZONE
BEGIN:VEVENT
DTSTART;TZID=America/New_York:20210520T110000
DTEND;TZID=America/New_York:20210520T140000
DTSTAMP:20260421T051932
CREATED:20210423T160358Z
LAST-MODIFIED:20210423T160447Z
UID:10019536-1621508400-1621519200@newtonculture.org
SUMMARY:New Art Center presents: Fabric Dyeing and Printing - A Mask Workshop
DESCRIPTION:We have all been wearing masks for a year now\, but is your mask a beautiful handmade work of art? Design and create a fabric mask in this three-day workshop. In session one\, students will explore dyeing techniques such as tie-dye and Japanese Shibori. Once students have chosen the colors for their fabrics\, they will add patterns designs using carved linoleum stamps in session two. In session three\, students will construct and sew their fabric into wearable works of art. \nClick here to learn more and register.
URL:https://newtonculture.org/event/new-art-center-presents-fabric-dyeing-and-printing-a-mask-workshop/2021-05-20/
LOCATION:New Art Center\, 61 Washington Park\, Newton\, MA\, 02460\, United States
CATEGORIES:Art,Culture and Education
ATTACH;FMTTYPE=image/jpeg:https://newtonculture.org/wp-content/uploads/2021/04/Fabric-Dyeing-and-Printing-A-Mask-Workshop-Anna-Fubini.jpeg
ORGANIZER;CN="New Art Center":MAILTO:info@newartcenter.org
END:VEVENT
BEGIN:VEVENT
DTSTART;TZID=America/New_York:20210520T200000
DTEND;TZID=America/New_York:20210520T200000
DTSTAMP:20260421T051932
CREATED:20210405T170158Z
LAST-MODIFIED:20210405T170159Z
UID:10019519-1621540800-1621540800@newtonculture.org
SUMMARY:Pro Arte's Spring Series: Salon 2
DESCRIPTION:The Spring Salon Series takes place entirely online. Concerts premiere at 8pm on Thursday night and are available to watch through the following Sunday. On the night of the premiere\, the performance will also be followed by a live Q&A session with that night’s musicians. Tickets for each performance are $20 for an individual or $35 for families. Click here to purchase tickets. \nProgram: \nBEETHOVEN Piano Trio in B-flat Major\, op. 11\nBRAHMS Clarinet Trio in A minor\, op. 114
URL:https://newtonculture.org/event/pro-artes-spring-series-salon-2/
LOCATION:ONLINE\, United Kingdom\, E16 2DQ
CATEGORIES:Culture and Education,Music
END:VEVENT
END:VCALENDAR