BEGIN:VCALENDAR
VERSION:2.0
PRODID:-//Newton Cultural Alliance - ECPv6.13.2.1//NONSGML v1.0//EN
CALSCALE:GREGORIAN
METHOD:PUBLISH
X-WR-CALNAME:Newton Cultural Alliance
X-ORIGINAL-URL:https://newtonculture.org
X-WR-CALDESC:Events for Newton Cultural Alliance
REFRESH-INTERVAL;VALUE=DURATION:PT1H
X-Robots-Tag:noindex
X-PUBLISHED-TTL:PT1H
BEGIN:VTIMEZONE
TZID:America/New_York
BEGIN:DAYLIGHT
TZOFFSETFROM:-0500
TZOFFSETTO:-0400
TZNAME:EDT
DTSTART:20210314T070000
END:DAYLIGHT
BEGIN:STANDARD
TZOFFSETFROM:-0400
TZOFFSETTO:-0500
TZNAME:EST
DTSTART:20211107T060000
END:STANDARD
END:VTIMEZONE
BEGIN:VEVENT
DTSTART;TZID=America/New_York:20210526T170000
DTEND;TZID=America/New_York:20210526T180000
DTSTAMP:20260421T093134
CREATED:20210518T144220Z
LAST-MODIFIED:20210518T144220Z
UID:10018823-1622048400-1622052000@newtonculture.org
SUMMARY:Newton Free Library presents: Cook Along with Chef Bill
DESCRIPTION:Cook along or watch as Chef Bill prepares a different dish live on Zoom each month! Formerly a chef at the original Ritz-Carlton/Boston\, Chef Bill worked at Harbor Sweets\, makers of handmade chocolates in Salem\, MA. Now a personal chef\, he has provided cooking demonstrations and lessons for Whole Foods\, Stonewall Kitchen\, Reader to Reader\, Monitor Group\, and numerous businesses\, schools and non-profit organizations. \nThis month Chef Bill will show us how to prepare Shakshuka\, the popular Middle Eastern breakfast/brunch/dinner tomato and egg dish. The list of ingredients and instructions can be found here. \nRegistration for this program will end two hours before the start time. The Zoom login information will be sent just after registration closes. Please be sure to check your spam folder in case it lands there.
URL:https://newtonculture.org/event/newton-free-library-presents-cook-along-with-chef-bill/
LOCATION:ONLINE\, United Kingdom\, E16 2DQ
CATEGORIES:Community Event,Culture and Education
ATTACH;FMTTYPE=image/png:https://newtonculture.org/wp-content/uploads/2021/05/05-26_Wed_5pm_Chef_Bill_final-e1622055613893.png
ORGANIZER;CN="Newton Free Library":MAILTO:admin@newtonfreelibrary.net
END:VEVENT
END:VCALENDAR