BEGIN:VCALENDAR
VERSION:2.0
PRODID:-//Newton Cultural Alliance - ECPv6.13.2.1//NONSGML v1.0//EN
CALSCALE:GREGORIAN
METHOD:PUBLISH
X-WR-CALNAME:Newton Cultural Alliance
X-ORIGINAL-URL:https://newtonculture.org
X-WR-CALDESC:Events for Newton Cultural Alliance
REFRESH-INTERVAL;VALUE=DURATION:PT1H
X-Robots-Tag:noindex
X-PUBLISHED-TTL:PT1H
BEGIN:VTIMEZONE
TZID:America/New_York
BEGIN:DAYLIGHT
TZOFFSETFROM:-0500
TZOFFSETTO:-0400
TZNAME:EDT
DTSTART:20210314T070000
END:DAYLIGHT
BEGIN:STANDARD
TZOFFSETFROM:-0400
TZOFFSETTO:-0500
TZNAME:EST
DTSTART:20211107T060000
END:STANDARD
END:VTIMEZONE
BEGIN:VEVENT
DTSTART;TZID=America/New_York:20210528T180000
DTEND;TZID=America/New_York:20210528T210000
DTSTAMP:20260421T035232
CREATED:20210518T150727Z
LAST-MODIFIED:20210518T150826Z
UID:10018825-1622224800-1622235600@newtonculture.org
SUMMARY:West Suburban YMCA presents: Kids Night Out
DESCRIPTION:Kids Night Out is back!  Drop your kids off (grades K-8) at the Y from 6:00-9:00 PM for pizza\, a movie\, games\, arts and crafts\, and more.  The cost is $30 per child and is open to both members and nonmembers.  Call the Welcome Center (617-244-6050) to register.
URL:https://newtonculture.org/event/west-suburban-ymca-presents-kids-night-out/
LOCATION:WSYMCA\, 276 Church St\, Newton\, MA\, 02458\, United States
CATEGORIES:Community Event,Family Friendly
ATTACH;FMTTYPE=image/png:https://newtonculture.org/wp-content/uploads/2021/05/kids-night-out.png
END:VEVENT
END:VCALENDAR