BEGIN:VCALENDAR
VERSION:2.0
PRODID:-//Newton Cultural Alliance - ECPv6.13.2.1//NONSGML v1.0//EN
CALSCALE:GREGORIAN
METHOD:PUBLISH
X-ORIGINAL-URL:https://newtonculture.org
X-WR-CALDESC:Events for Newton Cultural Alliance
REFRESH-INTERVAL;VALUE=DURATION:PT1H
X-Robots-Tag:noindex
X-PUBLISHED-TTL:PT1H
BEGIN:VTIMEZONE
TZID:America/New_York
BEGIN:DAYLIGHT
TZOFFSETFROM:-0500
TZOFFSETTO:-0400
TZNAME:EDT
DTSTART:20210314T070000
END:DAYLIGHT
BEGIN:STANDARD
TZOFFSETFROM:-0400
TZOFFSETTO:-0500
TZNAME:EST
DTSTART:20211107T060000
END:STANDARD
END:VTIMEZONE
BEGIN:VEVENT
DTSTART;VALUE=DATE:20210529
DTEND;VALUE=DATE:20210530
DTSTAMP:20260421T035253
CREATED:20210518T143840Z
LAST-MODIFIED:20210518T143919Z
UID:10018820-1622246400-1622332799@newtonculture.org
SUMMARY:Amherst Early Music presents: Memorial Day Weekend Workshop
DESCRIPTION:Amherst Early Music will hold their online Memorial Day Weekend Workshop on May 29 & 30\, directed by Valerie Horst. There are 10 classes to choose from and a free talk with Eric Haas. REGISTER NOW!
URL:https://newtonculture.org/event/amherst-early-music-presents-memorial-day-weekend-workshop/2021-05-29/
LOCATION:ONLINE\, United Kingdom\, E16 2DQ
CATEGORIES:Culture and Education,Music
ATTACH;FMTTYPE=image/jpeg:https://newtonculture.org/wp-content/uploads/2021/05/spanish_bird.jpeg
ORGANIZER;CN="Amherst Early Music":MAILTO:info@amherstearlymusic.org
END:VEVENT
END:VCALENDAR