BEGIN:VCALENDAR
VERSION:2.0
PRODID:-//Newton Cultural Alliance - ECPv6.13.2.1//NONSGML v1.0//EN
CALSCALE:GREGORIAN
METHOD:PUBLISH
X-WR-CALNAME:Newton Cultural Alliance
X-ORIGINAL-URL:https://newtonculture.org
X-WR-CALDESC:Events for Newton Cultural Alliance
REFRESH-INTERVAL;VALUE=DURATION:PT1H
X-Robots-Tag:noindex
X-PUBLISHED-TTL:PT1H
BEGIN:VTIMEZONE
TZID:America/New_York
BEGIN:DAYLIGHT
TZOFFSETFROM:-0500
TZOFFSETTO:-0400
TZNAME:EDT
DTSTART:20210314T070000
END:DAYLIGHT
BEGIN:STANDARD
TZOFFSETFROM:-0400
TZOFFSETTO:-0500
TZNAME:EST
DTSTART:20211107T060000
END:STANDARD
END:VTIMEZONE
BEGIN:VEVENT
DTSTART;TZID=America/New_York:20210602T183000
DTEND;TZID=America/New_York:20210602T193000
DTSTAMP:20260421T051902
CREATED:20210122T172015Z
LAST-MODIFIED:20210122T172015Z
UID:10018683-1622658600-1622662200@newtonculture.org
SUMMARY:Newton Free Library presents: Create Your Own Comics
DESCRIPTION:Do you like Dogman\, Narwhal & Jelly or the Babysitters Club? Come learn about how to make your own comics! We will meet on the first two Wednesdays evenings: February through June. Learn about the ways you can make your comics go KA-POW! as we write\, draw\, and share. Join us for this beginner’s creative writing workshop for children in third and fourth grade. A reminder email and zoom link will be sent out prior to the first session. \nOnline registration is required and begins Wednesday\, January 20 at 6:30pm. \nWhen you register\, you register for ALL 10 sessions: 2/3\, 2/10\, 3/3\, 3/10\, 4/7\, 4/14\, 5/5\, 5/12\, 6/2\, and 6/9.
URL:https://newtonculture.org/event/newton-free-library-presents-create-your-own-comics/2021-06-02/
LOCATION:ONLINE\, United Kingdom\, E16 2DQ
CATEGORIES:Culture and Education,Literary Arts,Visual Arts
ATTACH;FMTTYPE=image/jpeg:https://newtonculture.org/wp-content/uploads/2021/01/write_stuff.jpg
ORGANIZER;CN="Newton Free Library":MAILTO:admin@newtonfreelibrary.net
END:VEVENT
BEGIN:VEVENT
DTSTART;TZID=America/New_York:20210602T190000
DTEND;TZID=America/New_York:20210602T200000
DTSTAMP:20260421T051902
CREATED:20210517T152056Z
LAST-MODIFIED:20210517T152056Z
UID:10018808-1622660400-1622664000@newtonculture.org
SUMMARY:Newton Free Library presents: Shipwrecks of Cape Cod - Stories of Tragedy & Triumph
DESCRIPTION:Cape Cod’s outer beach has always been known for its shipwrecks. Between 1626 and the mid-20th century\, this solitary 40-mile stretch of beach and sandbars saw the demise of over 3\,000 vessels. It’s been said that if all the wrecks were raised\, one could walk from Provincetown to Chatham without getting his or her feet wet. Join Cape Cod historian Don Wilding\, author of the upcoming book\, Shipwrecks of Cape Cod: Stories of Tragedy & Triumph\, for a look back at some of these disasters\, ranging from the 1626 stranding of the Sparrow Hawk to the Eldia in 1984 and more. \nSince the start of the millennium\, Don Wilding has been telling stories of Cape Cod Outer Beach history. An award-winning writer and editor for Massachusetts newspapers since 1985\, Don has contributed the Shore Lore history column for The Cape Codder newspaper of Orleans\, and is the author of two other books\, Henry Beston’s Cape Cod: How The Outermost House Inspired a National Seashore\, and A Brief of History of Eastham: On the Outer Beach of Cape Cod. \nClick here to register.
URL:https://newtonculture.org/event/newton-free-library-presents-shipwrecks-of-cape-cod-stories-of-tragedy-triumph/
LOCATION:ONLINE\, United Kingdom\, E16 2DQ
CATEGORIES:Community Event,Culture and Education,Literary Arts
ATTACH;FMTTYPE=image/png:https://newtonculture.org/wp-content/uploads/2021/05/Copy_of_06-02_Shipwrecks_of_Cape_Cod-e1621264816731.png
ORGANIZER;CN="Newton Free Library":MAILTO:admin@newtonfreelibrary.net
END:VEVENT
END:VCALENDAR